BEGIN:VCALENDAR
VERSION:2.0
PRODID:-//Linda Creates - ECPv6.15.20//NONSGML v1.0//EN
CALSCALE:GREGORIAN
METHOD:PUBLISH
X-ORIGINAL-URL:https://lindacreates.com
X-WR-CALDESC:Events for Linda Creates
REFRESH-INTERVAL;VALUE=DURATION:PT1H
X-Robots-Tag:noindex
X-PUBLISHED-TTL:PT1H
BEGIN:VTIMEZONE
TZID:America/Halifax
BEGIN:DAYLIGHT
TZOFFSETFROM:-0400
TZOFFSETTO:-0300
TZNAME:ADT
DTSTART:20160313T060000
END:DAYLIGHT
BEGIN:STANDARD
TZOFFSETFROM:-0300
TZOFFSETTO:-0400
TZNAME:AST
DTSTART:20161106T050000
END:STANDARD
BEGIN:DAYLIGHT
TZOFFSETFROM:-0400
TZOFFSETTO:-0300
TZNAME:ADT
DTSTART:20170312T060000
END:DAYLIGHT
BEGIN:STANDARD
TZOFFSETFROM:-0300
TZOFFSETTO:-0400
TZNAME:AST
DTSTART:20171105T050000
END:STANDARD
BEGIN:DAYLIGHT
TZOFFSETFROM:-0400
TZOFFSETTO:-0300
TZNAME:ADT
DTSTART:20180311T060000
END:DAYLIGHT
BEGIN:STANDARD
TZOFFSETFROM:-0300
TZOFFSETTO:-0400
TZNAME:AST
DTSTART:20181104T050000
END:STANDARD
END:VTIMEZONE
BEGIN:VEVENT
DTSTART;TZID=America/Halifax:20171109T170000
DTEND;TZID=America/Halifax:20171112T120000
DTSTAMP:20260424T032647
CREATED:20171001T221114Z
LAST-MODIFIED:20171001T222406Z
UID:6930-1510246800-1510488000@lindacreates.com
SUMMARY:WISP Crop (I'll be here Thursday and Friday)
DESCRIPTION:Mardi Gras  SCRAPBOOK RETREAT\nWisp Resort\nNovember 9 – 12\, 2017 \nDiscover Deep Creek Lake during this weekend of scrapbooking with family and friends. \nVendors will be on hand with supplies and instruction. \nTwo easy steps to register: \n1. Fill out the registration form and return to:\nChrista Wildesen\n242 Wood Street\, Westernport MD 21562\n(814) 289-6904 or cwildone@gmail.com \n\nCall Wisp Resort 301.387.4000 Identify yourself with Group ID 3360 between the hours of 8 am- 7pm and make your room reservation.\n\nGuest Rooms: \nQueen Deluxe $94 per night (2 Queen beds) \nStandard Queen Efficiency: $94 per night (1 Queen\,1 Queen pull out couch) \nQueen Suite: $104 per night (1 Queen\, 1 Queen Murphy Bed) \nDouble Suite: $114 per night (2 double beds\, 1 Queen Murphy) \n(tax/resort fee additional to above rates) \nNote: ALL croppers/Vendors are Required to purchase the breakfast package $10 day (Pay on the day you crop.) \nMardi Gras Scrapbooking Party\nNovember 9 – 12\, 2017\nWisp Ski Resort\nRegistration Form\n\nComplete and return to Christa Wildesen at:\n242 Wood St.\, Westernport\, MD 21562\n814-289-6904 or cwildone@gmail.com \n  \n\n\n\nName: \n \n \nVendor:\n \nCropper:\n \n\n\nAddress:\n \nCity:\n \nState:\n \n\n\nZip\n \n \nPhone\n \n \nEmail\n \n\n\n\n\n\n\n\n\n\n\n\n\n\n\n\n\n\n\n\n\n\n\n\n  \nRegistration fee $65 BEFORE October 10   $75 AFTER October 10  \nCropper Registration Fee:  $65 per person – includes registration and facility use\, one 6’table\nVendors Only:            $65 per Company   10×10 space        + $10 per crop table (if cropping) \n*Cropping Hours: Thursday\, 11/7 (10 am) through Sunday\, 11/12 (4pm). \nCircle below what pertains to you: \n  \nRegistration:  Yes    No                  Cost:______________________ \nVendor:          Yes    No                 Cost:______________________ \n  \nTotal:_____________________ \n  \nMethod of Payment: Enclosed Check:__________  Credit Card:_________ (please check one) \n  \n  \nMake checks payable to Christa Wildesen \nCredit Card Number:____________________________________  Expiration Date: _________\nSignature of Card Holder:________________________________ \n  \n\n\n	Related
URL:https://lindacreates.com/event/wisp-crop-formally-canaan-valley/
LOCATION:WISP Resort in Deep Creek MD\, 296 Marsh Hill Road\, McHenry\, MD\, 21541\, United States
CATEGORIES:Weekend Events
ORGANIZER;CN="Christa Wildesen":MAILTO:cwildone@gmail.com
GEO:39.557199;-79.363217
X-APPLE-STRUCTURED-LOCATION;VALUE=URI;X-ADDRESS=WISP Resort in Deep Creek MD 296 Marsh Hill Road McHenry MD 21541 United States;X-APPLE-RADIUS=500;X-TITLE=296 Marsh Hill Road:geo:-79.363217,39.557199
END:VEVENT
END:VCALENDAR