BEGIN:VCALENDAR
VERSION:2.0
PRODID:-//Linda Creates - ECPv6.15.20//NONSGML v1.0//EN
CALSCALE:GREGORIAN
METHOD:PUBLISH
X-ORIGINAL-URL:https://lindacreates.com
X-WR-CALDESC:Events for Linda Creates
REFRESH-INTERVAL;VALUE=DURATION:PT1H
X-Robots-Tag:noindex
X-PUBLISHED-TTL:PT1H
BEGIN:VTIMEZONE
TZID:America/Halifax
BEGIN:DAYLIGHT
TZOFFSETFROM:-0400
TZOFFSETTO:-0300
TZNAME:ADT
DTSTART:20150308T060000
END:DAYLIGHT
BEGIN:STANDARD
TZOFFSETFROM:-0300
TZOFFSETTO:-0400
TZNAME:AST
DTSTART:20151101T050000
END:STANDARD
BEGIN:DAYLIGHT
TZOFFSETFROM:-0400
TZOFFSETTO:-0300
TZNAME:ADT
DTSTART:20160313T060000
END:DAYLIGHT
BEGIN:STANDARD
TZOFFSETFROM:-0300
TZOFFSETTO:-0400
TZNAME:AST
DTSTART:20161106T050000
END:STANDARD
BEGIN:DAYLIGHT
TZOFFSETFROM:-0400
TZOFFSETTO:-0300
TZNAME:ADT
DTSTART:20170312T060000
END:DAYLIGHT
BEGIN:STANDARD
TZOFFSETFROM:-0300
TZOFFSETTO:-0400
TZNAME:AST
DTSTART:20171105T050000
END:STANDARD
END:VTIMEZONE
BEGIN:VEVENT
DTSTART;TZID=America/Halifax:20160530T080000
DTEND;TZID=America/Halifax:20160530T170000
DTSTAMP:20260424T001823
CREATED:20160530T164111Z
LAST-MODIFIED:20160530T164337Z
UID:3692-1464595200-1464627600@lindacreates.com
SUMMARY:Crafter's Time Out
DESCRIPTION:Calling ALL Crafters!! (Knitters\,card makers\, scrapbookers\,zentanglers\, colorers etc)\n$50 for the entire weekend includes 6ft. of work space\,snacks and drinks\, catered dinner Saturday\,and Prizes! Come at 10:00 am. Saturday- stay til 11:00pm -leave your stuff and return Sunday to craft until 2:00 pm.\nClean out your craft room at home and bring to our giveaway table!\nGo to the FB Event link below.   PM the coordinator\, Sherry Bleach\, and she will send you a registration form. \nCrafters\, if you want or need time to craft\, this it!  Come and have some fun! \n\n\n	Related
URL:https://lindacreates.com/event/crafters-time-out/
LOCATION:Temple Solel\, 2901 Mitchellville Rd \, Bowie\, MD\, 20716\, United States
CATEGORIES:Crops
GEO:38.929226;-76.733553
X-APPLE-STRUCTURED-LOCATION;VALUE=URI;X-ADDRESS=Temple Solel 2901 Mitchellville Rd  Bowie MD 20716 United States;X-APPLE-RADIUS=500;X-TITLE=2901 Mitchellville Rd:geo:-76.733553,38.929226
END:VEVENT
END:VCALENDAR