BEGIN:VCALENDAR
VERSION:2.0
PRODID:-//Linda Creates - ECPv6.15.20//NONSGML v1.0//EN
CALSCALE:GREGORIAN
METHOD:PUBLISH
X-WR-CALNAME:Linda Creates
X-ORIGINAL-URL:https://lindacreates.com
X-WR-CALDESC:Events for Linda Creates
REFRESH-INTERVAL;VALUE=DURATION:PT1H
X-Robots-Tag:noindex
X-PUBLISHED-TTL:PT1H
BEGIN:VTIMEZONE
TZID:America/Halifax
BEGIN:DAYLIGHT
TZOFFSETFROM:-0400
TZOFFSETTO:-0300
TZNAME:ADT
DTSTART:20270314T060000
END:DAYLIGHT
BEGIN:STANDARD
TZOFFSETFROM:-0300
TZOFFSETTO:-0400
TZNAME:AST
DTSTART:20271107T050000
END:STANDARD
BEGIN:DAYLIGHT
TZOFFSETFROM:-0400
TZOFFSETTO:-0300
TZNAME:ADT
DTSTART:20280312T060000
END:DAYLIGHT
BEGIN:STANDARD
TZOFFSETFROM:-0300
TZOFFSETTO:-0400
TZNAME:AST
DTSTART:20281105T050000
END:STANDARD
BEGIN:DAYLIGHT
TZOFFSETFROM:-0400
TZOFFSETTO:-0300
TZNAME:ADT
DTSTART:20290311T060000
END:DAYLIGHT
BEGIN:STANDARD
TZOFFSETFROM:-0300
TZOFFSETTO:-0400
TZNAME:AST
DTSTART:20291104T050000
END:STANDARD
END:VTIMEZONE
BEGIN:VEVENT
DTSTART;TZID=America/Halifax:20280328T110000
DTEND;TZID=America/Halifax:20280328T160000
DTSTAMP:20260424T211808
CREATED:20161001T173812Z
LAST-MODIFIED:20161001T173812Z
UID:16342-1837854000-1837872000@lindacreates.com
SUMMARY:CTMH Store/Cropping Open
DESCRIPTION:The CTMH Store is open on Tuesday and Thursday\, from 11:00am to 4pm \nPlease feel free to drop by to shop or crop.  If you want to crop/craft\, please call to check to see if we have space!  301.430.0606. \n\n\n	Related
URL:https://lindacreates.com/event/ctmh-storecropping-open/2028-03-28/
LOCATION:Linda’s Home\, Bowie\, MD\, 20716\, United States
END:VEVENT
BEGIN:VEVENT
DTSTART;TZID=America/Halifax:20280330T110000
DTEND;TZID=America/Halifax:20280330T160000
DTSTAMP:20260424T211808
CREATED:20161001T174459Z
LAST-MODIFIED:20161001T174459Z
UID:16343-1838026800-1838044800@lindacreates.com
SUMMARY:CTMH Store/Cropping Open
DESCRIPTION:The CTMH Store is open on Tuesday and Thursday\, from 11:00am to 4pm.  Join Diane and I as we work on our projects. \nPlease feel free to drop by to shop or crop.  If you want to crop/craft\, please call to check to see if we have space!  301.430.0606. \n\n\n	Related
URL:https://lindacreates.com/event/ctmh-storecropping-open-2/2028-03-30/
LOCATION:Linda’s Home\, Bowie\, MD\, 20716\, United States
END:VEVENT
BEGIN:VEVENT
DTSTART;TZID=America/Halifax:20280404T110000
DTEND;TZID=America/Halifax:20280404T160000
DTSTAMP:20260424T211808
CREATED:20161001T173812Z
LAST-MODIFIED:20161001T173812Z
UID:16344-1838458800-1838476800@lindacreates.com
SUMMARY:CTMH Store/Cropping Open
DESCRIPTION:The CTMH Store is open on Tuesday and Thursday\, from 11:00am to 4pm \nPlease feel free to drop by to shop or crop.  If you want to crop/craft\, please call to check to see if we have space!  301.430.0606. \n\n\n	Related
URL:https://lindacreates.com/event/ctmh-storecropping-open/2028-04-04/
LOCATION:Linda’s Home\, Bowie\, MD\, 20716\, United States
END:VEVENT
BEGIN:VEVENT
DTSTART;TZID=America/Halifax:20280406T110000
DTEND;TZID=America/Halifax:20280406T160000
DTSTAMP:20260424T211808
CREATED:20161001T174459Z
LAST-MODIFIED:20161001T174459Z
UID:16346-1838631600-1838649600@lindacreates.com
SUMMARY:CTMH Store/Cropping Open
DESCRIPTION:The CTMH Store is open on Tuesday and Thursday\, from 11:00am to 4pm.  Join Diane and I as we work on our projects. \nPlease feel free to drop by to shop or crop.  If you want to crop/craft\, please call to check to see if we have space!  301.430.0606. \n\n\n	Related
URL:https://lindacreates.com/event/ctmh-storecropping-open-2/2028-04-06/
LOCATION:Linda’s Home\, Bowie\, MD\, 20716\, United States
END:VEVENT
BEGIN:VEVENT
DTSTART;TZID=America/Halifax:20280411T110000
DTEND;TZID=America/Halifax:20280411T160000
DTSTAMP:20260424T211808
CREATED:20161001T173812Z
LAST-MODIFIED:20161001T173812Z
UID:16347-1839063600-1839081600@lindacreates.com
SUMMARY:CTMH Store/Cropping Open
DESCRIPTION:The CTMH Store is open on Tuesday and Thursday\, from 11:00am to 4pm \nPlease feel free to drop by to shop or crop.  If you want to crop/craft\, please call to check to see if we have space!  301.430.0606. \n\n\n	Related
URL:https://lindacreates.com/event/ctmh-storecropping-open/2028-04-11/
LOCATION:Linda’s Home\, Bowie\, MD\, 20716\, United States
END:VEVENT
BEGIN:VEVENT
DTSTART;TZID=America/Halifax:20280413T110000
DTEND;TZID=America/Halifax:20280413T160000
DTSTAMP:20260424T211808
CREATED:20161001T174459Z
LAST-MODIFIED:20161001T174459Z
UID:16348-1839236400-1839254400@lindacreates.com
SUMMARY:CTMH Store/Cropping Open
DESCRIPTION:The CTMH Store is open on Tuesday and Thursday\, from 11:00am to 4pm.  Join Diane and I as we work on our projects. \nPlease feel free to drop by to shop or crop.  If you want to crop/craft\, please call to check to see if we have space!  301.430.0606. \n\n\n	Related
URL:https://lindacreates.com/event/ctmh-storecropping-open-2/2028-04-13/
LOCATION:Linda’s Home\, Bowie\, MD\, 20716\, United States
END:VEVENT
BEGIN:VEVENT
DTSTART;TZID=America/Halifax:20280418T110000
DTEND;TZID=America/Halifax:20280418T160000
DTSTAMP:20260424T211808
CREATED:20161001T173812Z
LAST-MODIFIED:20161001T173812Z
UID:16349-1839668400-1839686400@lindacreates.com
SUMMARY:CTMH Store/Cropping Open
DESCRIPTION:The CTMH Store is open on Tuesday and Thursday\, from 11:00am to 4pm \nPlease feel free to drop by to shop or crop.  If you want to crop/craft\, please call to check to see if we have space!  301.430.0606. \n\n\n	Related
URL:https://lindacreates.com/event/ctmh-storecropping-open/2028-04-18/
LOCATION:Linda’s Home\, Bowie\, MD\, 20716\, United States
END:VEVENT
BEGIN:VEVENT
DTSTART;TZID=America/Halifax:20280420T110000
DTEND;TZID=America/Halifax:20280420T160000
DTSTAMP:20260424T211808
CREATED:20161001T174459Z
LAST-MODIFIED:20161001T174459Z
UID:16350-1839841200-1839859200@lindacreates.com
SUMMARY:CTMH Store/Cropping Open
DESCRIPTION:The CTMH Store is open on Tuesday and Thursday\, from 11:00am to 4pm.  Join Diane and I as we work on our projects. \nPlease feel free to drop by to shop or crop.  If you want to crop/craft\, please call to check to see if we have space!  301.430.0606. \n\n\n	Related
URL:https://lindacreates.com/event/ctmh-storecropping-open-2/2028-04-20/
LOCATION:Linda’s Home\, Bowie\, MD\, 20716\, United States
END:VEVENT
END:VCALENDAR