BEGIN:VCALENDAR
VERSION:2.0
PRODID:-//Linda Creates - ECPv6.15.20//NONSGML v1.0//EN
CALSCALE:GREGORIAN
METHOD:PUBLISH
X-ORIGINAL-URL:https://lindacreates.com
X-WR-CALDESC:Events for Linda Creates
REFRESH-INTERVAL;VALUE=DURATION:PT1H
X-Robots-Tag:noindex
X-PUBLISHED-TTL:PT1H
BEGIN:VTIMEZONE
TZID:America/Halifax
BEGIN:DAYLIGHT
TZOFFSETFROM:-0400
TZOFFSETTO:-0300
TZNAME:ADT
DTSTART:20260308T060000
END:DAYLIGHT
BEGIN:STANDARD
TZOFFSETFROM:-0300
TZOFFSETTO:-0400
TZNAME:AST
DTSTART:20261101T050000
END:STANDARD
BEGIN:DAYLIGHT
TZOFFSETFROM:-0400
TZOFFSETTO:-0300
TZNAME:ADT
DTSTART:20270314T060000
END:DAYLIGHT
BEGIN:STANDARD
TZOFFSETFROM:-0300
TZOFFSETTO:-0400
TZNAME:AST
DTSTART:20271107T050000
END:STANDARD
BEGIN:DAYLIGHT
TZOFFSETFROM:-0400
TZOFFSETTO:-0300
TZNAME:ADT
DTSTART:20280312T060000
END:DAYLIGHT
BEGIN:STANDARD
TZOFFSETFROM:-0300
TZOFFSETTO:-0400
TZNAME:AST
DTSTART:20281105T050000
END:STANDARD
END:VTIMEZONE
BEGIN:VEVENT
DTSTART;TZID=America/Halifax:20270413T110000
DTEND;TZID=America/Halifax:20270413T160000
DTSTAMP:20260424T071948
CREATED:20161001T173812Z
LAST-MODIFIED:20161001T173812Z
UID:16178-1807614000-1807632000@lindacreates.com
SUMMARY:CTMH Store/Cropping Open
DESCRIPTION:The CTMH Store is open on Tuesday and Thursday\, from 11:00am to 4pm \nPlease feel free to drop by to shop or crop.  If you want to crop/craft\, please call to check to see if we have space!  301.430.0606. \n\n\n	Related
URL:https://lindacreates.com/event/ctmh-storecropping-open/2027-04-13/
LOCATION:Linda’s Home\, Bowie\, MD\, 20716\, United States
END:VEVENT
BEGIN:VEVENT
DTSTART;TZID=America/Halifax:20270415T110000
DTEND;TZID=America/Halifax:20270415T160000
DTSTAMP:20260424T071948
CREATED:20161001T174459Z
LAST-MODIFIED:20161001T174459Z
UID:16180-1807786800-1807804800@lindacreates.com
SUMMARY:CTMH Store/Cropping Open
DESCRIPTION:The CTMH Store is open on Tuesday and Thursday\, from 11:00am to 4pm.  Join Diane and I as we work on our projects. \nPlease feel free to drop by to shop or crop.  If you want to crop/craft\, please call to check to see if we have space!  301.430.0606. \n\n\n	Related
URL:https://lindacreates.com/event/ctmh-storecropping-open-2/2027-04-15/
LOCATION:Linda’s Home\, Bowie\, MD\, 20716\, United States
END:VEVENT
BEGIN:VEVENT
DTSTART;TZID=America/Halifax:20270420T110000
DTEND;TZID=America/Halifax:20270420T160000
DTSTAMP:20260424T071948
CREATED:20161001T173812Z
LAST-MODIFIED:20161001T173812Z
UID:16182-1808218800-1808236800@lindacreates.com
SUMMARY:CTMH Store/Cropping Open
DESCRIPTION:The CTMH Store is open on Tuesday and Thursday\, from 11:00am to 4pm \nPlease feel free to drop by to shop or crop.  If you want to crop/craft\, please call to check to see if we have space!  301.430.0606. \n\n\n	Related
URL:https://lindacreates.com/event/ctmh-storecropping-open/2027-04-20/
LOCATION:Linda’s Home\, Bowie\, MD\, 20716\, United States
END:VEVENT
BEGIN:VEVENT
DTSTART;TZID=America/Halifax:20270422T110000
DTEND;TZID=America/Halifax:20270422T160000
DTSTAMP:20260424T071948
CREATED:20161001T174459Z
LAST-MODIFIED:20161001T174459Z
UID:16192-1808391600-1808409600@lindacreates.com
SUMMARY:CTMH Store/Cropping Open
DESCRIPTION:The CTMH Store is open on Tuesday and Thursday\, from 11:00am to 4pm.  Join Diane and I as we work on our projects. \nPlease feel free to drop by to shop or crop.  If you want to crop/craft\, please call to check to see if we have space!  301.430.0606. \n\n\n	Related
URL:https://lindacreates.com/event/ctmh-storecropping-open-2/2027-04-22/
LOCATION:Linda’s Home\, Bowie\, MD\, 20716\, United States
END:VEVENT
BEGIN:VEVENT
DTSTART;TZID=America/Halifax:20270427T110000
DTEND;TZID=America/Halifax:20270427T160000
DTSTAMP:20260424T071948
CREATED:20161001T173812Z
LAST-MODIFIED:20161001T173812Z
UID:16193-1808823600-1808841600@lindacreates.com
SUMMARY:CTMH Store/Cropping Open
DESCRIPTION:The CTMH Store is open on Tuesday and Thursday\, from 11:00am to 4pm \nPlease feel free to drop by to shop or crop.  If you want to crop/craft\, please call to check to see if we have space!  301.430.0606. \n\n\n	Related
URL:https://lindacreates.com/event/ctmh-storecropping-open/2027-04-27/
LOCATION:Linda’s Home\, Bowie\, MD\, 20716\, United States
END:VEVENT
BEGIN:VEVENT
DTSTART;TZID=America/Halifax:20270429T110000
DTEND;TZID=America/Halifax:20270429T160000
DTSTAMP:20260424T071948
CREATED:20161001T174459Z
LAST-MODIFIED:20161001T174459Z
UID:16194-1808996400-1809014400@lindacreates.com
SUMMARY:CTMH Store/Cropping Open
DESCRIPTION:The CTMH Store is open on Tuesday and Thursday\, from 11:00am to 4pm.  Join Diane and I as we work on our projects. \nPlease feel free to drop by to shop or crop.  If you want to crop/craft\, please call to check to see if we have space!  301.430.0606. \n\n\n	Related
URL:https://lindacreates.com/event/ctmh-storecropping-open-2/2027-04-29/
LOCATION:Linda’s Home\, Bowie\, MD\, 20716\, United States
END:VEVENT
BEGIN:VEVENT
DTSTART;TZID=America/Halifax:20270504T110000
DTEND;TZID=America/Halifax:20270504T160000
DTSTAMP:20260424T071948
CREATED:20161001T173812Z
LAST-MODIFIED:20161001T173812Z
UID:16195-1809428400-1809446400@lindacreates.com
SUMMARY:CTMH Store/Cropping Open
DESCRIPTION:The CTMH Store is open on Tuesday and Thursday\, from 11:00am to 4pm \nPlease feel free to drop by to shop or crop.  If you want to crop/craft\, please call to check to see if we have space!  301.430.0606. \n\n\n	Related
URL:https://lindacreates.com/event/ctmh-storecropping-open/2027-05-04/
LOCATION:Linda’s Home\, Bowie\, MD\, 20716\, United States
END:VEVENT
BEGIN:VEVENT
DTSTART;TZID=America/Halifax:20270506T110000
DTEND;TZID=America/Halifax:20270506T160000
DTSTAMP:20260424T071948
CREATED:20161001T174459Z
LAST-MODIFIED:20161001T174459Z
UID:16196-1809601200-1809619200@lindacreates.com
SUMMARY:CTMH Store/Cropping Open
DESCRIPTION:The CTMH Store is open on Tuesday and Thursday\, from 11:00am to 4pm.  Join Diane and I as we work on our projects. \nPlease feel free to drop by to shop or crop.  If you want to crop/craft\, please call to check to see if we have space!  301.430.0606. \n\n\n	Related
URL:https://lindacreates.com/event/ctmh-storecropping-open-2/2027-05-06/
LOCATION:Linda’s Home\, Bowie\, MD\, 20716\, United States
END:VEVENT
BEGIN:VEVENT
DTSTART;TZID=America/Halifax:20270511T110000
DTEND;TZID=America/Halifax:20270511T160000
DTSTAMP:20260424T071948
CREATED:20161001T173812Z
LAST-MODIFIED:20161001T173812Z
UID:16197-1810033200-1810051200@lindacreates.com
SUMMARY:CTMH Store/Cropping Open
DESCRIPTION:The CTMH Store is open on Tuesday and Thursday\, from 11:00am to 4pm \nPlease feel free to drop by to shop or crop.  If you want to crop/craft\, please call to check to see if we have space!  301.430.0606. \n\n\n	Related
URL:https://lindacreates.com/event/ctmh-storecropping-open/2027-05-11/
LOCATION:Linda’s Home\, Bowie\, MD\, 20716\, United States
END:VEVENT
BEGIN:VEVENT
DTSTART;TZID=America/Halifax:20270513T110000
DTEND;TZID=America/Halifax:20270513T160000
DTSTAMP:20260424T071948
CREATED:20161001T174459Z
LAST-MODIFIED:20161001T174459Z
UID:16199-1810206000-1810224000@lindacreates.com
SUMMARY:CTMH Store/Cropping Open
DESCRIPTION:The CTMH Store is open on Tuesday and Thursday\, from 11:00am to 4pm.  Join Diane and I as we work on our projects. \nPlease feel free to drop by to shop or crop.  If you want to crop/craft\, please call to check to see if we have space!  301.430.0606. \n\n\n	Related
URL:https://lindacreates.com/event/ctmh-storecropping-open-2/2027-05-13/
LOCATION:Linda’s Home\, Bowie\, MD\, 20716\, United States
END:VEVENT
BEGIN:VEVENT
DTSTART;TZID=America/Halifax:20270518T110000
DTEND;TZID=America/Halifax:20270518T160000
DTSTAMP:20260424T071948
CREATED:20161001T173812Z
LAST-MODIFIED:20161001T173812Z
UID:16208-1810638000-1810656000@lindacreates.com
SUMMARY:CTMH Store/Cropping Open
DESCRIPTION:The CTMH Store is open on Tuesday and Thursday\, from 11:00am to 4pm \nPlease feel free to drop by to shop or crop.  If you want to crop/craft\, please call to check to see if we have space!  301.430.0606. \n\n\n	Related
URL:https://lindacreates.com/event/ctmh-storecropping-open/2027-05-18/
LOCATION:Linda’s Home\, Bowie\, MD\, 20716\, United States
END:VEVENT
BEGIN:VEVENT
DTSTART;TZID=America/Halifax:20270520T110000
DTEND;TZID=America/Halifax:20270520T160000
DTSTAMP:20260424T071948
CREATED:20161001T174459Z
LAST-MODIFIED:20161001T174459Z
UID:16209-1810810800-1810828800@lindacreates.com
SUMMARY:CTMH Store/Cropping Open
DESCRIPTION:The CTMH Store is open on Tuesday and Thursday\, from 11:00am to 4pm.  Join Diane and I as we work on our projects. \nPlease feel free to drop by to shop or crop.  If you want to crop/craft\, please call to check to see if we have space!  301.430.0606. \n\n\n	Related
URL:https://lindacreates.com/event/ctmh-storecropping-open-2/2027-05-20/
LOCATION:Linda’s Home\, Bowie\, MD\, 20716\, United States
END:VEVENT
BEGIN:VEVENT
DTSTART;TZID=America/Halifax:20270525T110000
DTEND;TZID=America/Halifax:20270525T160000
DTSTAMP:20260424T071948
CREATED:20161001T173812Z
LAST-MODIFIED:20161001T173812Z
UID:16212-1811242800-1811260800@lindacreates.com
SUMMARY:CTMH Store/Cropping Open
DESCRIPTION:The CTMH Store is open on Tuesday and Thursday\, from 11:00am to 4pm \nPlease feel free to drop by to shop or crop.  If you want to crop/craft\, please call to check to see if we have space!  301.430.0606. \n\n\n	Related
URL:https://lindacreates.com/event/ctmh-storecropping-open/2027-05-25/
LOCATION:Linda’s Home\, Bowie\, MD\, 20716\, United States
END:VEVENT
BEGIN:VEVENT
DTSTART;TZID=America/Halifax:20270527T110000
DTEND;TZID=America/Halifax:20270527T160000
DTSTAMP:20260424T071948
CREATED:20161001T174459Z
LAST-MODIFIED:20161001T174459Z
UID:16213-1811415600-1811433600@lindacreates.com
SUMMARY:CTMH Store/Cropping Open
DESCRIPTION:The CTMH Store is open on Tuesday and Thursday\, from 11:00am to 4pm.  Join Diane and I as we work on our projects. \nPlease feel free to drop by to shop or crop.  If you want to crop/craft\, please call to check to see if we have space!  301.430.0606. \n\n\n	Related
URL:https://lindacreates.com/event/ctmh-storecropping-open-2/2027-05-27/
LOCATION:Linda’s Home\, Bowie\, MD\, 20716\, United States
END:VEVENT
BEGIN:VEVENT
DTSTART;TZID=America/Halifax:20270601T110000
DTEND;TZID=America/Halifax:20270601T160000
DTSTAMP:20260424T071948
CREATED:20161001T173812Z
LAST-MODIFIED:20161001T173812Z
UID:16214-1811847600-1811865600@lindacreates.com
SUMMARY:CTMH Store/Cropping Open
DESCRIPTION:The CTMH Store is open on Tuesday and Thursday\, from 11:00am to 4pm \nPlease feel free to drop by to shop or crop.  If you want to crop/craft\, please call to check to see if we have space!  301.430.0606. \n\n\n	Related
URL:https://lindacreates.com/event/ctmh-storecropping-open/2027-06-01/
LOCATION:Linda’s Home\, Bowie\, MD\, 20716\, United States
END:VEVENT
BEGIN:VEVENT
DTSTART;TZID=America/Halifax:20270603T110000
DTEND;TZID=America/Halifax:20270603T160000
DTSTAMP:20260424T071948
CREATED:20161001T174459Z
LAST-MODIFIED:20161001T174459Z
UID:16215-1812020400-1812038400@lindacreates.com
SUMMARY:CTMH Store/Cropping Open
DESCRIPTION:The CTMH Store is open on Tuesday and Thursday\, from 11:00am to 4pm.  Join Diane and I as we work on our projects. \nPlease feel free to drop by to shop or crop.  If you want to crop/craft\, please call to check to see if we have space!  301.430.0606. \n\n\n	Related
URL:https://lindacreates.com/event/ctmh-storecropping-open-2/2027-06-03/
LOCATION:Linda’s Home\, Bowie\, MD\, 20716\, United States
END:VEVENT
BEGIN:VEVENT
DTSTART;TZID=America/Halifax:20270608T110000
DTEND;TZID=America/Halifax:20270608T160000
DTSTAMP:20260424T071948
CREATED:20161001T173812Z
LAST-MODIFIED:20161001T173812Z
UID:16216-1812452400-1812470400@lindacreates.com
SUMMARY:CTMH Store/Cropping Open
DESCRIPTION:The CTMH Store is open on Tuesday and Thursday\, from 11:00am to 4pm \nPlease feel free to drop by to shop or crop.  If you want to crop/craft\, please call to check to see if we have space!  301.430.0606. \n\n\n	Related
URL:https://lindacreates.com/event/ctmh-storecropping-open/2027-06-08/
LOCATION:Linda’s Home\, Bowie\, MD\, 20716\, United States
END:VEVENT
BEGIN:VEVENT
DTSTART;TZID=America/Halifax:20270610T110000
DTEND;TZID=America/Halifax:20270610T160000
DTSTAMP:20260424T071948
CREATED:20161001T174459Z
LAST-MODIFIED:20161001T174459Z
UID:16218-1812625200-1812643200@lindacreates.com
SUMMARY:CTMH Store/Cropping Open
DESCRIPTION:The CTMH Store is open on Tuesday and Thursday\, from 11:00am to 4pm.  Join Diane and I as we work on our projects. \nPlease feel free to drop by to shop or crop.  If you want to crop/craft\, please call to check to see if we have space!  301.430.0606. \n\n\n	Related
URL:https://lindacreates.com/event/ctmh-storecropping-open-2/2027-06-10/
LOCATION:Linda’s Home\, Bowie\, MD\, 20716\, United States
END:VEVENT
BEGIN:VEVENT
DTSTART;TZID=America/Halifax:20270615T110000
DTEND;TZID=America/Halifax:20270615T160000
DTSTAMP:20260424T071948
CREATED:20161001T173812Z
LAST-MODIFIED:20161001T173812Z
UID:16219-1813057200-1813075200@lindacreates.com
SUMMARY:CTMH Store/Cropping Open
DESCRIPTION:The CTMH Store is open on Tuesday and Thursday\, from 11:00am to 4pm \nPlease feel free to drop by to shop or crop.  If you want to crop/craft\, please call to check to see if we have space!  301.430.0606. \n\n\n	Related
URL:https://lindacreates.com/event/ctmh-storecropping-open/2027-06-15/
LOCATION:Linda’s Home\, Bowie\, MD\, 20716\, United States
END:VEVENT
BEGIN:VEVENT
DTSTART;TZID=America/Halifax:20270617T110000
DTEND;TZID=America/Halifax:20270617T160000
DTSTAMP:20260424T071948
CREATED:20161001T174459Z
LAST-MODIFIED:20161001T174459Z
UID:16220-1813230000-1813248000@lindacreates.com
SUMMARY:CTMH Store/Cropping Open
DESCRIPTION:The CTMH Store is open on Tuesday and Thursday\, from 11:00am to 4pm.  Join Diane and I as we work on our projects. \nPlease feel free to drop by to shop or crop.  If you want to crop/craft\, please call to check to see if we have space!  301.430.0606. \n\n\n	Related
URL:https://lindacreates.com/event/ctmh-storecropping-open-2/2027-06-17/
LOCATION:Linda’s Home\, Bowie\, MD\, 20716\, United States
END:VEVENT
BEGIN:VEVENT
DTSTART;TZID=America/Halifax:20270622T110000
DTEND;TZID=America/Halifax:20270622T160000
DTSTAMP:20260424T071948
CREATED:20161001T173812Z
LAST-MODIFIED:20161001T173812Z
UID:16222-1813662000-1813680000@lindacreates.com
SUMMARY:CTMH Store/Cropping Open
DESCRIPTION:The CTMH Store is open on Tuesday and Thursday\, from 11:00am to 4pm \nPlease feel free to drop by to shop or crop.  If you want to crop/craft\, please call to check to see if we have space!  301.430.0606. \n\n\n	Related
URL:https://lindacreates.com/event/ctmh-storecropping-open/2027-06-22/
LOCATION:Linda’s Home\, Bowie\, MD\, 20716\, United States
END:VEVENT
BEGIN:VEVENT
DTSTART;TZID=America/Halifax:20270624T110000
DTEND;TZID=America/Halifax:20270624T160000
DTSTAMP:20260424T071948
CREATED:20161001T174459Z
LAST-MODIFIED:20161001T174459Z
UID:16223-1813834800-1813852800@lindacreates.com
SUMMARY:CTMH Store/Cropping Open
DESCRIPTION:The CTMH Store is open on Tuesday and Thursday\, from 11:00am to 4pm.  Join Diane and I as we work on our projects. \nPlease feel free to drop by to shop or crop.  If you want to crop/craft\, please call to check to see if we have space!  301.430.0606. \n\n\n	Related
URL:https://lindacreates.com/event/ctmh-storecropping-open-2/2027-06-24/
LOCATION:Linda’s Home\, Bowie\, MD\, 20716\, United States
END:VEVENT
BEGIN:VEVENT
DTSTART;TZID=America/Halifax:20270629T110000
DTEND;TZID=America/Halifax:20270629T160000
DTSTAMP:20260424T071948
CREATED:20161001T173812Z
LAST-MODIFIED:20161001T173812Z
UID:16224-1814266800-1814284800@lindacreates.com
SUMMARY:CTMH Store/Cropping Open
DESCRIPTION:The CTMH Store is open on Tuesday and Thursday\, from 11:00am to 4pm \nPlease feel free to drop by to shop or crop.  If you want to crop/craft\, please call to check to see if we have space!  301.430.0606. \n\n\n	Related
URL:https://lindacreates.com/event/ctmh-storecropping-open/2027-06-29/
LOCATION:Linda’s Home\, Bowie\, MD\, 20716\, United States
END:VEVENT
BEGIN:VEVENT
DTSTART;TZID=America/Halifax:20270701T110000
DTEND;TZID=America/Halifax:20270701T160000
DTSTAMP:20260424T071948
CREATED:20161001T174459Z
LAST-MODIFIED:20161001T174459Z
UID:16225-1814439600-1814457600@lindacreates.com
SUMMARY:CTMH Store/Cropping Open
DESCRIPTION:The CTMH Store is open on Tuesday and Thursday\, from 11:00am to 4pm.  Join Diane and I as we work on our projects. \nPlease feel free to drop by to shop or crop.  If you want to crop/craft\, please call to check to see if we have space!  301.430.0606. \n\n\n	Related
URL:https://lindacreates.com/event/ctmh-storecropping-open-2/2027-07-01/
LOCATION:Linda’s Home\, Bowie\, MD\, 20716\, United States
END:VEVENT
BEGIN:VEVENT
DTSTART;TZID=America/Halifax:20270706T110000
DTEND;TZID=America/Halifax:20270706T160000
DTSTAMP:20260424T071948
CREATED:20161001T173812Z
LAST-MODIFIED:20161001T173812Z
UID:16227-1814871600-1814889600@lindacreates.com
SUMMARY:CTMH Store/Cropping Open
DESCRIPTION:The CTMH Store is open on Tuesday and Thursday\, from 11:00am to 4pm \nPlease feel free to drop by to shop or crop.  If you want to crop/craft\, please call to check to see if we have space!  301.430.0606. \n\n\n	Related
URL:https://lindacreates.com/event/ctmh-storecropping-open/2027-07-06/
LOCATION:Linda’s Home\, Bowie\, MD\, 20716\, United States
END:VEVENT
BEGIN:VEVENT
DTSTART;TZID=America/Halifax:20270708T110000
DTEND;TZID=America/Halifax:20270708T160000
DTSTAMP:20260424T071948
CREATED:20161001T174459Z
LAST-MODIFIED:20161001T174459Z
UID:16228-1815044400-1815062400@lindacreates.com
SUMMARY:CTMH Store/Cropping Open
DESCRIPTION:The CTMH Store is open on Tuesday and Thursday\, from 11:00am to 4pm.  Join Diane and I as we work on our projects. \nPlease feel free to drop by to shop or crop.  If you want to crop/craft\, please call to check to see if we have space!  301.430.0606. \n\n\n	Related
URL:https://lindacreates.com/event/ctmh-storecropping-open-2/2027-07-08/
LOCATION:Linda’s Home\, Bowie\, MD\, 20716\, United States
END:VEVENT
BEGIN:VEVENT
DTSTART;TZID=America/Halifax:20270713T110000
DTEND;TZID=America/Halifax:20270713T160000
DTSTAMP:20260424T071948
CREATED:20161001T173812Z
LAST-MODIFIED:20161001T173812Z
UID:16229-1815476400-1815494400@lindacreates.com
SUMMARY:CTMH Store/Cropping Open
DESCRIPTION:The CTMH Store is open on Tuesday and Thursday\, from 11:00am to 4pm \nPlease feel free to drop by to shop or crop.  If you want to crop/craft\, please call to check to see if we have space!  301.430.0606. \n\n\n	Related
URL:https://lindacreates.com/event/ctmh-storecropping-open/2027-07-13/
LOCATION:Linda’s Home\, Bowie\, MD\, 20716\, United States
END:VEVENT
BEGIN:VEVENT
DTSTART;TZID=America/Halifax:20270715T110000
DTEND;TZID=America/Halifax:20270715T160000
DTSTAMP:20260424T071948
CREATED:20161001T174459Z
LAST-MODIFIED:20161001T174459Z
UID:16230-1815649200-1815667200@lindacreates.com
SUMMARY:CTMH Store/Cropping Open
DESCRIPTION:The CTMH Store is open on Tuesday and Thursday\, from 11:00am to 4pm.  Join Diane and I as we work on our projects. \nPlease feel free to drop by to shop or crop.  If you want to crop/craft\, please call to check to see if we have space!  301.430.0606. \n\n\n	Related
URL:https://lindacreates.com/event/ctmh-storecropping-open-2/2027-07-15/
LOCATION:Linda’s Home\, Bowie\, MD\, 20716\, United States
END:VEVENT
BEGIN:VEVENT
DTSTART;TZID=America/Halifax:20270720T110000
DTEND;TZID=America/Halifax:20270720T160000
DTSTAMP:20260424T071948
CREATED:20161001T173812Z
LAST-MODIFIED:20161001T173812Z
UID:16238-1816081200-1816099200@lindacreates.com
SUMMARY:CTMH Store/Cropping Open
DESCRIPTION:The CTMH Store is open on Tuesday and Thursday\, from 11:00am to 4pm \nPlease feel free to drop by to shop or crop.  If you want to crop/craft\, please call to check to see if we have space!  301.430.0606. \n\n\n	Related
URL:https://lindacreates.com/event/ctmh-storecropping-open/2027-07-20/
LOCATION:Linda’s Home\, Bowie\, MD\, 20716\, United States
END:VEVENT
BEGIN:VEVENT
DTSTART;TZID=America/Halifax:20270722T110000
DTEND;TZID=America/Halifax:20270722T160000
DTSTAMP:20260424T071948
CREATED:20161001T174459Z
LAST-MODIFIED:20161001T174459Z
UID:16239-1816254000-1816272000@lindacreates.com
SUMMARY:CTMH Store/Cropping Open
DESCRIPTION:The CTMH Store is open on Tuesday and Thursday\, from 11:00am to 4pm.  Join Diane and I as we work on our projects. \nPlease feel free to drop by to shop or crop.  If you want to crop/craft\, please call to check to see if we have space!  301.430.0606. \n\n\n	Related
URL:https://lindacreates.com/event/ctmh-storecropping-open-2/2027-07-22/
LOCATION:Linda’s Home\, Bowie\, MD\, 20716\, United States
END:VEVENT
END:VCALENDAR