BEGIN:VCALENDAR
VERSION:2.0
PRODID:-//Linda Creates - ECPv6.15.20//NONSGML v1.0//EN
CALSCALE:GREGORIAN
METHOD:PUBLISH
X-ORIGINAL-URL:https://lindacreates.com
X-WR-CALDESC:Events for Linda Creates
REFRESH-INTERVAL;VALUE=DURATION:PT1H
X-Robots-Tag:noindex
X-PUBLISHED-TTL:PT1H
BEGIN:VTIMEZONE
TZID:America/Halifax
BEGIN:DAYLIGHT
TZOFFSETFROM:-0400
TZOFFSETTO:-0300
TZNAME:ADT
DTSTART:20140309T060000
END:DAYLIGHT
BEGIN:STANDARD
TZOFFSETFROM:-0300
TZOFFSETTO:-0400
TZNAME:AST
DTSTART:20141102T050000
END:STANDARD
BEGIN:DAYLIGHT
TZOFFSETFROM:-0400
TZOFFSETTO:-0300
TZNAME:ADT
DTSTART:20150308T060000
END:DAYLIGHT
BEGIN:STANDARD
TZOFFSETFROM:-0300
TZOFFSETTO:-0400
TZNAME:AST
DTSTART:20151101T050000
END:STANDARD
BEGIN:DAYLIGHT
TZOFFSETFROM:-0400
TZOFFSETTO:-0300
TZNAME:ADT
DTSTART:20160313T060000
END:DAYLIGHT
BEGIN:STANDARD
TZOFFSETFROM:-0300
TZOFFSETTO:-0400
TZNAME:AST
DTSTART:20161106T050000
END:STANDARD
BEGIN:DAYLIGHT
TZOFFSETFROM:-0400
TZOFFSETTO:-0300
TZNAME:ADT
DTSTART:20170312T060000
END:DAYLIGHT
BEGIN:STANDARD
TZOFFSETFROM:-0300
TZOFFSETTO:-0400
TZNAME:AST
DTSTART:20171105T050000
END:STANDARD
BEGIN:DAYLIGHT
TZOFFSETFROM:-0400
TZOFFSETTO:-0300
TZNAME:ADT
DTSTART:20180311T060000
END:DAYLIGHT
BEGIN:STANDARD
TZOFFSETFROM:-0300
TZOFFSETTO:-0400
TZNAME:AST
DTSTART:20181104T050000
END:STANDARD
END:VTIMEZONE
BEGIN:VEVENT
DTSTART;TZID=America/Halifax:20171006T180000
DTEND;TZID=America/Halifax:20171007T160000
DTSTAMP:20260424T001934
CREATED:20170922T153238Z
LAST-MODIFIED:20170922T153302Z
UID:6832-1507312800-1507392000@lindacreates.com
SUMMARY:Georgetown Presbyterian Church Crop
DESCRIPTION:Join us! \nPlease see the photo below for all the information. \nTo Support Event: \nAs this is a crop designed to be a fund raiser and I’m unable to bring my vending set up into the church due to access\, I’ll be opening an online gathering for attendees to place orders on.  10% of the sales will be donated back to the crop to help them out.  The gathering is open now and will close on October 8th.  You can place your order through this link.  When you check out\, be sure to pick the Georgetown Crop Online Gathering. \nEveryone who orders $25.00 or more will receive an entry to win the hostess gifts if we have enough orders to have them.  =) \nTo Attend The Crop: \nContact Michele Fletcher – 302.249.0262 – mkchele@aol.com – see the details: \n  \n \n\n\n	Related
URL:https://lindacreates.com/event/georgetown-presbyterian-church-crop-2/
LOCATION:Georgetown Presbyterian Church\, 203 North Bedford Street\, Georgetown\, DE\, 19947\, United States
CATEGORIES:Crops
ORGANIZER;CN="Michele":MAILTO:mkchele@aol.com
GEO:38.692183;-75.3883369
X-APPLE-STRUCTURED-LOCATION;VALUE=URI;X-ADDRESS=Georgetown Presbyterian Church 203 North Bedford Street Georgetown DE 19947 United States;X-APPLE-RADIUS=500;X-TITLE=203 North Bedford Street:geo:-75.3883369,38.692183
END:VEVENT
BEGIN:VEVENT
DTSTART;TZID=America/Halifax:20161021T180000
DTEND;TZID=America/Halifax:20161022T160000
DTSTAMP:20260424T001934
CREATED:20161001T173126Z
LAST-MODIFIED:20161001T173126Z
UID:4452-1477072800-1477152000@lindacreates.com
SUMMARY:Georgetown\, DE Crop
DESCRIPTION:It’s a 17 hour Crop! We work on personal crafts or scrapbooking in Tunnell Hall from 6 pm Friday until 2 am Sat and then again from 7 am Sat until 4 pm Sat night. Join us for food\, fellowship and fun! With a donation of $35 you can reserve your crop spot\, enjoy dinner Friday\, breakfast and lunch Saturday and snacks and drinks. Vendors will be set up. Contact the church at 302-856-6842 or email the church at office@georgetownpres.com. \n\n\n\n\n\n203 North Bedford St\nPO Box 46\nGeorgetown\, DE 19947\n\n\n\n\n\n\n\n\n(302) 856-6842\n\n\n\n\n	Related
URL:https://lindacreates.com/event/georgetown-de-crop-3/
LOCATION:Georgetown Presbyterian Church\, 203 North Bedford Street\, Georgetown\, DE\, 19947\, United States
ORGANIZER;CN="Michele":MAILTO:mkchele@aol.com
GEO:38.692183;-75.3883369
X-APPLE-STRUCTURED-LOCATION;VALUE=URI;X-ADDRESS=Georgetown Presbyterian Church 203 North Bedford Street Georgetown DE 19947 United States;X-APPLE-RADIUS=500;X-TITLE=203 North Bedford Street:geo:-75.3883369,38.692183
END:VEVENT
BEGIN:VEVENT
DTSTART;TZID=America/Halifax:20160408T160000
DTEND;TZID=America/Halifax:20160409T160000
DTSTAMP:20260424T001934
CREATED:20160222T175147Z
LAST-MODIFIED:20160222T175336Z
UID:3289-1460131200-1460217600@lindacreates.com
SUMMARY:Georgetown Presbyterian Church Crop
DESCRIPTION:Come join us for cropping at the Georgetown DE Crop held at the Georgetown Presbyterian Church .  This is a fantastic group of ladies to crop with.   They host crops as fund raisers so your crop fee is actually tax deductible!  How awesome is that?? \nWe start at 4:00 pm Friday and crop until 4:00 pm on Saturday.  It’s held at the church. \nMore information coming soon on this! \n\n\n	Related
URL:https://lindacreates.com/event/georgetown-presbyterian-church-crop/
LOCATION:Georgetown Presbyterian Church\, 203 North Bedford Street\, Georgetown\, DE\, 19947\, United States
CATEGORIES:Crops
ORGANIZER;CN="Michele":MAILTO:mkchele@aol.com
GEO:38.692183;-75.3883369
X-APPLE-STRUCTURED-LOCATION;VALUE=URI;X-ADDRESS=Georgetown Presbyterian Church 203 North Bedford Street Georgetown DE 19947 United States;X-APPLE-RADIUS=500;X-TITLE=203 North Bedford Street:geo:-75.3883369,38.692183
END:VEVENT
BEGIN:VEVENT
DTSTART;TZID=America/Halifax:20160129T160000
DTEND;TZID=America/Halifax:20160130T180000
DTSTAMP:20260424T001934
CREATED:20151215T171606Z
LAST-MODIFIED:20151215T174659Z
UID:2828-1454083200-1454176800@lindacreates.com
SUMMARY:Georgetown DE Crop
DESCRIPTION:Come join us for cropping at the Georgetown DE Crop held at the Georgetown Presbyterian Church .  This is a fantastic group of ladies to crop with.   They host crops as fund raisers so your crop fee is actually tax deductible!  How awesome is that?? \nWe start at 4:00 pm Friday and crop until 4:00 pm on Saturday.  It’s held at the church. \nMore information coming soon on this! \n\n\n	Related
URL:https://lindacreates.com/event/georgetown-de-crop-2/
LOCATION:Georgetown Presbyterian Church\, 203 North Bedford Street\, Georgetown\, DE\, 19947\, United States
CATEGORIES:Crops
ORGANIZER;CN="Michele":MAILTO:mkchele@aol.com
GEO:38.692183;-75.3883369
X-APPLE-STRUCTURED-LOCATION;VALUE=URI;X-ADDRESS=Georgetown Presbyterian Church 203 North Bedford Street Georgetown DE 19947 United States;X-APPLE-RADIUS=500;X-TITLE=203 North Bedford Street:geo:-75.3883369,38.692183
END:VEVENT
BEGIN:VEVENT
DTSTART;TZID=America/Halifax:20151016T160000
DTEND;TZID=America/Halifax:20151017T160000
DTSTAMP:20260424T001934
CREATED:20150630T005037Z
LAST-MODIFIED:20150630T005037Z
UID:1613-1445011200-1445097600@lindacreates.com
SUMMARY:Georgetown DE Crop
DESCRIPTION:Come join us for cropping at the Georgetown DE Crop held at the Georgetown Presbyterian Church .  This is a fantastic group of ladies to crop with.   They host crops as fund raisers so your crop fee is actually tax deductible!  How awesome is that?? \nWe start at 4:00 pm Friday and crop until 4:00 pm on Saturday.  It’s held at the church. \nMore information coming soon on this! \n\n\n	Related
URL:https://lindacreates.com/event/georgetown-de-crop/
LOCATION:Georgetown Presbyterian Church\, 203 North Bedford Street\, Georgetown\, DE\, 19947\, United States
CATEGORIES:Crops
ORGANIZER;CN="Michele":MAILTO:mkchele@aol.com
GEO:38.692183;-75.3883369
X-APPLE-STRUCTURED-LOCATION;VALUE=URI;X-ADDRESS=Georgetown Presbyterian Church 203 North Bedford Street Georgetown DE 19947 United States;X-APPLE-RADIUS=500;X-TITLE=203 North Bedford Street:geo:-75.3883369,38.692183
END:VEVENT
END:VCALENDAR