BEGIN:VCALENDAR
VERSION:2.0
PRODID:-//Linda Creates - ECPv6.15.20//NONSGML v1.0//EN
CALSCALE:GREGORIAN
METHOD:PUBLISH
X-ORIGINAL-URL:https://lindacreates.com
X-WR-CALDESC:Events for Linda Creates
REFRESH-INTERVAL;VALUE=DURATION:PT1H
X-Robots-Tag:noindex
X-PUBLISHED-TTL:PT1H
BEGIN:VTIMEZONE
TZID:America/Halifax
BEGIN:DAYLIGHT
TZOFFSETFROM:-0400
TZOFFSETTO:-0300
TZNAME:ADT
DTSTART:20140309T060000
END:DAYLIGHT
BEGIN:STANDARD
TZOFFSETFROM:-0300
TZOFFSETTO:-0400
TZNAME:AST
DTSTART:20141102T050000
END:STANDARD
BEGIN:DAYLIGHT
TZOFFSETFROM:-0400
TZOFFSETTO:-0300
TZNAME:ADT
DTSTART:20150308T060000
END:DAYLIGHT
BEGIN:STANDARD
TZOFFSETFROM:-0300
TZOFFSETTO:-0400
TZNAME:AST
DTSTART:20151101T050000
END:STANDARD
BEGIN:DAYLIGHT
TZOFFSETFROM:-0400
TZOFFSETTO:-0300
TZNAME:ADT
DTSTART:20160313T060000
END:DAYLIGHT
BEGIN:STANDARD
TZOFFSETFROM:-0300
TZOFFSETTO:-0400
TZNAME:AST
DTSTART:20161106T050000
END:STANDARD
END:VTIMEZONE
BEGIN:VEVENT
DTSTART;VALUE=DATE:20151002
DTEND;VALUE=DATE:20151005
DTSTAMP:20260424T001935
CREATED:20150616T140000Z
LAST-MODIFIED:20150617T023223Z
UID:1434-1443744000-1444003199@lindacreates.com
SUMMARY:Harbor Scrapbooking PA Weekend Crop
DESCRIPTION:Harbor Scrapbooking is offering a great weekend crop in Camp Hill\, PA.  Come and join the fun: \nA venue with a crop room THIS awesome was hard to find. The new location had to fit our HIGH standards for SPACE\, LIGHTING\, 6 FT CROP SPOT\, NO STEPS INTO THE CROP ROOM\, ELECTRIC TO THE TABLES\, ETC. If you have been to our crops before\, you know that we won’t settle for less. \nThe crop room is located in a large convention center with easy access from the unloading area right into the crop room. We eat our four (4) provided meals and brownie/ice cream social in a separate banquet room. The hotel is attached to the convention center via an outside COVERED breeze way. Door to door\, the distance from the convention center to the hotel is 20-30 feet. There are a few steps or an available wheel chair ramp when moving from one building to the other. \nThe crop room is gorgeous and all the hotel rooms are newly renovated. \nOne Change to NOTE:\nThe one change that will take place at this venue is that you will have to reserve your own hotel room. This is the one unavoidable difference that cannot be helped. We have been doing events for 14 years and have always reserved the rooms for you. We hope that this change does not deter you too much from attending our events as ALL OTHER PERKS remain the same. It should take you 5-10 minutes to register for your hotel either by phone or by link that will be provided. One person from each room will need to handle this quick task. Our pricing structure has now changed to be a crop only weekend fee. Your hotel room is separate. Every effort has been made to keep the prices as close or less than the previous hotel included pricing. \nOur New Pricing structure is as follows: \nCrop ONLY Fee:\nIncludes: 6 foot cropping spot\, four (4) meals\, NEW ice cream sunday/brownie social\, attendee goodie bag\, snack table\, sodas\, coffee/water station\, crop tables with electric access\, and chances to win door prizes. (HOTEL ROOM NOT INCLUDED) \n$190 Crop only fee (regular pay Due 4/4/14)\n$183 EARLY BIRD PAY Crop only fee (Due 3/21/14)\n$100 deposit is due two weeks after registering (2/14/14). You can also choose to pay the Early Bird rate in full to save money. \nREGISTER NOW!! \n\n\n	Related
URL:https://lindacreates.com/event/harbor-scrapbooking-pa-weekend-crop/
LOCATION:Camp Hill Radison\, 1150 Camp Hill By Pass \, Camp Hill\, PA\, 17011\, United States
CATEGORIES:Crops,Weekend Events
ORGANIZER;CN="Harbor Scrapbooking":MAILTO:info@harborscrapbooking.com
GEO:40.2532481;-76.9148183
X-APPLE-STRUCTURED-LOCATION;VALUE=URI;X-ADDRESS=Camp Hill Radison 1150 Camp Hill By Pass  Camp Hill PA 17011 United States;X-APPLE-RADIUS=500;X-TITLE=1150 Camp Hill By Pass:geo:-76.9148183,40.2532481
END:VEVENT
END:VCALENDAR