BEGIN:VCALENDAR
VERSION:2.0
PRODID:-//Linda Creates - ECPv6.15.20//NONSGML v1.0//EN
CALSCALE:GREGORIAN
METHOD:PUBLISH
X-WR-CALNAME:Linda Creates
X-ORIGINAL-URL:https://lindacreates.com
X-WR-CALDESC:Events for Linda Creates
REFRESH-INTERVAL;VALUE=DURATION:PT1H
X-Robots-Tag:noindex
X-PUBLISHED-TTL:PT1H
BEGIN:VTIMEZONE
TZID:America/Halifax
BEGIN:DAYLIGHT
TZOFFSETFROM:-0400
TZOFFSETTO:-0300
TZNAME:ADT
DTSTART:20140309T060000
END:DAYLIGHT
BEGIN:STANDARD
TZOFFSETFROM:-0300
TZOFFSETTO:-0400
TZNAME:AST
DTSTART:20141102T050000
END:STANDARD
BEGIN:DAYLIGHT
TZOFFSETFROM:-0400
TZOFFSETTO:-0300
TZNAME:ADT
DTSTART:20150308T060000
END:DAYLIGHT
BEGIN:STANDARD
TZOFFSETFROM:-0300
TZOFFSETTO:-0400
TZNAME:AST
DTSTART:20151101T050000
END:STANDARD
BEGIN:DAYLIGHT
TZOFFSETFROM:-0400
TZOFFSETTO:-0300
TZNAME:ADT
DTSTART:20160313T060000
END:DAYLIGHT
BEGIN:STANDARD
TZOFFSETFROM:-0300
TZOFFSETTO:-0400
TZNAME:AST
DTSTART:20161106T050000
END:STANDARD
BEGIN:DAYLIGHT
TZOFFSETFROM:-0400
TZOFFSETTO:-0300
TZNAME:ADT
DTSTART:20170312T060000
END:DAYLIGHT
BEGIN:STANDARD
TZOFFSETFROM:-0300
TZOFFSETTO:-0400
TZNAME:AST
DTSTART:20171105T050000
END:STANDARD
BEGIN:DAYLIGHT
TZOFFSETFROM:-0400
TZOFFSETTO:-0300
TZNAME:ADT
DTSTART:20180311T060000
END:DAYLIGHT
BEGIN:STANDARD
TZOFFSETFROM:-0300
TZOFFSETTO:-0400
TZNAME:AST
DTSTART:20181104T050000
END:STANDARD
BEGIN:DAYLIGHT
TZOFFSETFROM:-0400
TZOFFSETTO:-0300
TZNAME:ADT
DTSTART:20190310T060000
END:DAYLIGHT
BEGIN:STANDARD
TZOFFSETFROM:-0300
TZOFFSETTO:-0400
TZNAME:AST
DTSTART:20191103T050000
END:STANDARD
END:VTIMEZONE
BEGIN:VEVENT
DTSTART;VALUE=DATE:20181115
DTEND;VALUE=DATE:20181119
DTSTAMP:20260423T225223
CREATED:20170813T002559Z
LAST-MODIFIED:20170813T002559Z
UID:6596-1542240000-1542585599@lindacreates.com
SUMMARY:Harbor Scrapbooking - Reading PA
DESCRIPTION:Harbor Scrapbooking owners have been hosting weekend crops since 2000.  It is our passion to put on fun\, spacious events  where you can enjoy your girl time and work on your projects.  We are a Maryland Scrapbook company based near Annapolis\, MD.  Monica Beall is the crop coordinator. \n \nYou get: \n\n~6 ft crop spots \n~ 4 meals \n~ goodie bag \n~ ice cream social \n~ vendors\n ~ classes\n ~ prizes \n~ games \n~ fun\n\nWe Give YOU the Time\, Space\, & Inspiration to CREATE and CROP!!\n\n\n	Related
URL:https://lindacreates.com/event/harbor-scrapbooking-reading-pa/
LOCATION:Camp Hill Radison\, 1150 Camp Hill By Pass \, Camp Hill\, PA\, 17011\, United States
CATEGORIES:Crops,Weekend Events
ORGANIZER;CN="Harbor Scrapbooking":MAILTO:info@harborscrapbooking.com
GEO:40.2532481;-76.9148183
X-APPLE-STRUCTURED-LOCATION;VALUE=URI;X-ADDRESS=Camp Hill Radison 1150 Camp Hill By Pass  Camp Hill PA 17011 United States;X-APPLE-RADIUS=500;X-TITLE=1150 Camp Hill By Pass:geo:-76.9148183,40.2532481
END:VEVENT
BEGIN:VEVENT
DTSTART;VALUE=DATE:20180927
DTEND;VALUE=DATE:20181001
DTSTAMP:20260423T225223
CREATED:20170813T002342Z
LAST-MODIFIED:20170813T002342Z
UID:6594-1538006400-1538351999@lindacreates.com
SUMMARY:Harbor Scrapbooking Crop - Camp Hill
DESCRIPTION:Harbor Scrapbooking owners have been hosting weekend crops since 2000.  It is our passion to put on fun\, spacious events  where you can enjoy your girl time and work on your projects.  We are a Maryland Scrapbook company based near Annapolis\, MD.  Monica Beall is the crop coordinator. \n \nYou get: \n\n~6 ft crop spots \n~ 4 meals \n~ goodie bag \n~ ice cream social \n~ vendors\n ~ classes\n ~ prizes \n~ games \n~ fun\n\nWe Give YOU the Time\, Space\, & Inspiration to CREATE and CROP!!\n\n\n	Related
URL:https://lindacreates.com/event/harbor-scrapbooking-crop-camp-hill/
LOCATION:Camp Hill Radison\, 1150 Camp Hill By Pass \, Camp Hill\, PA\, 17011\, United States
CATEGORIES:Crops,Weekend Events
ORGANIZER;CN="Harbor Scrapbooking":MAILTO:info@harborscrapbooking.com
GEO:40.2532481;-76.9148183
X-APPLE-STRUCTURED-LOCATION;VALUE=URI;X-ADDRESS=Camp Hill Radison 1150 Camp Hill By Pass  Camp Hill PA 17011 United States;X-APPLE-RADIUS=500;X-TITLE=1150 Camp Hill By Pass:geo:-76.9148183,40.2532481
END:VEVENT
BEGIN:VEVENT
DTSTART;VALUE=DATE:20180412
DTEND;VALUE=DATE:20180416
DTSTAMP:20260423T225223
CREATED:20170813T001912Z
LAST-MODIFIED:20170813T001912Z
UID:6592-1523491200-1523836799@lindacreates.com
SUMMARY:Harbor Scrapbooking - Camp Hill
DESCRIPTION:Harbor Scrapbooking owners have been hosting weekend crops since 2000.  It is our passion to put on fun\, spacious events  where you can enjoy your girl time and work on your projects.  We are a Maryland Scrapbook company based near Annapolis\, MD.  Monica Beall is the crop coordinator. \n \nYou get: \n\n~6 ft crop spots \n~ 4 meals \n~ goodie bag \n~ ice cream social \n~ vendors\n ~ classes\n ~ prizes \n~ games \n~ fun\n\nWe Give YOU the Time\, Space\, & Inspiration to CREATE and CROP!!\n\n\n	Related
URL:https://lindacreates.com/event/harbor-scrapbooking-camp-hill/
LOCATION:Camp Hill Radison\, 1150 Camp Hill By Pass \, Camp Hill\, PA\, 17011\, United States
CATEGORIES:Crops,Weekend Events
ORGANIZER;CN="Harbor Scrapbooking":MAILTO:info@harborscrapbooking.com
GEO:40.2532481;-76.9148183
X-APPLE-STRUCTURED-LOCATION;VALUE=URI;X-ADDRESS=Camp Hill Radison 1150 Camp Hill By Pass  Camp Hill PA 17011 United States;X-APPLE-RADIUS=500;X-TITLE=1150 Camp Hill By Pass:geo:-76.9148183,40.2532481
END:VEVENT
BEGIN:VEVENT
DTSTART;TZID=America/Halifax:20170914T160000
DTEND;TZID=America/Halifax:20170917T120000
DTSTAMP:20260423T225223
CREATED:20170812T231243Z
LAST-MODIFIED:20170812T231640Z
UID:6582-1505404800-1505649600@lindacreates.com
SUMMARY:Harbor Scrapbooking Crop - Camp Hill PA
DESCRIPTION:Harbor Scrapbooking has been hosting weekend crops since 2000.  It is their passion to put on fun\, spacious events where you can enjoy your girl time and work on your projects.  Harbor Scrapbooking is based in Maryland\, near Annapolis\, MD.  Monica Beall is the owner and crop coordinator. \n \nYou get the following:  \n\n~6 ft crop spots \n~ 4 meals\n ~ goodie bag \n~ ice cream social\n ~ vendors\n ~ classes \n~ prizes \n~ games \n~ fun\n\nWe Give YOU the Time\, Space\, & Inspiration to CREATE and CROP!!\nYou book your hotel separate from the cropping fee.  Please see the hotel information below. \nSave \nSave \n\n\n	Related
URL:https://lindacreates.com/event/harbor-scrapbooking-crop-camp-hill-pa/
LOCATION:Camp Hill Radison\, 1150 Camp Hill By Pass \, Camp Hill\, PA\, 17011\, United States
CATEGORIES:Classes/Workshops,Come and Play Card Buffet,Weekend Events
ORGANIZER;CN="Harbor Scrapbooking":MAILTO:info@harborscrapbooking.com
GEO:40.2532481;-76.9148183
X-APPLE-STRUCTURED-LOCATION;VALUE=URI;X-ADDRESS=Camp Hill Radison 1150 Camp Hill By Pass  Camp Hill PA 17011 United States;X-APPLE-RADIUS=500;X-TITLE=1150 Camp Hill By Pass:geo:-76.9148183,40.2532481
END:VEVENT
BEGIN:VEVENT
DTSTART;VALUE=DATE:20170420
DTEND;VALUE=DATE:20170424
DTSTAMP:20260423T225223
CREATED:20170202T043206Z
LAST-MODIFIED:20170202T050414Z
UID:5233-1492646400-1492991999@lindacreates.com
SUMMARY:April Harbor Scrapbooking Weekend Event
DESCRIPTION:Last Harbor Scrapbooking weekend for the cropping season!  Can’t believe how fast the year is flying.  We’ll be at Camp Hill\, MD. \n \n\n\n	Related
URL:https://lindacreates.com/event/april-harbor-scrapbooking-weekend-event/
LOCATION:Camp Hill Radison\, 1150 Camp Hill By Pass \, Camp Hill\, PA\, 17011\, United States
CATEGORIES:Weekend Events
ORGANIZER;CN="Harbor Scrapbooking":MAILTO:info@harborscrapbooking.com
GEO:40.2532481;-76.9148183
X-APPLE-STRUCTURED-LOCATION;VALUE=URI;X-ADDRESS=Camp Hill Radison 1150 Camp Hill By Pass  Camp Hill PA 17011 United States;X-APPLE-RADIUS=500;X-TITLE=1150 Camp Hill By Pass:geo:-76.9148183,40.2532481
END:VEVENT
BEGIN:VEVENT
DTSTART;TZID=America/Halifax:20161110T170000
DTEND;TZID=America/Halifax:20161113T120000
DTSTAMP:20260423T225223
CREATED:20160901T215316Z
LAST-MODIFIED:20161001T155350Z
UID:4355-1478797200-1479038400@lindacreates.com
SUMMARY:November Harbor Scrapbooking Weekend Event
DESCRIPTION:Join us for the November Harbor Scrapbooking PA Retreat!  Camp Hill\, PA.\nEvery scrapbooker gets her own 6 FOOT CROP SPOT & power cords are conveniently located near each table grouping!\nThe crop room is large. Stay up until 3 a.m.\, wear your PJ’s\, leave your scrapbooking out overnight\, share ideas with your friends\, take scrapbooking technique classes\, and GET a massage. We have added a 3rd weekend event so that more scrapbookers have the opportunity to enjoy one of our events. \n\nIncludes: 6ft. crop spot\, 4 meals\, a scrapbooker’s goodie bag\, and MANY chances to win door prizes. \nVendors: Our vendors carry very large inventories. They provide all the basic supplies you will need plus all of the newest supplies and trends in scrapbooking. They are great teachers and love to take the time to show you a new technique\, help you find that perfect embellishment for your page or simply help you match colors on your layout. They also offer great scrapbook technique classes. \nClick here to see my classes\nServices: We provide onsite custom scanning and printing services as well as the use of self serve photo kiosk. An onsite massage therapist offers seated chair massages through out the weekend to relax your scrapbooking muscles. Spoil yourself with this great service. Finally\, we will have an album embosser on site to personalize your scrapbooks covers and spines. Prior to the event you will receive an Event Attendee’s survey\, please fill it out as soon as you get so that we can make every effort to accommodate your needs. \nCost: \n\n\n\n$190.00 for Crop fee and meals (hotel separate) – If you are staying Thursday\, please check with Monica about pricing.\n$183.00 for Early bird payment\n\nA $100 deposit is due at the time of registration or NO later than 2 weeks after registration. Final payment dates are announced and need to be adhered to in order to retain your space. \n\n\n\n	Related
URL:https://lindacreates.com/event/november-harbor-scrapbooking-weekend-event/
LOCATION:Camp Hill Radison\, 1150 Camp Hill By Pass \, Camp Hill\, PA\, 17011\, United States
CATEGORIES:Crops,Weekend Events
ORGANIZER;CN="Harbor Scrapbooking":MAILTO:info@harborscrapbooking.com
GEO:40.2532481;-76.9148183
X-APPLE-STRUCTURED-LOCATION;VALUE=URI;X-ADDRESS=Camp Hill Radison 1150 Camp Hill By Pass  Camp Hill PA 17011 United States;X-APPLE-RADIUS=500;X-TITLE=1150 Camp Hill By Pass:geo:-76.9148183,40.2532481
END:VEVENT
BEGIN:VEVENT
DTSTART;TZID=America/Halifax:20160922T170000
DTEND;TZID=America/Halifax:20160925T120000
DTSTAMP:20260423T225223
CREATED:20160901T214923Z
LAST-MODIFIED:20160901T215140Z
UID:4350-1474563600-1474804800@lindacreates.com
SUMMARY:September Harbor Scrapbooking PA Crop
DESCRIPTION:Join us for the September Harbor Scrapbooking PA Retreat!  Camp Hill\, PA.\nEvery scrapbooker gets her own 6 FOOT CROP SPOT & power cords are conveniently located near each table grouping!\nThe crop room is large. Stay up until 3 a.m.\, wear your PJ’s\, leave your scrapbooking out overnight\, share ideas with your friends\, take scrapbooking technique classes\, and GET a massage. We have added a 3rd weekend event so that more scrapbookers have the opportunity to enjoy one of our events. \n\nIncludes: 6ft. crop spot\, 4 meals\, a scrapbooker’s goodie bag\, and MANY chances to win door prizes. \nVendors: Our vendors carry very large inventories. They provide all the basic supplies you will need plus all of the newest supplies and trends in scrapbooking. They are great teachers and love to take the time to show you a new technique\, help you find that perfect embellishment for your page or simply help you match colors on your layout. They also offer great scrapbook technique classes. \nClick here to see my classes\nServices: We provide onsite custom scanning and printing services as well as the use of self serve photo kiosk. An onsite massage therapist offers seated chair massages through out the weekend to relax your scrapbooking muscles. Spoil yourself with this great service. Finally\, we will have an album embosser on site to personalize your scrapbooks covers and spines. Prior to the event you will receive an Event Attendee’s survey\, please fill it out as soon as you get so that we can make every effort to accommodate your needs. \nCost: \n\n\n\n$190.00 for Crop fee and meals (hotel separate) – If you are staying Thursday\, please check with Monica about pricing.\n$183.00 for Early bird payment\n\nA $100 deposit is due at the time of registration or NO later than 2 weeks after registration. Final payment dates are announced and need to be adhered to in order to retain your space. \n\n  \n\n\n\n\n\n\n\n\n\n	Related
URL:https://lindacreates.com/event/harbor-scrapbooking-pa-crop/
LOCATION:Camp Hill Radison\, 1150 Camp Hill By Pass \, Camp Hill\, PA\, 17011\, United States
CATEGORIES:Crops,Weekend Events
ORGANIZER;CN="Harbor Scrapbooking":MAILTO:info@harborscrapbooking.com
GEO:40.2532481;-76.9148183
X-APPLE-STRUCTURED-LOCATION;VALUE=URI;X-ADDRESS=Camp Hill Radison 1150 Camp Hill By Pass  Camp Hill PA 17011 United States;X-APPLE-RADIUS=500;X-TITLE=1150 Camp Hill By Pass:geo:-76.9148183,40.2532481
END:VEVENT
BEGIN:VEVENT
DTSTART;TZID=America/Halifax:20160415T120000
DTEND;TZID=America/Halifax:20160417T120000
DTSTAMP:20260423T225223
CREATED:20151215T171036Z
LAST-MODIFIED:20151215T171036Z
UID:2826-1460721600-1460894400@lindacreates.com
SUMMARY:Harbor Scrapbooking April Weekend Crop in PA
DESCRIPTION:Join us for the Nov Harbor Scrapbooking PA Retreat!  Camp Hill\, PA.\nEvery scrapbooker gets her own 6 FOOT CROP SPOT & power cords are conveniently located near each table grouping!\nThe crop room is large. Stay up until 3 a.m.\, wear your PJ’s\, leave your scrapbooking out overnight\, share ideas with your friends\, take scrapbooking technique classes\, and GET a massage. We have added a 3rd weekend event so that more scrapbookers have the opportunity to enjoy one of our events. \n\nIncludes: 6ft. crop spot\, 4 meals\, a scrapbooker’s goodie bag\, and MANY chances to win door prizes. \nVendors: Our vendors carry very large inventories. They provide all the basic supplies you will need plus all of the newest supplies and trends in scrapbooking. They are great teachers and love to take the time to show you a new technique\, help you find that perfect embellishment for your page or simply help you match colors on your layout. They also offer great scrapbook technique classes. \nServices: We provide onsite custom scanning and printing services as well as the use of self serve photo kiosk. An onsite massage therapist offers seated chair massages through out the weekend to relax your scrapbooking muscles. Spoil yourself with this great service. Finally\, we will have an album embosser on site to personalize your scrapbooks covers and spines. Prior to the event you will receive an Event Attendee’s survey\, please fill it out as soon as you get so that we can make every effort to accommodate your needs. \nCost: \n\n\n\n$190.00 for Crop fee and meals (hotel separate)\n$183.00 for Early bird payment\n\nA $100 deposit is due at the time of registration or NO later than 2 weeks after registration. Final payment dates are announced and need to be adhered to in order to retain your space. \n\n\n\n	Related
URL:https://lindacreates.com/event/harbor-scrapbooking-april-weekend-crop-in-pa/
LOCATION:Camp Hill Radison\, 1150 Camp Hill By Pass \, Camp Hill\, PA\, 17011\, United States
CATEGORIES:Weekend Events
ORGANIZER;CN="Harbor Scrapbooking":MAILTO:info@harborscrapbooking.com
GEO:40.2532481;-76.9148183
X-APPLE-STRUCTURED-LOCATION;VALUE=URI;X-ADDRESS=Camp Hill Radison 1150 Camp Hill By Pass  Camp Hill PA 17011 United States;X-APPLE-RADIUS=500;X-TITLE=1150 Camp Hill By Pass:geo:-76.9148183,40.2532481
END:VEVENT
BEGIN:VEVENT
DTSTART;TZID=America/Halifax:20160122T120000
DTEND;TZID=America/Halifax:20160124T120000
DTSTAMP:20260423T225223
CREATED:20151215T170731Z
LAST-MODIFIED:20151215T171325Z
UID:2825-1453464000-1453636800@lindacreates.com
SUMMARY:Harbor Scrapbooking January PA Weekend Crop
DESCRIPTION:Join us for the Nov Harbor Scrapbooking PA Retreat!  Camp Hill\, PA.\nEvery scrapbooker gets her own 6 FOOT CROP SPOT & power cords are conveniently located near each table grouping!\nThe crop room is large. Stay up until 3 a.m.\, wear your PJ’s\, leave your scrapbooking out overnight\, share ideas with your friends\, take scrapbooking technique classes\, and GET a massage. We have added a 3rd weekend event so that more scrapbookers have the opportunity to enjoy one of our events. \n\nIncludes: 6ft. crop spot\, 4 meals\, a scrapbooker’s goodie bag\, and MANY chances to win door prizes. \nVendors: Our vendors carry very large inventories. They provide all the basic supplies you will need plus all of the newest supplies and trends in scrapbooking. They are great teachers and love to take the time to show you a new technique\, help you find that perfect embellishment for your page or simply help you match colors on your layout. They also offer great scrapbook technique classes. \nServices: We provide onsite custom scanning and printing services as well as the use of self serve photo kiosk. An onsite massage therapist offers seated chair massages through out the weekend to relax your scrapbooking muscles. Spoil yourself with this great service. Finally\, we will have an album embosser on site to personalize your scrapbooks covers and spines. Prior to the event you will receive an Event Attendee’s survey\, please fill it out as soon as you get so that we can make every effort to accommodate your needs. \nCost: \n\n\n\n$190.00 for Crop fee and meals (hotel separate)\n$183.00 for Early bird payment\n\nA $100 deposit is due at the time of registration or NO later than 2 weeks after registration. Final payment dates are announced and need to be adhered to in order to retain your space. \n\n\n\n	Related
URL:https://lindacreates.com/event/harbor-scrapbooking-january-pa-weekend-crop/
LOCATION:Camp Hill Radison\, 1150 Camp Hill By Pass \, Camp Hill\, PA\, 17011\, United States
ORGANIZER;CN="Harbor Scrapbooking":MAILTO:info@harborscrapbooking.com
GEO:40.2532481;-76.9148183
X-APPLE-STRUCTURED-LOCATION;VALUE=URI;X-ADDRESS=Camp Hill Radison 1150 Camp Hill By Pass  Camp Hill PA 17011 United States;X-APPLE-RADIUS=500;X-TITLE=1150 Camp Hill By Pass:geo:-76.9148183,40.2532481
END:VEVENT
BEGIN:VEVENT
DTSTART;TZID=America/Halifax:20151113T120000
DTEND;TZID=America/Halifax:20151115T110000
DTSTAMP:20260423T225223
CREATED:20150630T122059Z
LAST-MODIFIED:20150630T174935Z
UID:1622-1447416000-1447585200@lindacreates.com
SUMMARY:Nov Harbor Scrapbooking PA Retreat
DESCRIPTION:Join us for the Nov Harbor Scrapbooking PA Retreat!  Camp Hill\, PA.\nEvery scrapbooker gets her own 6 FOOT CROP SPOT & power cords are conveniently located near each table grouping!\nThe crop room is large. Stay up until 3 a.m.\, wear your PJ’s\, leave your scrapbooking out overnight\, share ideas with your friends\, take scrapbooking technique classes\, and GET a massage. We have added a 3rd weekend event so that more scrapbookers have the opportunity to enjoy one of our events. \n\nIncludes: 6ft. crop spot\, 4 meals\, a scrapbooker’s goodie bag\, and MANY chances to win door prizes. \nVendors: Our vendors carry very large inventories. They provide all the basic supplies you will need plus all of the newest supplies and trends in scrapbooking. They are great teachers and love to take the time to show you a new technique\, help you find that perfect embellishment for your page or simply help you match colors on your layout. They also offer great scrapbook technique classes. \nServices: We provide onsite custom scanning and printing services as well as the use of self serve photo kiosk. An onsite massage therapist offers seated chair massages through out the weekend to relax your scrapbooking muscles. Spoil yourself with this great service. Finally\, we will have an album embosser on site to personalize your scrapbooks covers and spines. Prior to the event you will receive an Event Attendee’s survey\, please fill it out as soon as you get so that we can make every effort to accommodate your needs. \nCost: \n\n\n\n$190.00 for Crop fee and meals (hotel separate)\n$183.00 for Early bird payment\n\nA $100 deposit is due at the time of registration or NO later than 2 weeks after registration. Final payment dates are announced and need to be adhered to in order to retain your space. \n\n\n\n	Related
URL:https://lindacreates.com/event/nov-harbor-scrapbooking-pa-retreat/
LOCATION:Camp Hill Radison\, 1150 Camp Hill By Pass \, Camp Hill\, PA\, 17011\, United States
CATEGORIES:Crops,Weekend Events
ORGANIZER;CN="Harbor Scrapbooking":MAILTO:info@harborscrapbooking.com
GEO:40.2532481;-76.9148183
X-APPLE-STRUCTURED-LOCATION;VALUE=URI;X-ADDRESS=Camp Hill Radison 1150 Camp Hill By Pass  Camp Hill PA 17011 United States;X-APPLE-RADIUS=500;X-TITLE=1150 Camp Hill By Pass:geo:-76.9148183,40.2532481
END:VEVENT
BEGIN:VEVENT
DTSTART;VALUE=DATE:20151002
DTEND;VALUE=DATE:20151005
DTSTAMP:20260423T225223
CREATED:20150616T140000Z
LAST-MODIFIED:20150617T023223Z
UID:1434-1443744000-1444003199@lindacreates.com
SUMMARY:Harbor Scrapbooking PA Weekend Crop
DESCRIPTION:Harbor Scrapbooking is offering a great weekend crop in Camp Hill\, PA.  Come and join the fun: \nA venue with a crop room THIS awesome was hard to find. The new location had to fit our HIGH standards for SPACE\, LIGHTING\, 6 FT CROP SPOT\, NO STEPS INTO THE CROP ROOM\, ELECTRIC TO THE TABLES\, ETC. If you have been to our crops before\, you know that we won’t settle for less. \nThe crop room is located in a large convention center with easy access from the unloading area right into the crop room. We eat our four (4) provided meals and brownie/ice cream social in a separate banquet room. The hotel is attached to the convention center via an outside COVERED breeze way. Door to door\, the distance from the convention center to the hotel is 20-30 feet. There are a few steps or an available wheel chair ramp when moving from one building to the other. \nThe crop room is gorgeous and all the hotel rooms are newly renovated. \nOne Change to NOTE:\nThe one change that will take place at this venue is that you will have to reserve your own hotel room. This is the one unavoidable difference that cannot be helped. We have been doing events for 14 years and have always reserved the rooms for you. We hope that this change does not deter you too much from attending our events as ALL OTHER PERKS remain the same. It should take you 5-10 minutes to register for your hotel either by phone or by link that will be provided. One person from each room will need to handle this quick task. Our pricing structure has now changed to be a crop only weekend fee. Your hotel room is separate. Every effort has been made to keep the prices as close or less than the previous hotel included pricing. \nOur New Pricing structure is as follows: \nCrop ONLY Fee:\nIncludes: 6 foot cropping spot\, four (4) meals\, NEW ice cream sunday/brownie social\, attendee goodie bag\, snack table\, sodas\, coffee/water station\, crop tables with electric access\, and chances to win door prizes. (HOTEL ROOM NOT INCLUDED) \n$190 Crop only fee (regular pay Due 4/4/14)\n$183 EARLY BIRD PAY Crop only fee (Due 3/21/14)\n$100 deposit is due two weeks after registering (2/14/14). You can also choose to pay the Early Bird rate in full to save money. \nREGISTER NOW!! \n\n\n	Related
URL:https://lindacreates.com/event/harbor-scrapbooking-pa-weekend-crop/
LOCATION:Camp Hill Radison\, 1150 Camp Hill By Pass \, Camp Hill\, PA\, 17011\, United States
CATEGORIES:Crops,Weekend Events
ORGANIZER;CN="Harbor Scrapbooking":MAILTO:info@harborscrapbooking.com
GEO:40.2532481;-76.9148183
X-APPLE-STRUCTURED-LOCATION;VALUE=URI;X-ADDRESS=Camp Hill Radison 1150 Camp Hill By Pass  Camp Hill PA 17011 United States;X-APPLE-RADIUS=500;X-TITLE=1150 Camp Hill By Pass:geo:-76.9148183,40.2532481
END:VEVENT
END:VCALENDAR