BEGIN:VCALENDAR
VERSION:2.0
PRODID:-//Linda Creates - ECPv6.15.20//NONSGML v1.0//EN
CALSCALE:GREGORIAN
METHOD:PUBLISH
X-WR-CALNAME:Linda Creates
X-ORIGINAL-URL:https://lindacreates.com
X-WR-CALDESC:Events for Linda Creates
REFRESH-INTERVAL;VALUE=DURATION:PT1H
X-Robots-Tag:noindex
X-PUBLISHED-TTL:PT1H
BEGIN:VTIMEZONE
TZID:America/Halifax
BEGIN:DAYLIGHT
TZOFFSETFROM:-0400
TZOFFSETTO:-0300
TZNAME:ADT
DTSTART:20240310T060000
END:DAYLIGHT
BEGIN:STANDARD
TZOFFSETFROM:-0300
TZOFFSETTO:-0400
TZNAME:AST
DTSTART:20241103T050000
END:STANDARD
BEGIN:DAYLIGHT
TZOFFSETFROM:-0400
TZOFFSETTO:-0300
TZNAME:ADT
DTSTART:20250309T060000
END:DAYLIGHT
BEGIN:STANDARD
TZOFFSETFROM:-0300
TZOFFSETTO:-0400
TZNAME:AST
DTSTART:20251102T050000
END:STANDARD
BEGIN:DAYLIGHT
TZOFFSETFROM:-0400
TZOFFSETTO:-0300
TZNAME:ADT
DTSTART:20260308T060000
END:DAYLIGHT
BEGIN:STANDARD
TZOFFSETFROM:-0300
TZOFFSETTO:-0400
TZNAME:AST
DTSTART:20261101T050000
END:STANDARD
END:VTIMEZONE
BEGIN:VEVENT
DTSTART;TZID=America/Halifax:20250821T110000
DTEND;TZID=America/Halifax:20250821T160000
DTSTAMP:20260424T045401
CREATED:20161001T174459Z
LAST-MODIFIED:20161001T174459Z
UID:15515-1755774000-1755792000@lindacreates.com
SUMMARY:CTMH Store/Cropping Open
DESCRIPTION:The CTMH Store is open on Tuesday and Thursday\, from 11:00am to 4pm.  Join Diane and I as we work on our projects. \nPlease feel free to drop by to shop or crop.  If you want to crop/craft\, please call to check to see if we have space!  301.430.0606. \n\n\n	Related
URL:https://lindacreates.com/event/ctmh-storecropping-open-2/2025-08-21/
LOCATION:Linda’s Home\, Bowie\, MD\, 20716\, United States
END:VEVENT
BEGIN:VEVENT
DTSTART;TZID=America/Halifax:20250819T110000
DTEND;TZID=America/Halifax:20250819T160000
DTSTAMP:20260424T045401
CREATED:20161001T173812Z
LAST-MODIFIED:20161001T173812Z
UID:15514-1755601200-1755619200@lindacreates.com
SUMMARY:CTMH Store/Cropping Open
DESCRIPTION:The CTMH Store is open on Tuesday and Thursday\, from 11:00am to 4pm \nPlease feel free to drop by to shop or crop.  If you want to crop/craft\, please call to check to see if we have space!  301.430.0606. \n\n\n	Related
URL:https://lindacreates.com/event/ctmh-storecropping-open/2025-08-19/
LOCATION:Linda’s Home\, Bowie\, MD\, 20716\, United States
END:VEVENT
BEGIN:VEVENT
DTSTART;TZID=America/Halifax:20250814T110000
DTEND;TZID=America/Halifax:20250814T160000
DTSTAMP:20260424T045401
CREATED:20161001T174459Z
LAST-MODIFIED:20161001T174459Z
UID:15475-1755169200-1755187200@lindacreates.com
SUMMARY:CTMH Store/Cropping Open
DESCRIPTION:The CTMH Store is open on Tuesday and Thursday\, from 11:00am to 4pm.  Join Diane and I as we work on our projects. \nPlease feel free to drop by to shop or crop.  If you want to crop/craft\, please call to check to see if we have space!  301.430.0606. \n\n\n	Related
URL:https://lindacreates.com/event/ctmh-storecropping-open-2/2025-08-14/
LOCATION:Linda’s Home\, Bowie\, MD\, 20716\, United States
END:VEVENT
BEGIN:VEVENT
DTSTART;TZID=America/Halifax:20250812T110000
DTEND;TZID=America/Halifax:20250812T160000
DTSTAMP:20260424T045401
CREATED:20161001T173812Z
LAST-MODIFIED:20161001T173812Z
UID:15474-1754996400-1755014400@lindacreates.com
SUMMARY:CTMH Store/Cropping Open
DESCRIPTION:The CTMH Store is open on Tuesday and Thursday\, from 11:00am to 4pm \nPlease feel free to drop by to shop or crop.  If you want to crop/craft\, please call to check to see if we have space!  301.430.0606. \n\n\n	Related
URL:https://lindacreates.com/event/ctmh-storecropping-open/2025-08-12/
LOCATION:Linda’s Home\, Bowie\, MD\, 20716\, United States
END:VEVENT
BEGIN:VEVENT
DTSTART;TZID=America/Halifax:20250807T110000
DTEND;TZID=America/Halifax:20250807T160000
DTSTAMP:20260424T045401
CREATED:20161001T174459Z
LAST-MODIFIED:20161001T174459Z
UID:15473-1754564400-1754582400@lindacreates.com
SUMMARY:CTMH Store/Cropping Open
DESCRIPTION:The CTMH Store is open on Tuesday and Thursday\, from 11:00am to 4pm.  Join Diane and I as we work on our projects. \nPlease feel free to drop by to shop or crop.  If you want to crop/craft\, please call to check to see if we have space!  301.430.0606. \n\n\n	Related
URL:https://lindacreates.com/event/ctmh-storecropping-open-2/2025-08-07/
LOCATION:Linda’s Home\, Bowie\, MD\, 20716\, United States
END:VEVENT
BEGIN:VEVENT
DTSTART;TZID=America/Halifax:20250805T110000
DTEND;TZID=America/Halifax:20250805T160000
DTSTAMP:20260424T045401
CREATED:20161001T173812Z
LAST-MODIFIED:20161001T173812Z
UID:15472-1754391600-1754409600@lindacreates.com
SUMMARY:CTMH Store/Cropping Open
DESCRIPTION:The CTMH Store is open on Tuesday and Thursday\, from 11:00am to 4pm \nPlease feel free to drop by to shop or crop.  If you want to crop/craft\, please call to check to see if we have space!  301.430.0606. \n\n\n	Related
URL:https://lindacreates.com/event/ctmh-storecropping-open/2025-08-05/
LOCATION:Linda’s Home\, Bowie\, MD\, 20716\, United States
END:VEVENT
BEGIN:VEVENT
DTSTART;TZID=America/Halifax:20250731T110000
DTEND;TZID=America/Halifax:20250731T160000
DTSTAMP:20260424T045401
CREATED:20161001T174459Z
LAST-MODIFIED:20161001T174459Z
UID:15425-1753959600-1753977600@lindacreates.com
SUMMARY:CTMH Store/Cropping Open
DESCRIPTION:The CTMH Store is open on Tuesday and Thursday\, from 11:00am to 4pm.  Join Diane and I as we work on our projects. \nPlease feel free to drop by to shop or crop.  If you want to crop/craft\, please call to check to see if we have space!  301.430.0606. \n\n\n	Related
URL:https://lindacreates.com/event/ctmh-storecropping-open-2/2025-07-31/
LOCATION:Linda’s Home\, Bowie\, MD\, 20716\, United States
END:VEVENT
BEGIN:VEVENT
DTSTART;TZID=America/Halifax:20250729T110000
DTEND;TZID=America/Halifax:20250729T160000
DTSTAMP:20260424T045401
CREATED:20161001T173812Z
LAST-MODIFIED:20161001T173812Z
UID:15424-1753786800-1753804800@lindacreates.com
SUMMARY:CTMH Store/Cropping Open
DESCRIPTION:The CTMH Store is open on Tuesday and Thursday\, from 11:00am to 4pm \nPlease feel free to drop by to shop or crop.  If you want to crop/craft\, please call to check to see if we have space!  301.430.0606. \n\n\n	Related
URL:https://lindacreates.com/event/ctmh-storecropping-open/2025-07-29/
LOCATION:Linda’s Home\, Bowie\, MD\, 20716\, United States
END:VEVENT
BEGIN:VEVENT
DTSTART;TZID=America/Halifax:20250724T110000
DTEND;TZID=America/Halifax:20250724T160000
DTSTAMP:20260424T045401
CREATED:20161001T174459Z
LAST-MODIFIED:20161001T174459Z
UID:15423-1753354800-1753372800@lindacreates.com
SUMMARY:CTMH Store/Cropping Open
DESCRIPTION:The CTMH Store is open on Tuesday and Thursday\, from 11:00am to 4pm.  Join Diane and I as we work on our projects. \nPlease feel free to drop by to shop or crop.  If you want to crop/craft\, please call to check to see if we have space!  301.430.0606. \n\n\n	Related
URL:https://lindacreates.com/event/ctmh-storecropping-open-2/2025-07-24/
LOCATION:Linda’s Home\, Bowie\, MD\, 20716\, United States
END:VEVENT
BEGIN:VEVENT
DTSTART;TZID=America/Halifax:20250722T110000
DTEND;TZID=America/Halifax:20250722T160000
DTSTAMP:20260424T045401
CREATED:20161001T173812Z
LAST-MODIFIED:20161001T173812Z
UID:15422-1753182000-1753200000@lindacreates.com
SUMMARY:CTMH Store/Cropping Open
DESCRIPTION:The CTMH Store is open on Tuesday and Thursday\, from 11:00am to 4pm \nPlease feel free to drop by to shop or crop.  If you want to crop/craft\, please call to check to see if we have space!  301.430.0606. \n\n\n	Related
URL:https://lindacreates.com/event/ctmh-storecropping-open/2025-07-22/
LOCATION:Linda’s Home\, Bowie\, MD\, 20716\, United States
END:VEVENT
BEGIN:VEVENT
DTSTART;TZID=America/Halifax:20250717T110000
DTEND;TZID=America/Halifax:20250717T160000
DTSTAMP:20260424T045401
CREATED:20161001T174459Z
LAST-MODIFIED:20161001T174459Z
UID:15421-1752750000-1752768000@lindacreates.com
SUMMARY:CTMH Store/Cropping Open
DESCRIPTION:The CTMH Store is open on Tuesday and Thursday\, from 11:00am to 4pm.  Join Diane and I as we work on our projects. \nPlease feel free to drop by to shop or crop.  If you want to crop/craft\, please call to check to see if we have space!  301.430.0606. \n\n\n	Related
URL:https://lindacreates.com/event/ctmh-storecropping-open-2/2025-07-17/
LOCATION:Linda’s Home\, Bowie\, MD\, 20716\, United States
END:VEVENT
BEGIN:VEVENT
DTSTART;TZID=America/Halifax:20250715T110000
DTEND;TZID=America/Halifax:20250715T160000
DTSTAMP:20260424T045401
CREATED:20161001T173812Z
LAST-MODIFIED:20161001T173812Z
UID:15419-1752577200-1752595200@lindacreates.com
SUMMARY:CTMH Store/Cropping Open
DESCRIPTION:The CTMH Store is open on Tuesday and Thursday\, from 11:00am to 4pm \nPlease feel free to drop by to shop or crop.  If you want to crop/craft\, please call to check to see if we have space!  301.430.0606. \n\n\n	Related
URL:https://lindacreates.com/event/ctmh-storecropping-open/2025-07-15/
LOCATION:Linda’s Home\, Bowie\, MD\, 20716\, United States
END:VEVENT
BEGIN:VEVENT
DTSTART;TZID=America/Halifax:20250710T110000
DTEND;TZID=America/Halifax:20250710T160000
DTSTAMP:20260424T045401
CREATED:20161001T174459Z
LAST-MODIFIED:20161001T174459Z
UID:15418-1752145200-1752163200@lindacreates.com
SUMMARY:CTMH Store/Cropping Open
DESCRIPTION:The CTMH Store is open on Tuesday and Thursday\, from 11:00am to 4pm.  Join Diane and I as we work on our projects. \nPlease feel free to drop by to shop or crop.  If you want to crop/craft\, please call to check to see if we have space!  301.430.0606. \n\n\n	Related
URL:https://lindacreates.com/event/ctmh-storecropping-open-2/2025-07-10/
LOCATION:Linda’s Home\, Bowie\, MD\, 20716\, United States
END:VEVENT
BEGIN:VEVENT
DTSTART;TZID=America/Halifax:20250708T110000
DTEND;TZID=America/Halifax:20250708T160000
DTSTAMP:20260424T045401
CREATED:20161001T173812Z
LAST-MODIFIED:20161001T173812Z
UID:15383-1751972400-1751990400@lindacreates.com
SUMMARY:CTMH Store/Cropping Open
DESCRIPTION:The CTMH Store is open on Tuesday and Thursday\, from 11:00am to 4pm \nPlease feel free to drop by to shop or crop.  If you want to crop/craft\, please call to check to see if we have space!  301.430.0606. \n\n\n	Related
URL:https://lindacreates.com/event/ctmh-storecropping-open/2025-07-08/
LOCATION:Linda’s Home\, Bowie\, MD\, 20716\, United States
END:VEVENT
BEGIN:VEVENT
DTSTART;TZID=America/Halifax:20250703T110000
DTEND;TZID=America/Halifax:20250703T160000
DTSTAMP:20260424T045401
CREATED:20161001T174459Z
LAST-MODIFIED:20161001T174459Z
UID:15382-1751540400-1751558400@lindacreates.com
SUMMARY:CTMH Store/Cropping Open
DESCRIPTION:The CTMH Store is open on Tuesday and Thursday\, from 11:00am to 4pm.  Join Diane and I as we work on our projects. \nPlease feel free to drop by to shop or crop.  If you want to crop/craft\, please call to check to see if we have space!  301.430.0606. \n\n\n	Related
URL:https://lindacreates.com/event/ctmh-storecropping-open-2/2025-07-03/
LOCATION:Linda’s Home\, Bowie\, MD\, 20716\, United States
END:VEVENT
BEGIN:VEVENT
DTSTART;TZID=America/Halifax:20250701T110000
DTEND;TZID=America/Halifax:20250701T160000
DTSTAMP:20260424T045401
CREATED:20161001T173812Z
LAST-MODIFIED:20161001T173812Z
UID:15378-1751367600-1751385600@lindacreates.com
SUMMARY:CTMH Store/Cropping Open
DESCRIPTION:The CTMH Store is open on Tuesday and Thursday\, from 11:00am to 4pm \nPlease feel free to drop by to shop or crop.  If you want to crop/craft\, please call to check to see if we have space!  301.430.0606. \n\n\n	Related
URL:https://lindacreates.com/event/ctmh-storecropping-open/2025-07-01/
LOCATION:Linda’s Home\, Bowie\, MD\, 20716\, United States
END:VEVENT
BEGIN:VEVENT
DTSTART;TZID=America/Halifax:20250626T110000
DTEND;TZID=America/Halifax:20250626T160000
DTSTAMP:20260424T045401
CREATED:20161001T174459Z
LAST-MODIFIED:20161001T174459Z
UID:15341-1750935600-1750953600@lindacreates.com
SUMMARY:CTMH Store/Cropping Open
DESCRIPTION:The CTMH Store is open on Tuesday and Thursday\, from 11:00am to 4pm.  Join Diane and I as we work on our projects. \nPlease feel free to drop by to shop or crop.  If you want to crop/craft\, please call to check to see if we have space!  301.430.0606. \n\n\n	Related
URL:https://lindacreates.com/event/ctmh-storecropping-open-2/2025-06-26/
LOCATION:Linda’s Home\, Bowie\, MD\, 20716\, United States
END:VEVENT
BEGIN:VEVENT
DTSTART;TZID=America/Halifax:20250624T110000
DTEND;TZID=America/Halifax:20250624T160000
DTSTAMP:20260424T045401
CREATED:20161001T173812Z
LAST-MODIFIED:20161001T173812Z
UID:15340-1750762800-1750780800@lindacreates.com
SUMMARY:CTMH Store/Cropping Open
DESCRIPTION:The CTMH Store is open on Tuesday and Thursday\, from 11:00am to 4pm \nPlease feel free to drop by to shop or crop.  If you want to crop/craft\, please call to check to see if we have space!  301.430.0606. \n\n\n	Related
URL:https://lindacreates.com/event/ctmh-storecropping-open/2025-06-24/
LOCATION:Linda’s Home\, Bowie\, MD\, 20716\, United States
END:VEVENT
BEGIN:VEVENT
DTSTART;TZID=America/Halifax:20250619T110000
DTEND;TZID=America/Halifax:20250619T160000
DTSTAMP:20260424T045401
CREATED:20161001T174459Z
LAST-MODIFIED:20161001T174459Z
UID:15339-1750330800-1750348800@lindacreates.com
SUMMARY:CTMH Store/Cropping Open
DESCRIPTION:The CTMH Store is open on Tuesday and Thursday\, from 11:00am to 4pm.  Join Diane and I as we work on our projects. \nPlease feel free to drop by to shop or crop.  If you want to crop/craft\, please call to check to see if we have space!  301.430.0606. \n\n\n	Related
URL:https://lindacreates.com/event/ctmh-storecropping-open-2/2025-06-19/
LOCATION:Linda’s Home\, Bowie\, MD\, 20716\, United States
END:VEVENT
BEGIN:VEVENT
DTSTART;TZID=America/Halifax:20250617T110000
DTEND;TZID=America/Halifax:20250617T160000
DTSTAMP:20260424T045401
CREATED:20161001T173812Z
LAST-MODIFIED:20161001T173812Z
UID:15337-1750158000-1750176000@lindacreates.com
SUMMARY:CTMH Store/Cropping Open
DESCRIPTION:The CTMH Store is open on Tuesday and Thursday\, from 11:00am to 4pm \nPlease feel free to drop by to shop or crop.  If you want to crop/craft\, please call to check to see if we have space!  301.430.0606. \n\n\n	Related
URL:https://lindacreates.com/event/ctmh-storecropping-open/2025-06-17/
LOCATION:Linda’s Home\, Bowie\, MD\, 20716\, United States
END:VEVENT
BEGIN:VEVENT
DTSTART;TZID=America/Halifax:20250612T110000
DTEND;TZID=America/Halifax:20250612T160000
DTSTAMP:20260424T045401
CREATED:20161001T174459Z
LAST-MODIFIED:20161001T174459Z
UID:15336-1749726000-1749744000@lindacreates.com
SUMMARY:CTMH Store/Cropping Open
DESCRIPTION:The CTMH Store is open on Tuesday and Thursday\, from 11:00am to 4pm.  Join Diane and I as we work on our projects. \nPlease feel free to drop by to shop or crop.  If you want to crop/craft\, please call to check to see if we have space!  301.430.0606. \n\n\n	Related
URL:https://lindacreates.com/event/ctmh-storecropping-open-2/2025-06-12/
LOCATION:Linda’s Home\, Bowie\, MD\, 20716\, United States
END:VEVENT
BEGIN:VEVENT
DTSTART;TZID=America/Halifax:20250610T110000
DTEND;TZID=America/Halifax:20250610T160000
DTSTAMP:20260424T045401
CREATED:20161001T173812Z
LAST-MODIFIED:20161001T173812Z
UID:15334-1749553200-1749571200@lindacreates.com
SUMMARY:CTMH Store/Cropping Open
DESCRIPTION:The CTMH Store is open on Tuesday and Thursday\, from 11:00am to 4pm \nPlease feel free to drop by to shop or crop.  If you want to crop/craft\, please call to check to see if we have space!  301.430.0606. \n\n\n	Related
URL:https://lindacreates.com/event/ctmh-storecropping-open/2025-06-10/
LOCATION:Linda’s Home\, Bowie\, MD\, 20716\, United States
END:VEVENT
BEGIN:VEVENT
DTSTART;TZID=America/Halifax:20250605T110000
DTEND;TZID=America/Halifax:20250605T160000
DTSTAMP:20260424T045401
CREATED:20161001T174459Z
LAST-MODIFIED:20161001T174459Z
UID:15333-1749121200-1749139200@lindacreates.com
SUMMARY:CTMH Store/Cropping Open
DESCRIPTION:The CTMH Store is open on Tuesday and Thursday\, from 11:00am to 4pm.  Join Diane and I as we work on our projects. \nPlease feel free to drop by to shop or crop.  If you want to crop/craft\, please call to check to see if we have space!  301.430.0606. \n\n\n	Related
URL:https://lindacreates.com/event/ctmh-storecropping-open-2/2025-06-05/
LOCATION:Linda’s Home\, Bowie\, MD\, 20716\, United States
END:VEVENT
BEGIN:VEVENT
DTSTART;TZID=America/Halifax:20250603T110000
DTEND;TZID=America/Halifax:20250603T160000
DTSTAMP:20260424T045401
CREATED:20161001T173812Z
LAST-MODIFIED:20161001T173812Z
UID:15326-1748948400-1748966400@lindacreates.com
SUMMARY:CTMH Store/Cropping Open
DESCRIPTION:The CTMH Store is open on Tuesday and Thursday\, from 11:00am to 4pm \nPlease feel free to drop by to shop or crop.  If you want to crop/craft\, please call to check to see if we have space!  301.430.0606. \n\n\n	Related
URL:https://lindacreates.com/event/ctmh-storecropping-open/2025-06-03/
LOCATION:Linda’s Home\, Bowie\, MD\, 20716\, United States
END:VEVENT
BEGIN:VEVENT
DTSTART;TZID=America/Halifax:20250529T110000
DTEND;TZID=America/Halifax:20250529T160000
DTSTAMP:20260424T045401
CREATED:20161001T174459Z
LAST-MODIFIED:20161001T174459Z
UID:15304-1748516400-1748534400@lindacreates.com
SUMMARY:CTMH Store/Cropping Open
DESCRIPTION:The CTMH Store is open on Tuesday and Thursday\, from 11:00am to 4pm.  Join Diane and I as we work on our projects. \nPlease feel free to drop by to shop or crop.  If you want to crop/craft\, please call to check to see if we have space!  301.430.0606. \n\n\n	Related
URL:https://lindacreates.com/event/ctmh-storecropping-open-2/2025-05-29/
LOCATION:Linda’s Home\, Bowie\, MD\, 20716\, United States
END:VEVENT
BEGIN:VEVENT
DTSTART;TZID=America/Halifax:20250527T110000
DTEND;TZID=America/Halifax:20250527T160000
DTSTAMP:20260424T045401
CREATED:20161001T173812Z
LAST-MODIFIED:20161001T173812Z
UID:15303-1748343600-1748361600@lindacreates.com
SUMMARY:CTMH Store/Cropping Open
DESCRIPTION:The CTMH Store is open on Tuesday and Thursday\, from 11:00am to 4pm \nPlease feel free to drop by to shop or crop.  If you want to crop/craft\, please call to check to see if we have space!  301.430.0606. \n\n\n	Related
URL:https://lindacreates.com/event/ctmh-storecropping-open/2025-05-27/
LOCATION:Linda’s Home\, Bowie\, MD\, 20716\, United States
END:VEVENT
BEGIN:VEVENT
DTSTART;TZID=America/Halifax:20250522T110000
DTEND;TZID=America/Halifax:20250522T160000
DTSTAMP:20260424T045401
CREATED:20161001T174459Z
LAST-MODIFIED:20161001T174459Z
UID:15302-1747911600-1747929600@lindacreates.com
SUMMARY:CTMH Store/Cropping Open
DESCRIPTION:The CTMH Store is open on Tuesday and Thursday\, from 11:00am to 4pm.  Join Diane and I as we work on our projects. \nPlease feel free to drop by to shop or crop.  If you want to crop/craft\, please call to check to see if we have space!  301.430.0606. \n\n\n	Related
URL:https://lindacreates.com/event/ctmh-storecropping-open-2/2025-05-22/
LOCATION:Linda’s Home\, Bowie\, MD\, 20716\, United States
END:VEVENT
BEGIN:VEVENT
DTSTART;TZID=America/Halifax:20250520T110000
DTEND;TZID=America/Halifax:20250520T160000
DTSTAMP:20260424T045401
CREATED:20161001T173812Z
LAST-MODIFIED:20161001T173812Z
UID:15301-1747738800-1747756800@lindacreates.com
SUMMARY:CTMH Store/Cropping Open
DESCRIPTION:The CTMH Store is open on Tuesday and Thursday\, from 11:00am to 4pm \nPlease feel free to drop by to shop or crop.  If you want to crop/craft\, please call to check to see if we have space!  301.430.0606. \n\n\n	Related
URL:https://lindacreates.com/event/ctmh-storecropping-open/2025-05-20/
LOCATION:Linda’s Home\, Bowie\, MD\, 20716\, United States
END:VEVENT
BEGIN:VEVENT
DTSTART;TZID=America/Halifax:20250515T110000
DTEND;TZID=America/Halifax:20250515T160000
DTSTAMP:20260424T045401
CREATED:20161001T174459Z
LAST-MODIFIED:20161001T174459Z
UID:15299-1747306800-1747324800@lindacreates.com
SUMMARY:CTMH Store/Cropping Open
DESCRIPTION:The CTMH Store is open on Tuesday and Thursday\, from 11:00am to 4pm.  Join Diane and I as we work on our projects. \nPlease feel free to drop by to shop or crop.  If you want to crop/craft\, please call to check to see if we have space!  301.430.0606. \n\n\n	Related
URL:https://lindacreates.com/event/ctmh-storecropping-open-2/2025-05-15/
LOCATION:Linda’s Home\, Bowie\, MD\, 20716\, United States
END:VEVENT
BEGIN:VEVENT
DTSTART;TZID=America/Halifax:20250513T110000
DTEND;TZID=America/Halifax:20250513T160000
DTSTAMP:20260424T045401
CREATED:20161001T173812Z
LAST-MODIFIED:20161001T173812Z
UID:15298-1747134000-1747152000@lindacreates.com
SUMMARY:CTMH Store/Cropping Open
DESCRIPTION:The CTMH Store is open on Tuesday and Thursday\, from 11:00am to 4pm \nPlease feel free to drop by to shop or crop.  If you want to crop/craft\, please call to check to see if we have space!  301.430.0606. \n\n\n	Related
URL:https://lindacreates.com/event/ctmh-storecropping-open/2025-05-13/
LOCATION:Linda’s Home\, Bowie\, MD\, 20716\, United States
END:VEVENT
END:VCALENDAR