BEGIN:VCALENDAR
VERSION:2.0
PRODID:-//Linda Creates - ECPv6.15.20//NONSGML v1.0//EN
CALSCALE:GREGORIAN
METHOD:PUBLISH
X-WR-CALNAME:Linda Creates
X-ORIGINAL-URL:https://lindacreates.com
X-WR-CALDESC:Events for Linda Creates
REFRESH-INTERVAL;VALUE=DURATION:PT1H
X-Robots-Tag:noindex
X-PUBLISHED-TTL:PT1H
BEGIN:VTIMEZONE
TZID:America/Halifax
BEGIN:DAYLIGHT
TZOFFSETFROM:-0400
TZOFFSETTO:-0300
TZNAME:ADT
DTSTART:20140309T060000
END:DAYLIGHT
BEGIN:STANDARD
TZOFFSETFROM:-0300
TZOFFSETTO:-0400
TZNAME:AST
DTSTART:20141102T050000
END:STANDARD
BEGIN:DAYLIGHT
TZOFFSETFROM:-0400
TZOFFSETTO:-0300
TZNAME:ADT
DTSTART:20150308T060000
END:DAYLIGHT
BEGIN:STANDARD
TZOFFSETFROM:-0300
TZOFFSETTO:-0400
TZNAME:AST
DTSTART:20151101T050000
END:STANDARD
BEGIN:DAYLIGHT
TZOFFSETFROM:-0400
TZOFFSETTO:-0300
TZNAME:ADT
DTSTART:20160313T060000
END:DAYLIGHT
BEGIN:STANDARD
TZOFFSETFROM:-0300
TZOFFSETTO:-0400
TZNAME:AST
DTSTART:20161106T050000
END:STANDARD
END:VTIMEZONE
BEGIN:VEVENT
DTSTART;TZID=America/Halifax:20150919T120000
DTEND;TZID=America/Halifax:20150919T180000
DTSTAMP:20260425T073802
CREATED:20150629T234150Z
LAST-MODIFIED:20150913T192624Z
UID:1609-1442664000-1442685600@lindacreates.com
SUMMARY:Open House - New Annual Inspirations Release!
DESCRIPTION:Open House – New Annual Inspirations (AI) Release! \n \nLocation: My House (15003 Newcomb Lane\, Bowie\, MD  20716) \nTime: 12pm – 6pm. Drop-ins welcome. Come and go as your schedule permits. This is how you get your FREE Idea Book. \nRSVP by September 1\, 2014 and receive a New AI Survival Kit!  This is a fun kit to give you a giggle and help you indulge in the enjoyment of a new Annual Inspirations.  RSVP Now! \nMake and Take: Experiment with Base and Bling!!  Make a cute card!! \nFree Annual Inspirations and Holiday Expressions to everyone who comes by.  This is an $14.00 ($8.95 + $2.00 +  s/h/t) value! \nShop: Cash and Carry; Ordering \nArt: We’ll have a spread of new samples of cards and scrapbook pages to show off the new papers\, stamps\, and products in the new Annual Inspirations. Come and be inspired to create! \nDoor Prizes:   There will be a couple of different door prizes here.  You can win product\, a WOTG class\, a Come and Play Card Buffet\, and more.  You do not have to be present to win.   If you have placed an order online and attached it to the OPEN HOUSE Online Orders\, you will earn tickets into these drawings! \nTickets: How do you get tickets? \nRSVP = 1 Ticket (before 9/1/2015 you will also get a New AI Survival Kit) \nBring a Friend = 2 Tickets \nBring a new to me friend = 5 tickets \nDo a Make and Take = 1 Ticket \nEvery $25.00 you order or purchase: 1 Ticket \nSign up to host a crop/class/Card Buffet: 10 Tickets \nSign up as a new consultant: 20 Tickets \nHostess Gifts:   All will be given away in $20.00 increments.  Each 50% off item will be drawn separately.\nHow do we build the Hostess Credit and 50% off items?  Through orders/purchases.\nEverything that is purchased online and attached to the OPEN HOUSE Online Orders\, all orders placed on the 19th\, and all cash/carry orders will contribute to the total of the hostess credits!!  If you win\, you can choose My Reflection paper packs\, select cardstock packs\, ink pads\, mini pigments ink pads\, reinkers\, stamps\, blocks\, Shin Han Touch Markers\, Complements\,  Picture My Life\, Workshops on the Go\, and Studio J one layout.\n\n\n	Related
URL:https://lindacreates.com/event/open-house-new-annual-inspirations-release/
LOCATION:Linda’s Home\, Bowie\, MD\, 20716\, United States
CATEGORIES:Open House
END:VEVENT
BEGIN:VEVENT
DTSTART;TZID=America/Halifax:20150829T150000
DTEND;TZID=America/Halifax:20150829T210000
DTSTAMP:20260425T073802
CREATED:20150629T190624Z
LAST-MODIFIED:20150629T190624Z
UID:1598-1440860400-1440882000@lindacreates.com
SUMMARY:August Croptastic Time
DESCRIPTION:August Croptastic Time! \nCome and crop with us! From 3 – 9pm on Saturday you can work in my crop room. \nCroptastic Time!!Linda Creates ~ Linda Calerwww.lindacreates.com\nThe cost is $10.00/person. This includes:\n• 3 feet of table space\n• a drink holder/trash can at each spot\n• a goodie bag valued at $10.00\n• Free make and take\n• Use of the following: Gypsy\, Cricut Expressions\, Cricut Explorer\, stamps\, inks\, scrapbox (when we have one)\, punches/other tools\, idea books (multiple resources)\, Cuttlebug/Tim Holtz Embosser\, computer for journaling\, \nand more.\n• Cash and Carry will be available/Fieldtrips to ACMoore/Michael’s are 5-10 minutes away!\n• Come and Play Card Buffet (make 6 cards for $10.00) will be available should you run out of projects\n• Drinks (coffee\, espresso\,cappuccino\, tea (iced and hot)\, and water. I have cups/lids for everyone and to-go cups.\nDue to limited space\, pack lightly and there is a set of stairs coming down to the basement. \nFood: Everyone brings something to share or your own food. I’m also within a few minutes of several eateries. \nAllergy alert: We have dogs/birds/guinea pigs/fish – this also means we have hay and nuts. \nSlots are limited to the first 8 to pay: \n\n\n\n\n\n\n	Related
URL:https://lindacreates.com/event/august-croptastic-time/
LOCATION:Linda’s Home\, Bowie\, MD\, 20716\, United States
CATEGORIES:Crops
END:VEVENT
BEGIN:VEVENT
DTSTART;TZID=America/Halifax:20150829T120000
DTEND;TZID=America/Halifax:20150829T150000
DTSTAMP:20260425T073802
CREATED:20150629T193547Z
LAST-MODIFIED:20150629T193547Z
UID:1603-1440849600-1440860400@lindacreates.com
SUMMARY:SeaSide Class/Workshop On The Go
DESCRIPTION:Seaside Class Workshop on the Go – Aug 29\, 2015 – 12:00 – 3:00 \nThis is a great way to get your scrapbooking done. The featured kit for August is Seaside! The colors in these layouts are great for any season and many different events. They are subtle and distressed\, just as sand leaves things.  I used one for some pictures from my trip to Oregon last summer with my sister. Orders need to be in by Aug 13\, 2015. \nLayout 1: \nLayout 2: \nPlease note that my layouts will use additional stamps and supplies in addition to the WOTG materials. You can purchase the minimal kit to participate all the way up to a “Get It All”.   “Get It All” does not necessarily contain all materials used to create the layouts.  Orders for this must be received by July 7\, 2015 to participate. There is room for 7 people. \nYour options: \nBasic: Paper Pack and Coordinating Compliments ($15.00 plus s/h/t) = $18.00 (plus your free crop valued at $10.00)\nStep It Up (SIU): the above with the Coordinating Assortment ($22.00 plus s/h/t) = $26.00\nWOTG: Paper packet\, stamp set\, extra cardstock\, assortment\, extra embellishments\, and instructions ($30.00 plus s/h/t) = $35.00 (please note the Coordinating Compliments are not included in the WOTG)\nWhole Kit and Caboodle (WKC): WOTG kit plus Coordinating Compliments ($35.00 plus s/h/t) = $40.00 \n\n\n\n\nOptions\n\n\nBasic $18.00 USDStep It Up $26.00 USDWOTG $35.00 USDWOTG & Compliments $40.00 USD\n\n\n\n\n \nAdditional Supplies You Need: \nPaper Trimmer\nAdhesive of your choice\nScissors\n3-D Foam Tape \nGlue Dots\nJournaling Pens\nPictures\nFlip Flaps \n\n You can join this class until July 7\, 2015. See below for the list of supplies you need to bring to the class. \n\n\n	Related
URL:https://lindacreates.com/event/seaside-classworkshop-on-the-go/
LOCATION:Linda’s Home\, Bowie\, MD\, 20716\, United States
CATEGORIES:Workshops/Classes
END:VEVENT
BEGIN:VEVENT
DTSTART;TZID=America/Halifax:20150829T090000
DTEND;TZID=America/Halifax:20150829T230000
DTSTAMP:20260425T073802
CREATED:20150629T193819Z
LAST-MODIFIED:20150629T193819Z
UID:1604-1440838800-1440889200@lindacreates.com
SUMMARY:August Team Meeting
DESCRIPTION:Team Meeting: \nHow to do classes – make and create your own vs WOTG. \nMaking Bandaid Boxes (be watching for the post) \n\n\n	Related
URL:https://lindacreates.com/event/august-team-meeting/
LOCATION:Linda’s Home\, Bowie\, MD\, 20716\, United States
END:VEVENT
BEGIN:VEVENT
DTSTART;TZID=America/Halifax:20150829T030000
DTEND;TZID=America/Halifax:20150829T180000
DTSTAMP:20260425T073802
CREATED:20150629T172004Z
LAST-MODIFIED:20150629T190214Z
UID:1590-1440817200-1440871200@lindacreates.com
SUMMARY:Aug Come and Play Card Buffet
DESCRIPTION:The Aug Come and Play Card Buffet (CPCB) is a chance to come spend 3 hours making 5 cards for $10.00! Depending on your skill level\, there may be plenty of time for you to make additional cards. They are: $2.50/card after or another $10.00 for the next 5. This includes the envelopes. \nWe have a variety of options (10-25) cards that are pre-cut and ready for you to make them. There is some stamping and assembling required. You can learn new techniques\, try out new materials/embellishments\, bring a few friends\, relax\, and have fun! There is no pressure to purchase any additional products. You’ll need to bring adhesive (tape runner\, a glue pen\, and glue dots)\, scissors\, and 3D tape or dots. We provide the rest. Some items are available\, on hand\, to purchase if you don’t have or need to pick up \nYou can do this two ways: \n1) Come during the crop time and take this option. This is offered monthly. \n2) Set up your own time/class (with friends) to come over. Please call me to set up a time. \nHere are some pictures of samples (which may no longer be offered as the cards change after each CPCB) (Picture coming soon) \n\n \n\n\n\nDates\n\n\nJuly 18\, 2015 CPCBAugust 29\, 2015 CPCBSeptember 12\, 2015 CPCB\n\n\n\n\n \n\n\n\n	Related
URL:https://lindacreates.com/event/come-and-play-card-buffet-2/
LOCATION:Linda’s Home\, Bowie\, MD\, 20716\, United States
CATEGORIES:Come and Play Card Buffet
END:VEVENT
BEGIN:VEVENT
DTSTART;VALUE=DATE:20150721
DTEND;VALUE=DATE:20150819
DTSTAMP:20260425T073802
CREATED:20150629T171646Z
LAST-MODIFIED:20150629T171725Z
UID:1588-1437436800-1439942399@lindacreates.com
SUMMARY:Montana
DESCRIPTION:I’ll being in Montana for a few weeks to visit family and friends.  I’m looking for a few hostesses while I’m there.  Special gifts for those who volunteer to help me out! =) \nLinda \n\n\n	Related
URL:https://lindacreates.com/event/montana/
LOCATION:Montana\, Missoula\, MT\, 59806\, United States
END:VEVENT
BEGIN:VEVENT
DTSTART;TZID=America/Halifax:20150718T150000
DTEND;TZID=America/Halifax:20150718T210000
DTSTAMP:20260425T073802
CREATED:20150616T213611Z
LAST-MODIFIED:20150616T213611Z
UID:1429-1437231600-1437253200@lindacreates.com
SUMMARY:July's Croptastic Time!!
DESCRIPTION:Croptastic Time! \nCome and crop with us! From 3 – 9pm on Saturday you can work in my crop room. \nCroptastic Time!!Linda Creates ~ Linda Calerwww.lindacreates.com\nThe cost is $10.00/person. This includes:\n• 3 feet of table space\n• a drink holder/trash can at each spot\n• a goodie bag valued at $10.00\n• Free make and take\n• Use of the following: Gypsy\, Cricut Expressions\, Cricut Explorer\, stamps\, inks\, scrapbox (when we have one)\, punches/other tools\, idea books (multiple resources)\, Cuttlebug/Tim Holtz Embosser\, computer for journaling\, \nand more.\n• Cash and Carry will be available/Fieldtrips to ACMoore/Michael’s are 5-10 minutes away!\n• Come and Play Card Buffet (make 6 cards for $10.00) will be available should you run out of projects\n• Drinks (coffee\, espresso\,cappuccino\, tea (iced and hot)\, and water. I have cups/lids for everyone and to-go cups.\nDue to limited space\, pack lightly and there is a set of stairs coming down to the basement. \nFood: Everyone brings something to share or your own food. I’m also within a few minutes of several eateries. \nAllergy alert: We have dogs/birds/guinea pigs/fish – this also means we have hay and nuts. \nSlots are limited to the first 8 to pay: \n\n\n\n\n\n\n	Related
URL:https://lindacreates.com/event/julys-croptastic-time/
LOCATION:Linda’s Home\, Bowie\, MD\, 20716\, United States
CATEGORIES:Crops
END:VEVENT
BEGIN:VEVENT
DTSTART;TZID=America/Halifax:20150718T120000
DTEND;TZID=America/Halifax:20150718T150000
DTSTAMP:20260425T073802
CREATED:20150616T175808Z
LAST-MODIFIED:20150630T182400Z
UID:1419-1437220800-1437231600@lindacreates.com
SUMMARY:Blossom Workshop
DESCRIPTION:Blossom Workshop on the Go – July 18\, 2015 – 12:00 – 3:00 \nThis is a great way to get your scrapbooking done. The featured kit for July is Blossom!  The Workshop On The Go (WOTG) is for cards.  The stamp set is darling!!  So your options are different this go around then last month. Card WOTG:The colors in these layouts are great for any season and many different events. They are light and bright – I used one for some pictures from our trip to Hawaii. Orders need to be in by July 7\, 2015. \nLayout 1: \nBlossom Workshop LO1Linda Creates ~ Linda Calerwww.lindacreates.com\nLayout 2: \nBlossom Workshop LO1Linda Creates ~ Linda Calerwww.lindacreates.com\nPlease note that my layouts will use additional stamps and supplies in addition to the WOTG materials. You can purchase the minimal kit to participate all the way up to a “Get It All”.   “Get It All” does not necessarily contain all materials used to create the layouts.  Orders for this must be received by July 7\, 2015 to participate. There is room for 7 people. \nYour options: \nBasic: Paper Pack\, Coordinating Compliments\, Washi Tape $24.00 (plus your free crop valued at $10.00)\nCardmaking WOTG : $29.00 plus FREE Crop \n  \n\n \n\n\n\nOptions\n\n\nScrapbooking $24.00 USDCardmaking $29.00 USD\n\n\n\n\n\n \n\nAdditional Supplies You Need: \nPaper Trimmer\nAdhesive of your choice\nScissors\n3-D Foam Tape \nGlue Dots\nJournaling Pens\nPictures\nFlip Flaps \n\n You can join this class until July 7\, 2015. See below for the list of supplies you need to bring to the class. \n\n\n	Related
URL:https://lindacreates.com/event/ctmh-convention/
LOCATION:Linda’s Home\, Bowie\, MD\, 20716\, United States
CATEGORIES:Crops
END:VEVENT
BEGIN:VEVENT
DTSTART;TZID=America/Halifax:20150718T030000
DTEND;TZID=America/Halifax:20150718T180000
DTSTAMP:20260425T073802
CREATED:20150629T171242Z
LAST-MODIFIED:20150629T171829Z
UID:1587-1437188400-1437242400@lindacreates.com
SUMMARY:Come and Play Card Buffet
DESCRIPTION:The Come and Play Card Buffet (CPCB) is a chance to come spend 3 hours making 5 cards for $10.00!  Depending on your skill level\, there may be plenty of time for you to make additional cards.  They are: $2.50/card after or another $10.00 for the next 5.  This includes the envelopes. \nWe have a variety of options (10-25) cards that are pre-cut and ready for you to make them.  There is some stamping and assembling required.  You can learn new techniques\, try out new materials/embellishments\, bring a few friends\, relax\, and have fun!  There is no pressure to purchase any additional products.  You’ll need to bring adhesive (tape runner\, a glue pen\, and glue dots)\, scissors\, and 3D tape or dots.  We provide the rest.  Some items are available\, on hand\, to purchase if you don’t have or need to pick up \nYou can do this two ways: \n1) Come during the crop time and take this option.  This is offered monthly. \n2) Set up your own time/class (with friends) to come over.  Please call me to set up a time. \nHere are some pictures of samples (which may no longer be offered as the cards change after each CPCB) (Picture coming soon) \n\n \n\n\n\nDates\n\n\nJuly 18\, 2015 CPCBAugust 29\, 2015 CPCBSeptember 12\, 2015 CPCB\n\n\n\n\n \n\n\n\n	Related
URL:https://lindacreates.com/event/come-and-play-card-buffet/
LOCATION:Linda’s Home\, Bowie\, MD\, 20716\, United States
CATEGORIES:Come and Play Card Buffet
END:VEVENT
BEGIN:VEVENT
DTSTART;TZID=America/Halifax:20150613T150000
DTEND;TZID=America/Halifax:20150613T210000
DTSTAMP:20260425T073802
CREATED:20150610T181707Z
LAST-MODIFIED:20150610T181707Z
UID:1251-1434207600-1434229200@lindacreates.com
SUMMARY:Cropping! June 13\, 2015: 12pm to 9pm
DESCRIPTION:Cropping! June 13\, 2015: 12pm to 9pm \nCome and crop with us!  From 12pm – 9pm on Saturday you can work in my crop room.\nThe cost is $10.00/person.  This includes: \n\n3 feet of table space\na drink holder/trash can at each spot\na goodie bag valued at $10.00\nFree make&take\nUse of the following: Cricut\, Gypsy\, stamps\, inks\, scrapbox (when we have one)\, punches/other tools\,  idea books (multiple resources)\, Cuttlebug/Tim Holtz Embosser\, and more.\nDrinks (coffee\, espresso\,cappuccino\, tea (iced and hot)\, and water.  I have cups/lids for everyone and to-go cups.\n\nDue to limited space\, pack lightly and there is a set of stairs coming down to the basement. \nFood:  Everyone brings something to share or your own food. I’m also within a few minutes of several eateries. \nAllergy alert:  We have dogs/birds/guinea pigs/fish – this also means we have hay and nuts. \nSlots are limited to the first 8 to pay: \n\n\n\n\n\n\n	Related
URL:https://lindacreates.com/event/cropping-june-13-2015-12pm-to-9pm/
LOCATION:Linda’s Home\, Bowie\, MD\, 20716\, United States
END:VEVENT
BEGIN:VEVENT
DTSTART;TZID=America/Halifax:20150610T000000
DTEND;TZID=America/Halifax:20150610T150000
DTSTAMP:20260425T073802
CREATED:20150610T181005Z
LAST-MODIFIED:20150610T181005Z
UID:1243-1433894400-1433948400@lindacreates.com
SUMMARY:Jackson WOTG
DESCRIPTION:Jackson Workshop on the Go(G1091) – June 13\, 2015 – 12:00 – 3:00 \nThis is a great way to get your scrapbooking done.  The featured kit for June is Jackson!  The colors in these layouts are great for any season and many different events.  My layouts will be up soon. Orders need to be in by June 3 \, 2015.\nLayout 1: \n \nMy version: \nJackson Layout 1 WOTGLinda Creates ~ Linda Calerwww.lindacreates.com\nLayout 2: \n \nPlease note that my layouts will use additional stamps and supplies in addition to the WOTG materials.  You can purchase the minimal kit to participate all the way up to a “get it all”.  I will use other items\, like flip flaps\, other embellishments\, and items for techniques\, are not included in the “get it all”.  Some items for doing techniques are available to use at workshop. Orders for this must be received by June 3\, 2015 to place orders. \nYour Options (you buy through Paypal and I’ll place the actual order): \nBasic: Paper Pack and Coordinating Compliments ($15.00 plus s/h/t) = $18.00 (plus your free crop valued at $10.00)\nStep It Up (SIU): the above with the Coordinating Assortment ($22.00 plus s/h/t) = $26.00\nWOTG: Paper packet\, stamp set\, extra cardstock\, assortment\, extra embellishments\, and instructions ($30.00 plus s/h/t) = $35.00 (please note that the WOTG does not include the Coordinating Compliments).\nWhole Kit and Caboodle (WKC): WOTG kit plus Coordinating Compliments ($35.00 plus s/h/t) = $40.00 \n\n \n\n\n\nOptions\n\n\nBasic $18.00 USDStep It Up $26.00 USDWOTG $35.00 USDWOTG & Compliments $40.00 USD\n\n\n\n\n\n \n\nOn this layout\, I used the 4″x6″ flip flaps\, the mini assortment of flip flaps\, and My Crush Wildwood assortment.  These items are not included in the workshop.  They are available to purchase at the workshop. \nYou can join this class until June 3.  There are 4 spaces left.  See below for the list of supplies you need to bring to the class.\nAdditional Supplies You Need: \nPaper Trimmer\nAdhesive of your choice\nScissors\n3-D Foam Tape \nGlue Dots\nJournaling Pens\nPictures\nFlip Flaps \n\n\n	Related
URL:https://lindacreates.com/event/jackson-wotg/
LOCATION:Linda’s Home\, Bowie\, MD\, 20716\, United States
END:VEVENT
END:VCALENDAR