BEGIN:VCALENDAR
VERSION:2.0
PRODID:-//Linda Creates - ECPv6.15.20//NONSGML v1.0//EN
CALSCALE:GREGORIAN
METHOD:PUBLISH
X-ORIGINAL-URL:https://lindacreates.com
X-WR-CALDESC:Events for Linda Creates
REFRESH-INTERVAL;VALUE=DURATION:PT1H
X-Robots-Tag:noindex
X-PUBLISHED-TTL:PT1H
BEGIN:VTIMEZONE
TZID:America/Halifax
BEGIN:DAYLIGHT
TZOFFSETFROM:-0400
TZOFFSETTO:-0300
TZNAME:ADT
DTSTART:20140309T060000
END:DAYLIGHT
BEGIN:STANDARD
TZOFFSETFROM:-0300
TZOFFSETTO:-0400
TZNAME:AST
DTSTART:20141102T050000
END:STANDARD
BEGIN:DAYLIGHT
TZOFFSETFROM:-0400
TZOFFSETTO:-0300
TZNAME:ADT
DTSTART:20150308T060000
END:DAYLIGHT
BEGIN:STANDARD
TZOFFSETFROM:-0300
TZOFFSETTO:-0400
TZNAME:AST
DTSTART:20151101T050000
END:STANDARD
BEGIN:DAYLIGHT
TZOFFSETFROM:-0400
TZOFFSETTO:-0300
TZNAME:ADT
DTSTART:20160313T060000
END:DAYLIGHT
BEGIN:STANDARD
TZOFFSETFROM:-0300
TZOFFSETTO:-0400
TZNAME:AST
DTSTART:20161106T050000
END:STANDARD
BEGIN:DAYLIGHT
TZOFFSETFROM:-0400
TZOFFSETTO:-0300
TZNAME:ADT
DTSTART:20170312T060000
END:DAYLIGHT
BEGIN:STANDARD
TZOFFSETFROM:-0300
TZOFFSETTO:-0400
TZNAME:AST
DTSTART:20171105T050000
END:STANDARD
BEGIN:DAYLIGHT
TZOFFSETFROM:-0400
TZOFFSETTO:-0300
TZNAME:ADT
DTSTART:20180311T060000
END:DAYLIGHT
BEGIN:STANDARD
TZOFFSETFROM:-0300
TZOFFSETTO:-0400
TZNAME:AST
DTSTART:20181104T050000
END:STANDARD
END:VTIMEZONE
BEGIN:VEVENT
DTSTART;TZID=America/Halifax:20171109T170000
DTEND;TZID=America/Halifax:20171112T120000
DTSTAMP:20260424T001840
CREATED:20171001T221114Z
LAST-MODIFIED:20171001T222406Z
UID:6930-1510246800-1510488000@lindacreates.com
SUMMARY:WISP Crop (I'll be here Thursday and Friday)
DESCRIPTION:Mardi Gras  SCRAPBOOK RETREAT\nWisp Resort\nNovember 9 – 12\, 2017 \nDiscover Deep Creek Lake during this weekend of scrapbooking with family and friends. \nVendors will be on hand with supplies and instruction. \nTwo easy steps to register: \n1. Fill out the registration form and return to:\nChrista Wildesen\n242 Wood Street\, Westernport MD 21562\n(814) 289-6904 or cwildone@gmail.com \n\nCall Wisp Resort 301.387.4000 Identify yourself with Group ID 3360 between the hours of 8 am- 7pm and make your room reservation.\n\nGuest Rooms: \nQueen Deluxe $94 per night (2 Queen beds) \nStandard Queen Efficiency: $94 per night (1 Queen\,1 Queen pull out couch) \nQueen Suite: $104 per night (1 Queen\, 1 Queen Murphy Bed) \nDouble Suite: $114 per night (2 double beds\, 1 Queen Murphy) \n(tax/resort fee additional to above rates) \nNote: ALL croppers/Vendors are Required to purchase the breakfast package $10 day (Pay on the day you crop.) \nMardi Gras Scrapbooking Party\nNovember 9 – 12\, 2017\nWisp Ski Resort\nRegistration Form\n\nComplete and return to Christa Wildesen at:\n242 Wood St.\, Westernport\, MD 21562\n814-289-6904 or cwildone@gmail.com \n  \n\n\n\nName: \n \n \nVendor:\n \nCropper:\n \n\n\nAddress:\n \nCity:\n \nState:\n \n\n\nZip\n \n \nPhone\n \n \nEmail\n \n\n\n\n\n\n\n\n\n\n\n\n\n\n\n\n\n\n\n\n\n\n\n\n  \nRegistration fee $65 BEFORE October 10   $75 AFTER October 10  \nCropper Registration Fee:  $65 per person – includes registration and facility use\, one 6’table\nVendors Only:            $65 per Company   10×10 space        + $10 per crop table (if cropping) \n*Cropping Hours: Thursday\, 11/7 (10 am) through Sunday\, 11/12 (4pm). \nCircle below what pertains to you: \n  \nRegistration:  Yes    No                  Cost:______________________ \nVendor:          Yes    No                 Cost:______________________ \n  \nTotal:_____________________ \n  \nMethod of Payment: Enclosed Check:__________  Credit Card:_________ (please check one) \n  \n  \nMake checks payable to Christa Wildesen \nCredit Card Number:____________________________________  Expiration Date: _________\nSignature of Card Holder:________________________________ \n  \n\n\n	Related
URL:https://lindacreates.com/event/wisp-crop-formally-canaan-valley/
LOCATION:WISP Resort in Deep Creek MD\, 296 Marsh Hill Road\, McHenry\, MD\, 21541\, United States
CATEGORIES:Weekend Events
ORGANIZER;CN="Christa Wildesen":MAILTO:cwildone@gmail.com
GEO:39.557199;-79.363217
X-APPLE-STRUCTURED-LOCATION;VALUE=URI;X-ADDRESS=WISP Resort in Deep Creek MD 296 Marsh Hill Road McHenry MD 21541 United States;X-APPLE-RADIUS=500;X-TITLE=296 Marsh Hill Road:geo:-79.363217,39.557199
END:VEVENT
BEGIN:VEVENT
DTSTART;VALUE=DATE:20170406
DTEND;VALUE=DATE:20170410
DTSTAMP:20260424T001840
CREATED:20170202T033119Z
LAST-MODIFIED:20170202T033119Z
UID:5229-1491436800-1491782399@lindacreates.com
SUMMARY:Alpine Lakes/Canaan Valley Crop
DESCRIPTION:Alpine Lake Resort Crop (formally Canaan Valley Crop) \nCome join us cropping in the beautiful West Virginia Mountains.  I’ve been cropping and vending with this awesome group of ladies since SG was 15 months old.  Christa Wildesen is the organizer and you’ll find her information below.  Don’t miss this wonderful getaway.  Bring the family along – there is a lot for them to do. \n \nPlease contact Christa Wildesen for your registration form! \n\n\n	Related
URL:https://lindacreates.com/event/alpine-lakescanaan-valley-crop/
LOCATION:Alpine Lake Resort\, 700 West Alpine Drive \, Terra Alta\, WV \, 26764
CATEGORIES:Crops,Weekend Events
ORGANIZER;CN="Christa Wildesen":MAILTO:cwildone@gmail.com
GEO:39.4632829;-79.496296
X-APPLE-STRUCTURED-LOCATION;VALUE=URI;X-ADDRESS=Alpine Lake Resort 700 West Alpine Drive  Terra Alta WV  26764;X-APPLE-RADIUS=500;X-TITLE=700 West Alpine Drive:geo:-79.496296,39.4632829
END:VEVENT
BEGIN:VEVENT
DTSTART;TZID=America/Halifax:20160421T160000
DTEND;TZID=America/Halifax:20160424T120000
DTSTAMP:20260424T001840
CREATED:20160222T175952Z
LAST-MODIFIED:20160223T200117Z
UID:3290-1461254400-1461499200@lindacreates.com
SUMMARY:Roaring 20's Canaan Resort Crop
DESCRIPTION:Roaring 20’s\nSCRAPBOOK RETREAT\nCanaan Valley Resort State Park\nApril 21-24 \nDiscover Canaan Valley Resort during\nthis weekend of scrapbooking with family and friends.\nVendors will be on hand with supplies and instruction.\nTwo easy steps to register:\n 1. Fill out the registration form and return to:\nChristaWildesen\n242Wood Street\,Westernport MD 21562\n(814) 289-6904 or cwildone@gmail.com\n2. Call Canaan Valley Resort at (800) 622-4121\nand make your room reservation.\nIdentify yourself as being with the Scrapbook Retreat to receive discount rates:\nGuest Rooms: $89 per night (single/double occupancy)\nKing Suite $129 night\n4 Bedroom Cottage: $225 per night\nCabins: 3 Bed $150 per night & 4 Bed $170 per night\n(tax/resort fee additional to above rates)\n-$10 per person will be added for triple/quad occupancy in guest rooms.\n-Standard queen or king lodge rooms available at this rate only.\nCottage sleeps up to 14 people. 3 Bed Cabin sleeps 5-6 people. 4 Bed Cabin sleeps 6-8 people. \nRegistration form: 20s (6) Roaring 20_s-1\n  \n  \n  \n  \n  \n\n\n	Related
URL:https://lindacreates.com/event/canaan-valley-resort-crop/
LOCATION:Canaan Valley Resort\, 230 Main Lodge Rd.\, Davis\, WV\, 26260\, United States
CATEGORIES:Crops,Weekend Events
ORGANIZER;CN="Christa Wildesen":MAILTO:cwildone@gmail.com
GEO:39.0242855;-79.4650593
X-APPLE-STRUCTURED-LOCATION;VALUE=URI;X-ADDRESS=Canaan Valley Resort 230 Main Lodge Rd. Davis WV 26260 United States;X-APPLE-RADIUS=500;X-TITLE=230 Main Lodge Rd.:geo:-79.4650593,39.0242855
END:VEVENT
BEGIN:VEVENT
DTSTART;TZID=America/Halifax:20151105T170000
DTEND;TZID=America/Halifax:20151108T120000
DTSTAMP:20260424T001840
CREATED:20150630T114311Z
LAST-MODIFIED:20150630T120824Z
UID:1617-1446742800-1446984000@lindacreates.com
SUMMARY:WV Canaan Valley Resort Crop
DESCRIPTION:WV Canaan Valley Resort Crop – 70’s Disco Theme \nDiscover Canaan Valley Resort during this weekend of scrapbooking with family and friends. Vendors will be on hand with supplies and instruction.  I’ve been vendoring at these events for the past 3-4 years. The group is awesome\, laid back\, and a lot of fun. Christa has a theme for each weekend.  The ladies dress up and have a great time.  Music to match.  Different food options\, including bringing your own.   Canaan Valley’s beauty is something you have to personally experience.  The resort is on a protected wildlife area so you see critters driving from the lodging to the ski resort (where the crop is located) \nThis is also a great place to bring your family if you choose to do so.  There is golfing\, hiking\, biking\, caves to explore\, and more (Resort Activities)!  The Resort offers the following services on location:  Indoor and Outdoor pools\, gym\, food\, spa services\, arcade!  Some of it available by just walking out of your room/cabin!  Others in the area (Area Attractions).  There is a fantastic coffee shop in Davis proper along with some great eateries.   This is Jeff and SG’s favorite crop location!! \n(Pictures to Come) \nTwo easy steps to register: \n1. Fill out the registration form and return to:\n Christa Wildesen\n242 Wood Street\, Westernport MD 21562\n(814) 289-6904 or cwildone@gmail.com\n2. Call Canaan Valley Resort at (800) 622-4121\nand make your room reservation.\nIdentify yourself as being with the Scrapbook Retreat to receive discount rates: \nGuest Rooms: $99 per night (single/double occupancy)\n4 Bedroom Cottage: $219 per night\nCabins: 3 Bed $139 per night & 4 Bed $159 per night\n(tax/resort fee additional to above rates) \nView Lodging Options \n-$10 per person will be added for triple/quad occupancy in guest rooms.\n-Standard queen or king lodge rooms available at this rate only.\nCottage sleeps up to 14 people. 3 Bed Cabin sleeps 5-6 people. 4 Bed Cabin sleeps 6-8 people \nRegistration Form – Canaan Valley ScrapbookRetreatFall15-front \n  \n\n\n	Related
URL:https://lindacreates.com/event/wv-canaan-valley-resort-crop/
LOCATION:Canaan Valley Resort\, 230 Main Lodge Rd.\, Davis\, WV\, 26260\, United States
CATEGORIES:Weekend Events
ORGANIZER;CN="Christa Wildesen":MAILTO:cwildone@gmail.com
GEO:39.0242855;-79.4650593
X-APPLE-STRUCTURED-LOCATION;VALUE=URI;X-ADDRESS=Canaan Valley Resort 230 Main Lodge Rd. Davis WV 26260 United States;X-APPLE-RADIUS=500;X-TITLE=230 Main Lodge Rd.:geo:-79.4650593,39.0242855
END:VEVENT
END:VCALENDAR