BEGIN:VCALENDAR
VERSION:2.0
PRODID:-//Linda Creates - ECPv6.15.20//NONSGML v1.0//EN
CALSCALE:GREGORIAN
METHOD:PUBLISH
X-ORIGINAL-URL:https://lindacreates.com
X-WR-CALDESC:Events for Linda Creates
REFRESH-INTERVAL;VALUE=DURATION:PT1H
X-Robots-Tag:noindex
X-PUBLISHED-TTL:PT1H
BEGIN:VTIMEZONE
TZID:America/Halifax
BEGIN:DAYLIGHT
TZOFFSETFROM:-0400
TZOFFSETTO:-0300
TZNAME:ADT
DTSTART:20260308T060000
END:DAYLIGHT
BEGIN:STANDARD
TZOFFSETFROM:-0300
TZOFFSETTO:-0400
TZNAME:AST
DTSTART:20261101T050000
END:STANDARD
BEGIN:DAYLIGHT
TZOFFSETFROM:-0400
TZOFFSETTO:-0300
TZNAME:ADT
DTSTART:20270314T060000
END:DAYLIGHT
BEGIN:STANDARD
TZOFFSETFROM:-0300
TZOFFSETTO:-0400
TZNAME:AST
DTSTART:20271107T050000
END:STANDARD
BEGIN:DAYLIGHT
TZOFFSETFROM:-0400
TZOFFSETTO:-0300
TZNAME:ADT
DTSTART:20280312T060000
END:DAYLIGHT
BEGIN:STANDARD
TZOFFSETFROM:-0300
TZOFFSETTO:-0400
TZNAME:AST
DTSTART:20281105T050000
END:STANDARD
END:VTIMEZONE
BEGIN:VEVENT
DTSTART;TZID=America/Halifax:20271202T110000
DTEND;TZID=America/Halifax:20271202T160000
DTSTAMP:20260424T231639
CREATED:20161001T174459Z
LAST-MODIFIED:20161001T174459Z
UID:16297-1827745200-1827763200@lindacreates.com
SUMMARY:CTMH Store/Cropping Open
DESCRIPTION:The CTMH Store is open on Tuesday and Thursday\, from 11:00am to 4pm.  Join Diane and I as we work on our projects. \nPlease feel free to drop by to shop or crop.  If you want to crop/craft\, please call to check to see if we have space!  301.430.0606.
URL:https://lindacreates.com/event/ctmh-storecropping-open-2/2027-12-02/
LOCATION:Linda’s Home\, Bowie\, MD\, 20716\, United States
END:VEVENT
BEGIN:VEVENT
DTSTART;TZID=America/Halifax:20271207T110000
DTEND;TZID=America/Halifax:20271207T160000
DTSTAMP:20260424T231639
CREATED:20161001T173812Z
LAST-MODIFIED:20161001T173812Z
UID:16298-1828177200-1828195200@lindacreates.com
SUMMARY:CTMH Store/Cropping Open
DESCRIPTION:The CTMH Store is open on Tuesday and Thursday\, from 11:00am to 4pm \nPlease feel free to drop by to shop or crop.  If you want to crop/craft\, please call to check to see if we have space!  301.430.0606.
URL:https://lindacreates.com/event/ctmh-storecropping-open/2027-12-07/
LOCATION:Linda’s Home\, Bowie\, MD\, 20716\, United States
END:VEVENT
BEGIN:VEVENT
DTSTART;TZID=America/Halifax:20271209T110000
DTEND;TZID=America/Halifax:20271209T160000
DTSTAMP:20260424T231639
CREATED:20161001T174459Z
LAST-MODIFIED:20161001T174459Z
UID:16300-1828350000-1828368000@lindacreates.com
SUMMARY:CTMH Store/Cropping Open
DESCRIPTION:The CTMH Store is open on Tuesday and Thursday\, from 11:00am to 4pm.  Join Diane and I as we work on our projects. \nPlease feel free to drop by to shop or crop.  If you want to crop/craft\, please call to check to see if we have space!  301.430.0606.
URL:https://lindacreates.com/event/ctmh-storecropping-open-2/2027-12-09/
LOCATION:Linda’s Home\, Bowie\, MD\, 20716\, United States
END:VEVENT
BEGIN:VEVENT
DTSTART;TZID=America/Halifax:20271214T110000
DTEND;TZID=America/Halifax:20271214T160000
DTSTAMP:20260424T231639
CREATED:20161001T173812Z
LAST-MODIFIED:20161001T173812Z
UID:16301-1828782000-1828800000@lindacreates.com
SUMMARY:CTMH Store/Cropping Open
DESCRIPTION:The CTMH Store is open on Tuesday and Thursday\, from 11:00am to 4pm \nPlease feel free to drop by to shop or crop.  If you want to crop/craft\, please call to check to see if we have space!  301.430.0606.
URL:https://lindacreates.com/event/ctmh-storecropping-open/2027-12-14/
LOCATION:Linda’s Home\, Bowie\, MD\, 20716\, United States
END:VEVENT
BEGIN:VEVENT
DTSTART;TZID=America/Halifax:20271216T110000
DTEND;TZID=America/Halifax:20271216T160000
DTSTAMP:20260424T231639
CREATED:20161001T174459Z
LAST-MODIFIED:20161001T174459Z
UID:16302-1828954800-1828972800@lindacreates.com
SUMMARY:CTMH Store/Cropping Open
DESCRIPTION:The CTMH Store is open on Tuesday and Thursday\, from 11:00am to 4pm.  Join Diane and I as we work on our projects. \nPlease feel free to drop by to shop or crop.  If you want to crop/craft\, please call to check to see if we have space!  301.430.0606.
URL:https://lindacreates.com/event/ctmh-storecropping-open-2/2027-12-16/
LOCATION:Linda’s Home\, Bowie\, MD\, 20716\, United States
END:VEVENT
BEGIN:VEVENT
DTSTART;TZID=America/Halifax:20271221T110000
DTEND;TZID=America/Halifax:20271221T160000
DTSTAMP:20260424T231639
CREATED:20161001T173812Z
LAST-MODIFIED:20161001T173812Z
UID:16304-1829386800-1829404800@lindacreates.com
SUMMARY:CTMH Store/Cropping Open
DESCRIPTION:The CTMH Store is open on Tuesday and Thursday\, from 11:00am to 4pm \nPlease feel free to drop by to shop or crop.  If you want to crop/craft\, please call to check to see if we have space!  301.430.0606.
URL:https://lindacreates.com/event/ctmh-storecropping-open/2027-12-21/
LOCATION:Linda’s Home\, Bowie\, MD\, 20716\, United States
END:VEVENT
BEGIN:VEVENT
DTSTART;TZID=America/Halifax:20271223T110000
DTEND;TZID=America/Halifax:20271223T160000
DTSTAMP:20260424T231639
CREATED:20161001T174459Z
LAST-MODIFIED:20161001T174459Z
UID:16305-1829559600-1829577600@lindacreates.com
SUMMARY:CTMH Store/Cropping Open
DESCRIPTION:The CTMH Store is open on Tuesday and Thursday\, from 11:00am to 4pm.  Join Diane and I as we work on our projects. \nPlease feel free to drop by to shop or crop.  If you want to crop/craft\, please call to check to see if we have space!  301.430.0606.
URL:https://lindacreates.com/event/ctmh-storecropping-open-2/2027-12-23/
LOCATION:Linda’s Home\, Bowie\, MD\, 20716\, United States
END:VEVENT
BEGIN:VEVENT
DTSTART;TZID=America/Halifax:20271228T110000
DTEND;TZID=America/Halifax:20271228T160000
DTSTAMP:20260424T231639
CREATED:20161001T173812Z
LAST-MODIFIED:20161001T173812Z
UID:16306-1829991600-1830009600@lindacreates.com
SUMMARY:CTMH Store/Cropping Open
DESCRIPTION:The CTMH Store is open on Tuesday and Thursday\, from 11:00am to 4pm \nPlease feel free to drop by to shop or crop.  If you want to crop/craft\, please call to check to see if we have space!  301.430.0606.
URL:https://lindacreates.com/event/ctmh-storecropping-open/2027-12-28/
LOCATION:Linda’s Home\, Bowie\, MD\, 20716\, United States
END:VEVENT
BEGIN:VEVENT
DTSTART;TZID=America/Halifax:20271230T110000
DTEND;TZID=America/Halifax:20271230T160000
DTSTAMP:20260424T231639
CREATED:20161001T174459Z
LAST-MODIFIED:20161001T174459Z
UID:16307-1830164400-1830182400@lindacreates.com
SUMMARY:CTMH Store/Cropping Open
DESCRIPTION:The CTMH Store is open on Tuesday and Thursday\, from 11:00am to 4pm.  Join Diane and I as we work on our projects. \nPlease feel free to drop by to shop or crop.  If you want to crop/craft\, please call to check to see if we have space!  301.430.0606.
URL:https://lindacreates.com/event/ctmh-storecropping-open-2/2027-12-30/
LOCATION:Linda’s Home\, Bowie\, MD\, 20716\, United States
END:VEVENT
END:VCALENDAR