BEGIN:VCALENDAR
VERSION:2.0
PRODID:-//Linda Creates - ECPv6.15.20//NONSGML v1.0//EN
CALSCALE:GREGORIAN
METHOD:PUBLISH
X-WR-CALNAME:Linda Creates
X-ORIGINAL-URL:https://lindacreates.com
X-WR-CALDESC:Events for Linda Creates
REFRESH-INTERVAL;VALUE=DURATION:PT1H
X-Robots-Tag:noindex
X-PUBLISHED-TTL:PT1H
BEGIN:VTIMEZONE
TZID:America/Halifax
BEGIN:DAYLIGHT
TZOFFSETFROM:-0400
TZOFFSETTO:-0300
TZNAME:ADT
DTSTART:20260308T060000
END:DAYLIGHT
BEGIN:STANDARD
TZOFFSETFROM:-0300
TZOFFSETTO:-0400
TZNAME:AST
DTSTART:20261101T050000
END:STANDARD
BEGIN:DAYLIGHT
TZOFFSETFROM:-0400
TZOFFSETTO:-0300
TZNAME:ADT
DTSTART:20270314T060000
END:DAYLIGHT
BEGIN:STANDARD
TZOFFSETFROM:-0300
TZOFFSETTO:-0400
TZNAME:AST
DTSTART:20271107T050000
END:STANDARD
BEGIN:DAYLIGHT
TZOFFSETFROM:-0400
TZOFFSETTO:-0300
TZNAME:ADT
DTSTART:20280312T060000
END:DAYLIGHT
BEGIN:STANDARD
TZOFFSETFROM:-0300
TZOFFSETTO:-0400
TZNAME:AST
DTSTART:20281105T050000
END:STANDARD
END:VTIMEZONE
BEGIN:VEVENT
DTSTART;TZID=America/Halifax:20271102T110000
DTEND;TZID=America/Halifax:20271102T160000
DTSTAMP:20260424T215751
CREATED:20161001T173812Z
LAST-MODIFIED:20161001T173812Z
UID:16286-1825153200-1825171200@lindacreates.com
SUMMARY:CTMH Store/Cropping Open
DESCRIPTION:The CTMH Store is open on Tuesday and Thursday\, from 11:00am to 4pm \nPlease feel free to drop by to shop or crop.  If you want to crop/craft\, please call to check to see if we have space!  301.430.0606.
URL:https://lindacreates.com/event/ctmh-storecropping-open/2027-11-02/
LOCATION:Linda’s Home\, Bowie\, MD\, 20716\, United States
END:VEVENT
BEGIN:VEVENT
DTSTART;TZID=America/Halifax:20271104T110000
DTEND;TZID=America/Halifax:20271104T160000
DTSTAMP:20260424T215751
CREATED:20161001T174459Z
LAST-MODIFIED:20161001T174459Z
UID:16287-1825326000-1825344000@lindacreates.com
SUMMARY:CTMH Store/Cropping Open
DESCRIPTION:The CTMH Store is open on Tuesday and Thursday\, from 11:00am to 4pm.  Join Diane and I as we work on our projects. \nPlease feel free to drop by to shop or crop.  If you want to crop/craft\, please call to check to see if we have space!  301.430.0606.
URL:https://lindacreates.com/event/ctmh-storecropping-open-2/2027-11-04/
LOCATION:Linda’s Home\, Bowie\, MD\, 20716\, United States
END:VEVENT
BEGIN:VEVENT
DTSTART;TZID=America/Halifax:20271109T110000
DTEND;TZID=America/Halifax:20271109T160000
DTSTAMP:20260424T215751
CREATED:20161001T173812Z
LAST-MODIFIED:20161001T173812Z
UID:16289-1825758000-1825776000@lindacreates.com
SUMMARY:CTMH Store/Cropping Open
DESCRIPTION:The CTMH Store is open on Tuesday and Thursday\, from 11:00am to 4pm \nPlease feel free to drop by to shop or crop.  If you want to crop/craft\, please call to check to see if we have space!  301.430.0606.
URL:https://lindacreates.com/event/ctmh-storecropping-open/2027-11-09/
LOCATION:Linda’s Home\, Bowie\, MD\, 20716\, United States
END:VEVENT
BEGIN:VEVENT
DTSTART;TZID=America/Halifax:20271111T110000
DTEND;TZID=America/Halifax:20271111T160000
DTSTAMP:20260424T215751
CREATED:20161001T174459Z
LAST-MODIFIED:20161001T174459Z
UID:16290-1825930800-1825948800@lindacreates.com
SUMMARY:CTMH Store/Cropping Open
DESCRIPTION:The CTMH Store is open on Tuesday and Thursday\, from 11:00am to 4pm.  Join Diane and I as we work on our projects. \nPlease feel free to drop by to shop or crop.  If you want to crop/craft\, please call to check to see if we have space!  301.430.0606.
URL:https://lindacreates.com/event/ctmh-storecropping-open-2/2027-11-11/
LOCATION:Linda’s Home\, Bowie\, MD\, 20716\, United States
END:VEVENT
BEGIN:VEVENT
DTSTART;TZID=America/Halifax:20271116T110000
DTEND;TZID=America/Halifax:20271116T160000
DTSTAMP:20260424T215751
CREATED:20161001T173812Z
LAST-MODIFIED:20161001T173812Z
UID:16291-1826362800-1826380800@lindacreates.com
SUMMARY:CTMH Store/Cropping Open
DESCRIPTION:The CTMH Store is open on Tuesday and Thursday\, from 11:00am to 4pm \nPlease feel free to drop by to shop or crop.  If you want to crop/craft\, please call to check to see if we have space!  301.430.0606.
URL:https://lindacreates.com/event/ctmh-storecropping-open/2027-11-16/
LOCATION:Linda’s Home\, Bowie\, MD\, 20716\, United States
END:VEVENT
BEGIN:VEVENT
DTSTART;TZID=America/Halifax:20271118T110000
DTEND;TZID=America/Halifax:20271118T160000
DTSTAMP:20260424T215751
CREATED:20161001T174459Z
LAST-MODIFIED:20161001T174459Z
UID:16292-1826535600-1826553600@lindacreates.com
SUMMARY:CTMH Store/Cropping Open
DESCRIPTION:The CTMH Store is open on Tuesday and Thursday\, from 11:00am to 4pm.  Join Diane and I as we work on our projects. \nPlease feel free to drop by to shop or crop.  If you want to crop/craft\, please call to check to see if we have space!  301.430.0606.
URL:https://lindacreates.com/event/ctmh-storecropping-open-2/2027-11-18/
LOCATION:Linda’s Home\, Bowie\, MD\, 20716\, United States
END:VEVENT
BEGIN:VEVENT
DTSTART;TZID=America/Halifax:20271123T110000
DTEND;TZID=America/Halifax:20271123T160000
DTSTAMP:20260424T215751
CREATED:20161001T173812Z
LAST-MODIFIED:20161001T173812Z
UID:16293-1826967600-1826985600@lindacreates.com
SUMMARY:CTMH Store/Cropping Open
DESCRIPTION:The CTMH Store is open on Tuesday and Thursday\, from 11:00am to 4pm \nPlease feel free to drop by to shop or crop.  If you want to crop/craft\, please call to check to see if we have space!  301.430.0606.
URL:https://lindacreates.com/event/ctmh-storecropping-open/2027-11-23/
LOCATION:Linda’s Home\, Bowie\, MD\, 20716\, United States
END:VEVENT
BEGIN:VEVENT
DTSTART;TZID=America/Halifax:20271125T110000
DTEND;TZID=America/Halifax:20271125T160000
DTSTAMP:20260424T215751
CREATED:20161001T174459Z
LAST-MODIFIED:20161001T174459Z
UID:16295-1827140400-1827158400@lindacreates.com
SUMMARY:CTMH Store/Cropping Open
DESCRIPTION:The CTMH Store is open on Tuesday and Thursday\, from 11:00am to 4pm.  Join Diane and I as we work on our projects. \nPlease feel free to drop by to shop or crop.  If you want to crop/craft\, please call to check to see if we have space!  301.430.0606.
URL:https://lindacreates.com/event/ctmh-storecropping-open-2/2027-11-25/
LOCATION:Linda’s Home\, Bowie\, MD\, 20716\, United States
END:VEVENT
BEGIN:VEVENT
DTSTART;TZID=America/Halifax:20271130T110000
DTEND;TZID=America/Halifax:20271130T160000
DTSTAMP:20260424T215751
CREATED:20161001T173812Z
LAST-MODIFIED:20161001T173812Z
UID:16296-1827572400-1827590400@lindacreates.com
SUMMARY:CTMH Store/Cropping Open
DESCRIPTION:The CTMH Store is open on Tuesday and Thursday\, from 11:00am to 4pm \nPlease feel free to drop by to shop or crop.  If you want to crop/craft\, please call to check to see if we have space!  301.430.0606.
URL:https://lindacreates.com/event/ctmh-storecropping-open/2027-11-30/
LOCATION:Linda’s Home\, Bowie\, MD\, 20716\, United States
END:VEVENT
END:VCALENDAR