BEGIN:VCALENDAR
VERSION:2.0
PRODID:-//Linda Creates - ECPv6.15.20//NONSGML v1.0//EN
CALSCALE:GREGORIAN
METHOD:PUBLISH
X-ORIGINAL-URL:https://lindacreates.com
X-WR-CALDESC:Events for Linda Creates
REFRESH-INTERVAL;VALUE=DURATION:PT1H
X-Robots-Tag:noindex
X-PUBLISHED-TTL:PT1H
BEGIN:VTIMEZONE
TZID:America/Halifax
BEGIN:DAYLIGHT
TZOFFSETFROM:-0400
TZOFFSETTO:-0300
TZNAME:ADT
DTSTART:20250309T060000
END:DAYLIGHT
BEGIN:STANDARD
TZOFFSETFROM:-0300
TZOFFSETTO:-0400
TZNAME:AST
DTSTART:20251102T050000
END:STANDARD
BEGIN:DAYLIGHT
TZOFFSETFROM:-0400
TZOFFSETTO:-0300
TZNAME:ADT
DTSTART:20260308T060000
END:DAYLIGHT
BEGIN:STANDARD
TZOFFSETFROM:-0300
TZOFFSETTO:-0400
TZNAME:AST
DTSTART:20261101T050000
END:STANDARD
BEGIN:DAYLIGHT
TZOFFSETFROM:-0400
TZOFFSETTO:-0300
TZNAME:ADT
DTSTART:20270314T060000
END:DAYLIGHT
BEGIN:STANDARD
TZOFFSETFROM:-0300
TZOFFSETTO:-0400
TZNAME:AST
DTSTART:20271107T050000
END:STANDARD
END:VTIMEZONE
BEGIN:VEVENT
DTSTART;TZID=America/Halifax:20260505T110000
DTEND;TZID=America/Halifax:20260505T160000
DTSTAMP:20260423T213104
CREATED:20161001T173812Z
LAST-MODIFIED:20161001T173812Z
UID:15919-1777978800-1777996800@lindacreates.com
SUMMARY:CTMH Store/Cropping Open
DESCRIPTION:The CTMH Store is open on Tuesday and Thursday\, from 11:00am to 4pm \nPlease feel free to drop by to shop or crop.  If you want to crop/craft\, please call to check to see if we have space!  301.430.0606.
URL:https://lindacreates.com/event/ctmh-storecropping-open/2026-05-05/
LOCATION:Linda’s Home\, Bowie\, MD\, 20716\, United States
END:VEVENT
BEGIN:VEVENT
DTSTART;TZID=America/Halifax:20260507T110000
DTEND;TZID=America/Halifax:20260507T160000
DTSTAMP:20260423T213104
CREATED:20161001T174459Z
LAST-MODIFIED:20161001T174459Z
UID:15920-1778151600-1778169600@lindacreates.com
SUMMARY:CTMH Store/Cropping Open
DESCRIPTION:The CTMH Store is open on Tuesday and Thursday\, from 11:00am to 4pm.  Join Diane and I as we work on our projects. \nPlease feel free to drop by to shop or crop.  If you want to crop/craft\, please call to check to see if we have space!  301.430.0606.
URL:https://lindacreates.com/event/ctmh-storecropping-open-2/2026-05-07/
LOCATION:Linda’s Home\, Bowie\, MD\, 20716\, United States
END:VEVENT
BEGIN:VEVENT
DTSTART;TZID=America/Halifax:20260512T110000
DTEND;TZID=America/Halifax:20260512T160000
DTSTAMP:20260423T213104
CREATED:20161001T173812Z
LAST-MODIFIED:20161001T173812Z
UID:15921-1778583600-1778601600@lindacreates.com
SUMMARY:CTMH Store/Cropping Open
DESCRIPTION:The CTMH Store is open on Tuesday and Thursday\, from 11:00am to 4pm \nPlease feel free to drop by to shop or crop.  If you want to crop/craft\, please call to check to see if we have space!  301.430.0606.
URL:https://lindacreates.com/event/ctmh-storecropping-open/2026-05-12/
LOCATION:Linda’s Home\, Bowie\, MD\, 20716\, United States
END:VEVENT
BEGIN:VEVENT
DTSTART;TZID=America/Halifax:20260514T110000
DTEND;TZID=America/Halifax:20260514T160000
DTSTAMP:20260423T213104
CREATED:20161001T174459Z
LAST-MODIFIED:20161001T174459Z
UID:15922-1778756400-1778774400@lindacreates.com
SUMMARY:CTMH Store/Cropping Open
DESCRIPTION:The CTMH Store is open on Tuesday and Thursday\, from 11:00am to 4pm.  Join Diane and I as we work on our projects. \nPlease feel free to drop by to shop or crop.  If you want to crop/craft\, please call to check to see if we have space!  301.430.0606.
URL:https://lindacreates.com/event/ctmh-storecropping-open-2/2026-05-14/
LOCATION:Linda’s Home\, Bowie\, MD\, 20716\, United States
END:VEVENT
BEGIN:VEVENT
DTSTART;TZID=America/Halifax:20260519T110000
DTEND;TZID=America/Halifax:20260519T160000
DTSTAMP:20260423T213104
CREATED:20161001T173812Z
LAST-MODIFIED:20161001T173812Z
UID:15924-1779188400-1779206400@lindacreates.com
SUMMARY:CTMH Store/Cropping Open
DESCRIPTION:The CTMH Store is open on Tuesday and Thursday\, from 11:00am to 4pm \nPlease feel free to drop by to shop or crop.  If you want to crop/craft\, please call to check to see if we have space!  301.430.0606.
URL:https://lindacreates.com/event/ctmh-storecropping-open/2026-05-19/
LOCATION:Linda’s Home\, Bowie\, MD\, 20716\, United States
END:VEVENT
BEGIN:VEVENT
DTSTART;TZID=America/Halifax:20260521T110000
DTEND;TZID=America/Halifax:20260521T160000
DTSTAMP:20260423T213104
CREATED:20161001T174459Z
LAST-MODIFIED:20161001T174459Z
UID:15925-1779361200-1779379200@lindacreates.com
SUMMARY:CTMH Store/Cropping Open
DESCRIPTION:The CTMH Store is open on Tuesday and Thursday\, from 11:00am to 4pm.  Join Diane and I as we work on our projects. \nPlease feel free to drop by to shop or crop.  If you want to crop/craft\, please call to check to see if we have space!  301.430.0606.
URL:https://lindacreates.com/event/ctmh-storecropping-open-2/2026-05-21/
LOCATION:Linda’s Home\, Bowie\, MD\, 20716\, United States
END:VEVENT
BEGIN:VEVENT
DTSTART;TZID=America/Halifax:20260526T110000
DTEND;TZID=America/Halifax:20260526T160000
DTSTAMP:20260423T213104
CREATED:20161001T173812Z
LAST-MODIFIED:20161001T173812Z
UID:15926-1779793200-1779811200@lindacreates.com
SUMMARY:CTMH Store/Cropping Open
DESCRIPTION:The CTMH Store is open on Tuesday and Thursday\, from 11:00am to 4pm \nPlease feel free to drop by to shop or crop.  If you want to crop/craft\, please call to check to see if we have space!  301.430.0606.
URL:https://lindacreates.com/event/ctmh-storecropping-open/2026-05-26/
LOCATION:Linda’s Home\, Bowie\, MD\, 20716\, United States
END:VEVENT
BEGIN:VEVENT
DTSTART;TZID=America/Halifax:20260528T110000
DTEND;TZID=America/Halifax:20260528T160000
DTSTAMP:20260423T213104
CREATED:20161001T174459Z
LAST-MODIFIED:20161001T174459Z
UID:15927-1779966000-1779984000@lindacreates.com
SUMMARY:CTMH Store/Cropping Open
DESCRIPTION:The CTMH Store is open on Tuesday and Thursday\, from 11:00am to 4pm.  Join Diane and I as we work on our projects. \nPlease feel free to drop by to shop or crop.  If you want to crop/craft\, please call to check to see if we have space!  301.430.0606.
URL:https://lindacreates.com/event/ctmh-storecropping-open-2/2026-05-28/
LOCATION:Linda’s Home\, Bowie\, MD\, 20716\, United States
END:VEVENT
END:VCALENDAR