BEGIN:VCALENDAR
VERSION:2.0
PRODID:-//Linda Creates - ECPv6.15.20//NONSGML v1.0//EN
CALSCALE:GREGORIAN
METHOD:PUBLISH
X-ORIGINAL-URL:https://lindacreates.com
X-WR-CALDESC:Events for Linda Creates
REFRESH-INTERVAL;VALUE=DURATION:PT1H
X-Robots-Tag:noindex
X-PUBLISHED-TTL:PT1H
BEGIN:VTIMEZONE
TZID:America/Halifax
BEGIN:DAYLIGHT
TZOFFSETFROM:-0400
TZOFFSETTO:-0300
TZNAME:ADT
DTSTART:20240310T060000
END:DAYLIGHT
BEGIN:STANDARD
TZOFFSETFROM:-0300
TZOFFSETTO:-0400
TZNAME:AST
DTSTART:20241103T050000
END:STANDARD
BEGIN:DAYLIGHT
TZOFFSETFROM:-0400
TZOFFSETTO:-0300
TZNAME:ADT
DTSTART:20250309T060000
END:DAYLIGHT
BEGIN:STANDARD
TZOFFSETFROM:-0300
TZOFFSETTO:-0400
TZNAME:AST
DTSTART:20251102T050000
END:STANDARD
BEGIN:DAYLIGHT
TZOFFSETFROM:-0400
TZOFFSETTO:-0300
TZNAME:ADT
DTSTART:20260308T060000
END:DAYLIGHT
BEGIN:STANDARD
TZOFFSETFROM:-0300
TZOFFSETTO:-0400
TZNAME:AST
DTSTART:20261101T050000
END:STANDARD
END:VTIMEZONE
BEGIN:VEVENT
DTSTART;TZID=America/Halifax:20251202T110000
DTEND;TZID=America/Halifax:20251202T160000
DTSTAMP:20260424T015005
CREATED:20161001T173812Z
LAST-MODIFIED:20161001T173812Z
UID:15782-1764673200-1764691200@lindacreates.com
SUMMARY:CTMH Store/Cropping Open
DESCRIPTION:The CTMH Store is open on Tuesday and Thursday\, from 11:00am to 4pm \nPlease feel free to drop by to shop or crop.  If you want to crop/craft\, please call to check to see if we have space!  301.430.0606.
URL:https://lindacreates.com/event/ctmh-storecropping-open/2025-12-02/
LOCATION:Linda’s Home\, Bowie\, MD\, 20716\, United States
END:VEVENT
BEGIN:VEVENT
DTSTART;TZID=America/Halifax:20251204T110000
DTEND;TZID=America/Halifax:20251204T160000
DTSTAMP:20260424T015005
CREATED:20161001T174459Z
LAST-MODIFIED:20161001T174459Z
UID:15784-1764846000-1764864000@lindacreates.com
SUMMARY:CTMH Store/Cropping Open
DESCRIPTION:The CTMH Store is open on Tuesday and Thursday\, from 11:00am to 4pm.  Join Diane and I as we work on our projects. \nPlease feel free to drop by to shop or crop.  If you want to crop/craft\, please call to check to see if we have space!  301.430.0606.
URL:https://lindacreates.com/event/ctmh-storecropping-open-2/2025-12-04/
LOCATION:Linda’s Home\, Bowie\, MD\, 20716\, United States
END:VEVENT
BEGIN:VEVENT
DTSTART;TZID=America/Halifax:20251209T110000
DTEND;TZID=America/Halifax:20251209T160000
DTSTAMP:20260424T015005
CREATED:20161001T173812Z
LAST-MODIFIED:20161001T173812Z
UID:15785-1765278000-1765296000@lindacreates.com
SUMMARY:CTMH Store/Cropping Open
DESCRIPTION:The CTMH Store is open on Tuesday and Thursday\, from 11:00am to 4pm \nPlease feel free to drop by to shop or crop.  If you want to crop/craft\, please call to check to see if we have space!  301.430.0606.
URL:https://lindacreates.com/event/ctmh-storecropping-open/2025-12-09/
LOCATION:Linda’s Home\, Bowie\, MD\, 20716\, United States
END:VEVENT
BEGIN:VEVENT
DTSTART;TZID=America/Halifax:20251211T110000
DTEND;TZID=America/Halifax:20251211T160000
DTSTAMP:20260424T015005
CREATED:20161001T174459Z
LAST-MODIFIED:20161001T174459Z
UID:15786-1765450800-1765468800@lindacreates.com
SUMMARY:CTMH Store/Cropping Open
DESCRIPTION:The CTMH Store is open on Tuesday and Thursday\, from 11:00am to 4pm.  Join Diane and I as we work on our projects. \nPlease feel free to drop by to shop or crop.  If you want to crop/craft\, please call to check to see if we have space!  301.430.0606.
URL:https://lindacreates.com/event/ctmh-storecropping-open-2/2025-12-11/
LOCATION:Linda’s Home\, Bowie\, MD\, 20716\, United States
END:VEVENT
BEGIN:VEVENT
DTSTART;TZID=America/Halifax:20251216T110000
DTEND;TZID=America/Halifax:20251216T160000
DTSTAMP:20260424T015005
CREATED:20161001T173812Z
LAST-MODIFIED:20161001T173812Z
UID:15787-1765882800-1765900800@lindacreates.com
SUMMARY:CTMH Store/Cropping Open
DESCRIPTION:The CTMH Store is open on Tuesday and Thursday\, from 11:00am to 4pm \nPlease feel free to drop by to shop or crop.  If you want to crop/craft\, please call to check to see if we have space!  301.430.0606.
URL:https://lindacreates.com/event/ctmh-storecropping-open/2025-12-16/
LOCATION:Linda’s Home\, Bowie\, MD\, 20716\, United States
END:VEVENT
BEGIN:VEVENT
DTSTART;TZID=America/Halifax:20251218T110000
DTEND;TZID=America/Halifax:20251218T160000
DTSTAMP:20260424T015005
CREATED:20161001T174459Z
LAST-MODIFIED:20161001T174459Z
UID:15788-1766055600-1766073600@lindacreates.com
SUMMARY:CTMH Store/Cropping Open
DESCRIPTION:The CTMH Store is open on Tuesday and Thursday\, from 11:00am to 4pm.  Join Diane and I as we work on our projects. \nPlease feel free to drop by to shop or crop.  If you want to crop/craft\, please call to check to see if we have space!  301.430.0606.
URL:https://lindacreates.com/event/ctmh-storecropping-open-2/2025-12-18/
LOCATION:Linda’s Home\, Bowie\, MD\, 20716\, United States
END:VEVENT
BEGIN:VEVENT
DTSTART;TZID=America/Halifax:20251223T110000
DTEND;TZID=America/Halifax:20251223T160000
DTSTAMP:20260424T015005
CREATED:20161001T173812Z
LAST-MODIFIED:20161001T173812Z
UID:15790-1766487600-1766505600@lindacreates.com
SUMMARY:CTMH Store/Cropping Open
DESCRIPTION:The CTMH Store is open on Tuesday and Thursday\, from 11:00am to 4pm \nPlease feel free to drop by to shop or crop.  If you want to crop/craft\, please call to check to see if we have space!  301.430.0606.
URL:https://lindacreates.com/event/ctmh-storecropping-open/2025-12-23/
LOCATION:Linda’s Home\, Bowie\, MD\, 20716\, United States
END:VEVENT
BEGIN:VEVENT
DTSTART;TZID=America/Halifax:20251225T110000
DTEND;TZID=America/Halifax:20251225T160000
DTSTAMP:20260424T015005
CREATED:20161001T174459Z
LAST-MODIFIED:20161001T174459Z
UID:15791-1766660400-1766678400@lindacreates.com
SUMMARY:CTMH Store/Cropping Open
DESCRIPTION:The CTMH Store is open on Tuesday and Thursday\, from 11:00am to 4pm.  Join Diane and I as we work on our projects. \nPlease feel free to drop by to shop or crop.  If you want to crop/craft\, please call to check to see if we have space!  301.430.0606.
URL:https://lindacreates.com/event/ctmh-storecropping-open-2/2025-12-25/
LOCATION:Linda’s Home\, Bowie\, MD\, 20716\, United States
END:VEVENT
BEGIN:VEVENT
DTSTART;TZID=America/Halifax:20251230T110000
DTEND;TZID=America/Halifax:20251230T160000
DTSTAMP:20260424T015005
CREATED:20161001T173812Z
LAST-MODIFIED:20161001T173812Z
UID:15792-1767092400-1767110400@lindacreates.com
SUMMARY:CTMH Store/Cropping Open
DESCRIPTION:The CTMH Store is open on Tuesday and Thursday\, from 11:00am to 4pm \nPlease feel free to drop by to shop or crop.  If you want to crop/craft\, please call to check to see if we have space!  301.430.0606.
URL:https://lindacreates.com/event/ctmh-storecropping-open/2025-12-30/
LOCATION:Linda’s Home\, Bowie\, MD\, 20716\, United States
END:VEVENT
END:VCALENDAR