BEGIN:VCALENDAR
VERSION:2.0
PRODID:-//Linda Creates - ECPv6.15.20//NONSGML v1.0//EN
CALSCALE:GREGORIAN
METHOD:PUBLISH
X-ORIGINAL-URL:https://lindacreates.com
X-WR-CALDESC:Events for Linda Creates
REFRESH-INTERVAL;VALUE=DURATION:PT1H
X-Robots-Tag:noindex
X-PUBLISHED-TTL:PT1H
BEGIN:VTIMEZONE
TZID:America/Halifax
BEGIN:DAYLIGHT
TZOFFSETFROM:-0400
TZOFFSETTO:-0300
TZNAME:ADT
DTSTART:20240310T060000
END:DAYLIGHT
BEGIN:STANDARD
TZOFFSETFROM:-0300
TZOFFSETTO:-0400
TZNAME:AST
DTSTART:20241103T050000
END:STANDARD
BEGIN:DAYLIGHT
TZOFFSETFROM:-0400
TZOFFSETTO:-0300
TZNAME:ADT
DTSTART:20250309T060000
END:DAYLIGHT
BEGIN:STANDARD
TZOFFSETFROM:-0300
TZOFFSETTO:-0400
TZNAME:AST
DTSTART:20251102T050000
END:STANDARD
BEGIN:DAYLIGHT
TZOFFSETFROM:-0400
TZOFFSETTO:-0300
TZNAME:ADT
DTSTART:20260308T060000
END:DAYLIGHT
BEGIN:STANDARD
TZOFFSETFROM:-0300
TZOFFSETTO:-0400
TZNAME:AST
DTSTART:20261101T050000
END:STANDARD
END:VTIMEZONE
BEGIN:VEVENT
DTSTART;TZID=America/Halifax:20250102T110000
DTEND;TZID=America/Halifax:20250102T160000
DTSTAMP:20260424T160833
CREATED:20161001T174459Z
LAST-MODIFIED:20161001T174459Z
UID:14944-1735815600-1735833600@lindacreates.com
SUMMARY:CTMH Store/Cropping Open
DESCRIPTION:The CTMH Store is open on Tuesday and Thursday\, from 11:00am to 4pm.  Join Diane and I as we work on our projects. \nPlease feel free to drop by to shop or crop.  If you want to crop/craft\, please call to check to see if we have space!  301.430.0606.
URL:https://lindacreates.com/event/ctmh-storecropping-open-2/2025-01-02/
LOCATION:Linda’s Home\, Bowie\, MD\, 20716\, United States
END:VEVENT
BEGIN:VEVENT
DTSTART;TZID=America/Halifax:20250107T110000
DTEND;TZID=America/Halifax:20250107T160000
DTSTAMP:20260424T160833
CREATED:20161001T173812Z
LAST-MODIFIED:20161001T173812Z
UID:14946-1736247600-1736265600@lindacreates.com
SUMMARY:CTMH Store/Cropping Open
DESCRIPTION:The CTMH Store is open on Tuesday and Thursday\, from 11:00am to 4pm \nPlease feel free to drop by to shop or crop.  If you want to crop/craft\, please call to check to see if we have space!  301.430.0606.
URL:https://lindacreates.com/event/ctmh-storecropping-open/2025-01-07/
LOCATION:Linda’s Home\, Bowie\, MD\, 20716\, United States
END:VEVENT
BEGIN:VEVENT
DTSTART;TZID=America/Halifax:20250109T110000
DTEND;TZID=America/Halifax:20250109T160000
DTSTAMP:20260424T160833
CREATED:20161001T174459Z
LAST-MODIFIED:20161001T174459Z
UID:14947-1736420400-1736438400@lindacreates.com
SUMMARY:CTMH Store/Cropping Open
DESCRIPTION:The CTMH Store is open on Tuesday and Thursday\, from 11:00am to 4pm.  Join Diane and I as we work on our projects. \nPlease feel free to drop by to shop or crop.  If you want to crop/craft\, please call to check to see if we have space!  301.430.0606.
URL:https://lindacreates.com/event/ctmh-storecropping-open-2/2025-01-09/
LOCATION:Linda’s Home\, Bowie\, MD\, 20716\, United States
END:VEVENT
BEGIN:VEVENT
DTSTART;TZID=America/Halifax:20250114T110000
DTEND;TZID=America/Halifax:20250114T160000
DTSTAMP:20260424T160833
CREATED:20161001T173812Z
LAST-MODIFIED:20161001T173812Z
UID:14948-1736852400-1736870400@lindacreates.com
SUMMARY:CTMH Store/Cropping Open
DESCRIPTION:The CTMH Store is open on Tuesday and Thursday\, from 11:00am to 4pm \nPlease feel free to drop by to shop or crop.  If you want to crop/craft\, please call to check to see if we have space!  301.430.0606.
URL:https://lindacreates.com/event/ctmh-storecropping-open/2025-01-14/
LOCATION:Linda’s Home\, Bowie\, MD\, 20716\, United States
END:VEVENT
BEGIN:VEVENT
DTSTART;TZID=America/Halifax:20250116T110000
DTEND;TZID=America/Halifax:20250116T160000
DTSTAMP:20260424T160833
CREATED:20161001T174459Z
LAST-MODIFIED:20161001T174459Z
UID:14949-1737025200-1737043200@lindacreates.com
SUMMARY:CTMH Store/Cropping Open
DESCRIPTION:The CTMH Store is open on Tuesday and Thursday\, from 11:00am to 4pm.  Join Diane and I as we work on our projects. \nPlease feel free to drop by to shop or crop.  If you want to crop/craft\, please call to check to see if we have space!  301.430.0606.
URL:https://lindacreates.com/event/ctmh-storecropping-open-2/2025-01-16/
LOCATION:Linda’s Home\, Bowie\, MD\, 20716\, United States
END:VEVENT
BEGIN:VEVENT
DTSTART;TZID=America/Halifax:20250121T110000
DTEND;TZID=America/Halifax:20250121T160000
DTSTAMP:20260424T160833
CREATED:20161001T173812Z
LAST-MODIFIED:20161001T173812Z
UID:14951-1737457200-1737475200@lindacreates.com
SUMMARY:CTMH Store/Cropping Open
DESCRIPTION:The CTMH Store is open on Tuesday and Thursday\, from 11:00am to 4pm \nPlease feel free to drop by to shop or crop.  If you want to crop/craft\, please call to check to see if we have space!  301.430.0606.
URL:https://lindacreates.com/event/ctmh-storecropping-open/2025-01-21/
LOCATION:Linda’s Home\, Bowie\, MD\, 20716\, United States
END:VEVENT
BEGIN:VEVENT
DTSTART;TZID=America/Halifax:20250123T110000
DTEND;TZID=America/Halifax:20250123T160000
DTSTAMP:20260424T160833
CREATED:20161001T174459Z
LAST-MODIFIED:20161001T174459Z
UID:14952-1737630000-1737648000@lindacreates.com
SUMMARY:CTMH Store/Cropping Open
DESCRIPTION:The CTMH Store is open on Tuesday and Thursday\, from 11:00am to 4pm.  Join Diane and I as we work on our projects. \nPlease feel free to drop by to shop or crop.  If you want to crop/craft\, please call to check to see if we have space!  301.430.0606.
URL:https://lindacreates.com/event/ctmh-storecropping-open-2/2025-01-23/
LOCATION:Linda’s Home\, Bowie\, MD\, 20716\, United States
END:VEVENT
BEGIN:VEVENT
DTSTART;TZID=America/Halifax:20250128T110000
DTEND;TZID=America/Halifax:20250128T160000
DTSTAMP:20260424T160833
CREATED:20161001T173812Z
LAST-MODIFIED:20161001T173812Z
UID:14953-1738062000-1738080000@lindacreates.com
SUMMARY:CTMH Store/Cropping Open
DESCRIPTION:The CTMH Store is open on Tuesday and Thursday\, from 11:00am to 4pm \nPlease feel free to drop by to shop or crop.  If you want to crop/craft\, please call to check to see if we have space!  301.430.0606.
URL:https://lindacreates.com/event/ctmh-storecropping-open/2025-01-28/
LOCATION:Linda’s Home\, Bowie\, MD\, 20716\, United States
END:VEVENT
BEGIN:VEVENT
DTSTART;TZID=America/Halifax:20250130T110000
DTEND;TZID=America/Halifax:20250130T160000
DTSTAMP:20260424T160833
CREATED:20161001T174459Z
LAST-MODIFIED:20161001T174459Z
UID:14954-1738234800-1738252800@lindacreates.com
SUMMARY:CTMH Store/Cropping Open
DESCRIPTION:The CTMH Store is open on Tuesday and Thursday\, from 11:00am to 4pm.  Join Diane and I as we work on our projects. \nPlease feel free to drop by to shop or crop.  If you want to crop/craft\, please call to check to see if we have space!  301.430.0606.
URL:https://lindacreates.com/event/ctmh-storecropping-open-2/2025-01-30/
LOCATION:Linda’s Home\, Bowie\, MD\, 20716\, United States
END:VEVENT
END:VCALENDAR