BEGIN:VCALENDAR
VERSION:2.0
PRODID:-//Linda Creates - ECPv6.15.20//NONSGML v1.0//EN
CALSCALE:GREGORIAN
METHOD:PUBLISH
X-ORIGINAL-URL:https://lindacreates.com
X-WR-CALDESC:Events for Linda Creates
REFRESH-INTERVAL;VALUE=DURATION:PT1H
X-Robots-Tag:noindex
X-PUBLISHED-TTL:PT1H
BEGIN:VTIMEZONE
TZID:America/Halifax
BEGIN:DAYLIGHT
TZOFFSETFROM:-0400
TZOFFSETTO:-0300
TZNAME:ADT
DTSTART:20160313T060000
END:DAYLIGHT
BEGIN:STANDARD
TZOFFSETFROM:-0300
TZOFFSETTO:-0400
TZNAME:AST
DTSTART:20161106T050000
END:STANDARD
BEGIN:DAYLIGHT
TZOFFSETFROM:-0400
TZOFFSETTO:-0300
TZNAME:ADT
DTSTART:20170312T060000
END:DAYLIGHT
BEGIN:STANDARD
TZOFFSETFROM:-0300
TZOFFSETTO:-0400
TZNAME:AST
DTSTART:20171105T050000
END:STANDARD
BEGIN:DAYLIGHT
TZOFFSETFROM:-0400
TZOFFSETTO:-0300
TZNAME:ADT
DTSTART:20180311T060000
END:DAYLIGHT
BEGIN:STANDARD
TZOFFSETFROM:-0300
TZOFFSETTO:-0400
TZNAME:AST
DTSTART:20181104T050000
END:STANDARD
END:VTIMEZONE
BEGIN:VEVENT
DTSTART;TZID=America/Halifax:20170212T120000
DTEND;TZID=America/Halifax:20170212T200000
DTSTAMP:20260424T001756
CREATED:20170202T014303Z
LAST-MODIFIED:20170202T015729Z
UID:5202-1486900800-1486929600@lindacreates.com
SUMMARY:February 2017 CropTastic
DESCRIPTION:February CropTastic February 12\, 2017 from 12pm to 8pm\nWe’ll keep CropTastic on Sunday for the time being since it seems to be working well.  RSVP through the FB group events.  If you are not on FB please let me know ASAP so that I can add you to the list.  We have room for 7 folks to join us. \n \n \n\n\n\n\n\n\n\n\n\n\n\n\n\nWhat’s provided: \n\nTime.  Give yourself permission to spend a few hours working on your projects\nRelationship Time: spending time with the girls\nNo cost venue\n3 feet of table space (I know this is small but remember this is only for 9 hours and several tools are provided onsite for you to use free). Pack light and project specific.  =)\na drink holder/trash can at each spot\nUse of the following: Gypsy\, Cricut Expressions\, Cricut Explorer\, stamps\, inks\, scrapbox (when we have one)\, punches/other tools\, idea books (multiple resources)\, Cuttlebug/Tim Holtz Embosser\, computer for journaling.\nWater\, coffee\, hot tea is provided.  I have plastic cups/lids/straws for cold drinks to ensure that they spill proof.\nCash and Carry will be available/Fieldtrips to ACMoore/Michael’s are 5-10 minutes away\nNeed a project?  Come and Play Card Buffet (make 4 cards for $10.00)\, Workshops on the Go ($29-35)\, or Workshops Your Way ($31) are available for purchase.  If you feel you’ll need a lot of help\, 12-3 is the time I set aside to help folks get situated.  Independent workers can start at any time.\nAllergy alert: We have dogs/birds/guinea pigs/fish – this also means we have hay and nuts.\nSlots are limited to the first 7 to RSVP: FACEBOOK LINK or email me: info@lindacreates.com\n\n\n\n\n\n\n\n\n\n\n\n\n\n\n  \n  \n  \n\n\n	Related
URL:https://lindacreates.com/event/february-2017-croptastic/2017-02-12/
LOCATION:Linda’s Home\, Bowie\, MD\, 20716\, United States
CATEGORIES:Crops
END:VEVENT
END:VCALENDAR