BEGIN:VCALENDAR
VERSION:2.0
PRODID:-//Linda Creates - ECPv6.15.20//NONSGML v1.0//EN
CALSCALE:GREGORIAN
METHOD:PUBLISH
X-WR-CALNAME:Linda Creates
X-ORIGINAL-URL:https://lindacreates.com
X-WR-CALDESC:Events for Linda Creates
REFRESH-INTERVAL;VALUE=DURATION:PT1H
X-Robots-Tag:noindex
X-PUBLISHED-TTL:PT1H
BEGIN:VTIMEZONE
TZID:America/Halifax
BEGIN:DAYLIGHT
TZOFFSETFROM:-0400
TZOFFSETTO:-0300
TZNAME:ADT
DTSTART:20250309T060000
END:DAYLIGHT
BEGIN:STANDARD
TZOFFSETFROM:-0300
TZOFFSETTO:-0400
TZNAME:AST
DTSTART:20251102T050000
END:STANDARD
BEGIN:DAYLIGHT
TZOFFSETFROM:-0400
TZOFFSETTO:-0300
TZNAME:ADT
DTSTART:20260308T060000
END:DAYLIGHT
BEGIN:STANDARD
TZOFFSETFROM:-0300
TZOFFSETTO:-0400
TZNAME:AST
DTSTART:20261101T050000
END:STANDARD
BEGIN:DAYLIGHT
TZOFFSETFROM:-0400
TZOFFSETTO:-0300
TZNAME:ADT
DTSTART:20270314T060000
END:DAYLIGHT
BEGIN:STANDARD
TZOFFSETFROM:-0300
TZOFFSETTO:-0400
TZNAME:AST
DTSTART:20271107T050000
END:STANDARD
END:VTIMEZONE
BEGIN:VEVENT
DTSTART;TZID=America/Halifax:20260430T110000
DTEND;TZID=America/Halifax:20260430T160000
DTSTAMP:20260423T170743
CREATED:20161001T174459Z
LAST-MODIFIED:20161001T174459Z
UID:15876-1777546800-1777564800@lindacreates.com
SUMMARY:CTMH Store/Cropping Open
DESCRIPTION:The CTMH Store is open on Tuesday and Thursday\, from 11:00am to 4pm.  Join Diane and I as we work on our projects. \nPlease feel free to drop by to shop or crop.  If you want to crop/craft\, please call to check to see if we have space!  301.430.0606. \n\n\n	Related
URL:https://lindacreates.com/event/ctmh-storecropping-open-2/2026-04-30/
LOCATION:Linda’s Home\, Bowie\, MD\, 20716\, United States
END:VEVENT
BEGIN:VEVENT
DTSTART;TZID=America/Halifax:20260507T110000
DTEND;TZID=America/Halifax:20260507T160000
DTSTAMP:20260423T170743
CREATED:20161001T174459Z
LAST-MODIFIED:20161001T174459Z
UID:15920-1778151600-1778169600@lindacreates.com
SUMMARY:CTMH Store/Cropping Open
DESCRIPTION:The CTMH Store is open on Tuesday and Thursday\, from 11:00am to 4pm.  Join Diane and I as we work on our projects. \nPlease feel free to drop by to shop or crop.  If you want to crop/craft\, please call to check to see if we have space!  301.430.0606. \n\n\n	Related
URL:https://lindacreates.com/event/ctmh-storecropping-open-2/2026-05-07/
LOCATION:Linda’s Home\, Bowie\, MD\, 20716\, United States
END:VEVENT
BEGIN:VEVENT
DTSTART;TZID=America/Halifax:20260514T110000
DTEND;TZID=America/Halifax:20260514T160000
DTSTAMP:20260423T170743
CREATED:20161001T174459Z
LAST-MODIFIED:20161001T174459Z
UID:15922-1778756400-1778774400@lindacreates.com
SUMMARY:CTMH Store/Cropping Open
DESCRIPTION:The CTMH Store is open on Tuesday and Thursday\, from 11:00am to 4pm.  Join Diane and I as we work on our projects. \nPlease feel free to drop by to shop or crop.  If you want to crop/craft\, please call to check to see if we have space!  301.430.0606. \n\n\n	Related
URL:https://lindacreates.com/event/ctmh-storecropping-open-2/2026-05-14/
LOCATION:Linda’s Home\, Bowie\, MD\, 20716\, United States
END:VEVENT
BEGIN:VEVENT
DTSTART;TZID=America/Halifax:20260521T110000
DTEND;TZID=America/Halifax:20260521T160000
DTSTAMP:20260423T170743
CREATED:20161001T174459Z
LAST-MODIFIED:20161001T174459Z
UID:15925-1779361200-1779379200@lindacreates.com
SUMMARY:CTMH Store/Cropping Open
DESCRIPTION:The CTMH Store is open on Tuesday and Thursday\, from 11:00am to 4pm.  Join Diane and I as we work on our projects. \nPlease feel free to drop by to shop or crop.  If you want to crop/craft\, please call to check to see if we have space!  301.430.0606. \n\n\n	Related
URL:https://lindacreates.com/event/ctmh-storecropping-open-2/2026-05-21/
LOCATION:Linda’s Home\, Bowie\, MD\, 20716\, United States
END:VEVENT
BEGIN:VEVENT
DTSTART;TZID=America/Halifax:20260528T110000
DTEND;TZID=America/Halifax:20260528T160000
DTSTAMP:20260423T170743
CREATED:20161001T174459Z
LAST-MODIFIED:20161001T174459Z
UID:15927-1779966000-1779984000@lindacreates.com
SUMMARY:CTMH Store/Cropping Open
DESCRIPTION:The CTMH Store is open on Tuesday and Thursday\, from 11:00am to 4pm.  Join Diane and I as we work on our projects. \nPlease feel free to drop by to shop or crop.  If you want to crop/craft\, please call to check to see if we have space!  301.430.0606. \n\n\n	Related
URL:https://lindacreates.com/event/ctmh-storecropping-open-2/2026-05-28/
LOCATION:Linda’s Home\, Bowie\, MD\, 20716\, United States
END:VEVENT
BEGIN:VEVENT
DTSTART;TZID=America/Halifax:20260604T110000
DTEND;TZID=America/Halifax:20260604T160000
DTSTAMP:20260423T170743
CREATED:20161001T174459Z
LAST-MODIFIED:20161001T174459Z
UID:15931-1780570800-1780588800@lindacreates.com
SUMMARY:CTMH Store/Cropping Open
DESCRIPTION:The CTMH Store is open on Tuesday and Thursday\, from 11:00am to 4pm.  Join Diane and I as we work on our projects. \nPlease feel free to drop by to shop or crop.  If you want to crop/craft\, please call to check to see if we have space!  301.430.0606. \n\n\n	Related
URL:https://lindacreates.com/event/ctmh-storecropping-open-2/2026-06-04/
LOCATION:Linda’s Home\, Bowie\, MD\, 20716\, United States
END:VEVENT
BEGIN:VEVENT
DTSTART;TZID=America/Halifax:20260611T110000
DTEND;TZID=America/Halifax:20260611T160000
DTSTAMP:20260423T170743
CREATED:20161001T174459Z
LAST-MODIFIED:20161001T174459Z
UID:15934-1781175600-1781193600@lindacreates.com
SUMMARY:CTMH Store/Cropping Open
DESCRIPTION:The CTMH Store is open on Tuesday and Thursday\, from 11:00am to 4pm.  Join Diane and I as we work on our projects. \nPlease feel free to drop by to shop or crop.  If you want to crop/craft\, please call to check to see if we have space!  301.430.0606. \n\n\n	Related
URL:https://lindacreates.com/event/ctmh-storecropping-open-2/2026-06-11/
LOCATION:Linda’s Home\, Bowie\, MD\, 20716\, United States
END:VEVENT
BEGIN:VEVENT
DTSTART;TZID=America/Halifax:20260618T110000
DTEND;TZID=America/Halifax:20260618T160000
DTSTAMP:20260423T170743
CREATED:20161001T174459Z
LAST-MODIFIED:20161001T174459Z
UID:15936-1781780400-1781798400@lindacreates.com
SUMMARY:CTMH Store/Cropping Open
DESCRIPTION:The CTMH Store is open on Tuesday and Thursday\, from 11:00am to 4pm.  Join Diane and I as we work on our projects. \nPlease feel free to drop by to shop or crop.  If you want to crop/craft\, please call to check to see if we have space!  301.430.0606. \n\n\n	Related
URL:https://lindacreates.com/event/ctmh-storecropping-open-2/2026-06-18/
LOCATION:Linda’s Home\, Bowie\, MD\, 20716\, United States
END:VEVENT
BEGIN:VEVENT
DTSTART;TZID=America/Halifax:20260625T110000
DTEND;TZID=America/Halifax:20260625T160000
DTSTAMP:20260423T170743
CREATED:20161001T174459Z
LAST-MODIFIED:20161001T174459Z
UID:15939-1782385200-1782403200@lindacreates.com
SUMMARY:CTMH Store/Cropping Open
DESCRIPTION:The CTMH Store is open on Tuesday and Thursday\, from 11:00am to 4pm.  Join Diane and I as we work on our projects. \nPlease feel free to drop by to shop or crop.  If you want to crop/craft\, please call to check to see if we have space!  301.430.0606. \n\n\n	Related
URL:https://lindacreates.com/event/ctmh-storecropping-open-2/2026-06-25/
LOCATION:Linda’s Home\, Bowie\, MD\, 20716\, United States
END:VEVENT
BEGIN:VEVENT
DTSTART;TZID=America/Halifax:20260702T110000
DTEND;TZID=America/Halifax:20260702T160000
DTSTAMP:20260423T170743
CREATED:20161001T174459Z
LAST-MODIFIED:20161001T174459Z
UID:15941-1782990000-1783008000@lindacreates.com
SUMMARY:CTMH Store/Cropping Open
DESCRIPTION:The CTMH Store is open on Tuesday and Thursday\, from 11:00am to 4pm.  Join Diane and I as we work on our projects. \nPlease feel free to drop by to shop or crop.  If you want to crop/craft\, please call to check to see if we have space!  301.430.0606. \n\n\n	Related
URL:https://lindacreates.com/event/ctmh-storecropping-open-2/2026-07-02/
LOCATION:Linda’s Home\, Bowie\, MD\, 20716\, United States
END:VEVENT
BEGIN:VEVENT
DTSTART;TZID=America/Halifax:20260709T110000
DTEND;TZID=America/Halifax:20260709T160000
DTSTAMP:20260423T170743
CREATED:20161001T174459Z
LAST-MODIFIED:20161001T174459Z
UID:15943-1783594800-1783612800@lindacreates.com
SUMMARY:CTMH Store/Cropping Open
DESCRIPTION:The CTMH Store is open on Tuesday and Thursday\, from 11:00am to 4pm.  Join Diane and I as we work on our projects. \nPlease feel free to drop by to shop or crop.  If you want to crop/craft\, please call to check to see if we have space!  301.430.0606. \n\n\n	Related
URL:https://lindacreates.com/event/ctmh-storecropping-open-2/2026-07-09/
LOCATION:Linda’s Home\, Bowie\, MD\, 20716\, United States
END:VEVENT
BEGIN:VEVENT
DTSTART;TZID=America/Halifax:20260716T110000
DTEND;TZID=America/Halifax:20260716T160000
DTSTAMP:20260423T170743
CREATED:20161001T174459Z
LAST-MODIFIED:20161001T174459Z
UID:15946-1784199600-1784217600@lindacreates.com
SUMMARY:CTMH Store/Cropping Open
DESCRIPTION:The CTMH Store is open on Tuesday and Thursday\, from 11:00am to 4pm.  Join Diane and I as we work on our projects. \nPlease feel free to drop by to shop or crop.  If you want to crop/craft\, please call to check to see if we have space!  301.430.0606. \n\n\n	Related
URL:https://lindacreates.com/event/ctmh-storecropping-open-2/2026-07-16/
LOCATION:Linda’s Home\, Bowie\, MD\, 20716\, United States
END:VEVENT
BEGIN:VEVENT
DTSTART;TZID=America/Halifax:20260723T110000
DTEND;TZID=America/Halifax:20260723T160000
DTSTAMP:20260423T170743
CREATED:20161001T174459Z
LAST-MODIFIED:20161001T174459Z
UID:15948-1784804400-1784822400@lindacreates.com
SUMMARY:CTMH Store/Cropping Open
DESCRIPTION:The CTMH Store is open on Tuesday and Thursday\, from 11:00am to 4pm.  Join Diane and I as we work on our projects. \nPlease feel free to drop by to shop or crop.  If you want to crop/craft\, please call to check to see if we have space!  301.430.0606. \n\n\n	Related
URL:https://lindacreates.com/event/ctmh-storecropping-open-2/2026-07-23/
LOCATION:Linda’s Home\, Bowie\, MD\, 20716\, United States
END:VEVENT
BEGIN:VEVENT
DTSTART;TZID=America/Halifax:20260730T110000
DTEND;TZID=America/Halifax:20260730T160000
DTSTAMP:20260423T170743
CREATED:20161001T174459Z
LAST-MODIFIED:20161001T174459Z
UID:15951-1785409200-1785427200@lindacreates.com
SUMMARY:CTMH Store/Cropping Open
DESCRIPTION:The CTMH Store is open on Tuesday and Thursday\, from 11:00am to 4pm.  Join Diane and I as we work on our projects. \nPlease feel free to drop by to shop or crop.  If you want to crop/craft\, please call to check to see if we have space!  301.430.0606. \n\n\n	Related
URL:https://lindacreates.com/event/ctmh-storecropping-open-2/2026-07-30/
LOCATION:Linda’s Home\, Bowie\, MD\, 20716\, United States
END:VEVENT
BEGIN:VEVENT
DTSTART;TZID=America/Halifax:20260806T110000
DTEND;TZID=America/Halifax:20260806T160000
DTSTAMP:20260423T170743
CREATED:20161001T174459Z
LAST-MODIFIED:20161001T174459Z
UID:15953-1786014000-1786032000@lindacreates.com
SUMMARY:CTMH Store/Cropping Open
DESCRIPTION:The CTMH Store is open on Tuesday and Thursday\, from 11:00am to 4pm.  Join Diane and I as we work on our projects. \nPlease feel free to drop by to shop or crop.  If you want to crop/craft\, please call to check to see if we have space!  301.430.0606. \n\n\n	Related
URL:https://lindacreates.com/event/ctmh-storecropping-open-2/2026-08-06/
LOCATION:Linda’s Home\, Bowie\, MD\, 20716\, United States
END:VEVENT
BEGIN:VEVENT
DTSTART;TZID=America/Halifax:20260813T110000
DTEND;TZID=America/Halifax:20260813T160000
DTSTAMP:20260423T170743
CREATED:20161001T174459Z
LAST-MODIFIED:20161001T174459Z
UID:15955-1786618800-1786636800@lindacreates.com
SUMMARY:CTMH Store/Cropping Open
DESCRIPTION:The CTMH Store is open on Tuesday and Thursday\, from 11:00am to 4pm.  Join Diane and I as we work on our projects. \nPlease feel free to drop by to shop or crop.  If you want to crop/craft\, please call to check to see if we have space!  301.430.0606. \n\n\n	Related
URL:https://lindacreates.com/event/ctmh-storecropping-open-2/2026-08-13/
LOCATION:Linda’s Home\, Bowie\, MD\, 20716\, United States
END:VEVENT
BEGIN:VEVENT
DTSTART;TZID=America/Halifax:20260820T110000
DTEND;TZID=America/Halifax:20260820T160000
DTSTAMP:20260423T170743
CREATED:20161001T174459Z
LAST-MODIFIED:20161001T174459Z
UID:15958-1787223600-1787241600@lindacreates.com
SUMMARY:CTMH Store/Cropping Open
DESCRIPTION:The CTMH Store is open on Tuesday and Thursday\, from 11:00am to 4pm.  Join Diane and I as we work on our projects. \nPlease feel free to drop by to shop or crop.  If you want to crop/craft\, please call to check to see if we have space!  301.430.0606. \n\n\n	Related
URL:https://lindacreates.com/event/ctmh-storecropping-open-2/2026-08-20/
LOCATION:Linda’s Home\, Bowie\, MD\, 20716\, United States
END:VEVENT
BEGIN:VEVENT
DTSTART;TZID=America/Halifax:20260827T110000
DTEND;TZID=America/Halifax:20260827T160000
DTSTAMP:20260423T170743
CREATED:20161001T174459Z
LAST-MODIFIED:20161001T174459Z
UID:15960-1787828400-1787846400@lindacreates.com
SUMMARY:CTMH Store/Cropping Open
DESCRIPTION:The CTMH Store is open on Tuesday and Thursday\, from 11:00am to 4pm.  Join Diane and I as we work on our projects. \nPlease feel free to drop by to shop or crop.  If you want to crop/craft\, please call to check to see if we have space!  301.430.0606. \n\n\n	Related
URL:https://lindacreates.com/event/ctmh-storecropping-open-2/2026-08-27/
LOCATION:Linda’s Home\, Bowie\, MD\, 20716\, United States
END:VEVENT
BEGIN:VEVENT
DTSTART;TZID=America/Halifax:20260903T110000
DTEND;TZID=America/Halifax:20260903T160000
DTSTAMP:20260423T170743
CREATED:20161001T174459Z
LAST-MODIFIED:20161001T174459Z
UID:15964-1788433200-1788451200@lindacreates.com
SUMMARY:CTMH Store/Cropping Open
DESCRIPTION:The CTMH Store is open on Tuesday and Thursday\, from 11:00am to 4pm.  Join Diane and I as we work on our projects. \nPlease feel free to drop by to shop or crop.  If you want to crop/craft\, please call to check to see if we have space!  301.430.0606. \n\n\n	Related
URL:https://lindacreates.com/event/ctmh-storecropping-open-2/2026-09-03/
LOCATION:Linda’s Home\, Bowie\, MD\, 20716\, United States
END:VEVENT
BEGIN:VEVENT
DTSTART;TZID=America/Halifax:20260910T110000
DTEND;TZID=America/Halifax:20260910T160000
DTSTAMP:20260423T170743
CREATED:20161001T174459Z
LAST-MODIFIED:20161001T174459Z
UID:15966-1789038000-1789056000@lindacreates.com
SUMMARY:CTMH Store/Cropping Open
DESCRIPTION:The CTMH Store is open on Tuesday and Thursday\, from 11:00am to 4pm.  Join Diane and I as we work on our projects. \nPlease feel free to drop by to shop or crop.  If you want to crop/craft\, please call to check to see if we have space!  301.430.0606. \n\n\n	Related
URL:https://lindacreates.com/event/ctmh-storecropping-open-2/2026-09-10/
LOCATION:Linda’s Home\, Bowie\, MD\, 20716\, United States
END:VEVENT
BEGIN:VEVENT
DTSTART;TZID=America/Halifax:20260917T110000
DTEND;TZID=America/Halifax:20260917T160000
DTSTAMP:20260423T170743
CREATED:20161001T174459Z
LAST-MODIFIED:20161001T174459Z
UID:15968-1789642800-1789660800@lindacreates.com
SUMMARY:CTMH Store/Cropping Open
DESCRIPTION:The CTMH Store is open on Tuesday and Thursday\, from 11:00am to 4pm.  Join Diane and I as we work on our projects. \nPlease feel free to drop by to shop or crop.  If you want to crop/craft\, please call to check to see if we have space!  301.430.0606. \n\n\n	Related
URL:https://lindacreates.com/event/ctmh-storecropping-open-2/2026-09-17/
LOCATION:Linda’s Home\, Bowie\, MD\, 20716\, United States
END:VEVENT
BEGIN:VEVENT
DTSTART;TZID=America/Halifax:20260924T110000
DTEND;TZID=America/Halifax:20260924T160000
DTSTAMP:20260423T170743
CREATED:20161001T174459Z
LAST-MODIFIED:20161001T174459Z
UID:15972-1790247600-1790265600@lindacreates.com
SUMMARY:CTMH Store/Cropping Open
DESCRIPTION:The CTMH Store is open on Tuesday and Thursday\, from 11:00am to 4pm.  Join Diane and I as we work on our projects. \nPlease feel free to drop by to shop or crop.  If you want to crop/craft\, please call to check to see if we have space!  301.430.0606. \n\n\n	Related
URL:https://lindacreates.com/event/ctmh-storecropping-open-2/2026-09-24/
LOCATION:Linda’s Home\, Bowie\, MD\, 20716\, United States
END:VEVENT
BEGIN:VEVENT
DTSTART;TZID=America/Halifax:20261001T110000
DTEND;TZID=America/Halifax:20261001T160000
DTSTAMP:20260423T170743
CREATED:20161001T174459Z
LAST-MODIFIED:20161001T174459Z
UID:15988-1790852400-1790870400@lindacreates.com
SUMMARY:CTMH Store/Cropping Open
DESCRIPTION:The CTMH Store is open on Tuesday and Thursday\, from 11:00am to 4pm.  Join Diane and I as we work on our projects. \nPlease feel free to drop by to shop or crop.  If you want to crop/craft\, please call to check to see if we have space!  301.430.0606. \n\n\n	Related
URL:https://lindacreates.com/event/ctmh-storecropping-open-2/2026-10-01/
LOCATION:Linda’s Home\, Bowie\, MD\, 20716\, United States
END:VEVENT
BEGIN:VEVENT
DTSTART;TZID=America/Halifax:20261008T110000
DTEND;TZID=America/Halifax:20261008T160000
DTSTAMP:20260423T170743
CREATED:20161001T174459Z
LAST-MODIFIED:20161001T174459Z
UID:15990-1791457200-1791475200@lindacreates.com
SUMMARY:CTMH Store/Cropping Open
DESCRIPTION:The CTMH Store is open on Tuesday and Thursday\, from 11:00am to 4pm.  Join Diane and I as we work on our projects. \nPlease feel free to drop by to shop or crop.  If you want to crop/craft\, please call to check to see if we have space!  301.430.0606. \n\n\n	Related
URL:https://lindacreates.com/event/ctmh-storecropping-open-2/2026-10-08/
LOCATION:Linda’s Home\, Bowie\, MD\, 20716\, United States
END:VEVENT
BEGIN:VEVENT
DTSTART;TZID=America/Halifax:20261015T110000
DTEND;TZID=America/Halifax:20261015T160000
DTSTAMP:20260423T170743
CREATED:20161001T174459Z
LAST-MODIFIED:20161001T174459Z
UID:15993-1792062000-1792080000@lindacreates.com
SUMMARY:CTMH Store/Cropping Open
DESCRIPTION:The CTMH Store is open on Tuesday and Thursday\, from 11:00am to 4pm.  Join Diane and I as we work on our projects. \nPlease feel free to drop by to shop or crop.  If you want to crop/craft\, please call to check to see if we have space!  301.430.0606. \n\n\n	Related
URL:https://lindacreates.com/event/ctmh-storecropping-open-2/2026-10-15/
LOCATION:Linda’s Home\, Bowie\, MD\, 20716\, United States
END:VEVENT
BEGIN:VEVENT
DTSTART;TZID=America/Halifax:20261022T110000
DTEND;TZID=America/Halifax:20261022T160000
DTSTAMP:20260423T170743
CREATED:20161001T174459Z
LAST-MODIFIED:20161001T174459Z
UID:15995-1792666800-1792684800@lindacreates.com
SUMMARY:CTMH Store/Cropping Open
DESCRIPTION:The CTMH Store is open on Tuesday and Thursday\, from 11:00am to 4pm.  Join Diane and I as we work on our projects. \nPlease feel free to drop by to shop or crop.  If you want to crop/craft\, please call to check to see if we have space!  301.430.0606. \n\n\n	Related
URL:https://lindacreates.com/event/ctmh-storecropping-open-2/2026-10-22/
LOCATION:Linda’s Home\, Bowie\, MD\, 20716\, United States
END:VEVENT
BEGIN:VEVENT
DTSTART;TZID=America/Halifax:20261029T110000
DTEND;TZID=America/Halifax:20261029T160000
DTSTAMP:20260423T170743
CREATED:20161001T174459Z
LAST-MODIFIED:20161001T174459Z
UID:15997-1793271600-1793289600@lindacreates.com
SUMMARY:CTMH Store/Cropping Open
DESCRIPTION:The CTMH Store is open on Tuesday and Thursday\, from 11:00am to 4pm.  Join Diane and I as we work on our projects. \nPlease feel free to drop by to shop or crop.  If you want to crop/craft\, please call to check to see if we have space!  301.430.0606. \n\n\n	Related
URL:https://lindacreates.com/event/ctmh-storecropping-open-2/2026-10-29/
LOCATION:Linda’s Home\, Bowie\, MD\, 20716\, United States
END:VEVENT
BEGIN:VEVENT
DTSTART;TZID=America/Halifax:20261105T110000
DTEND;TZID=America/Halifax:20261105T160000
DTSTAMP:20260423T170743
CREATED:20161001T174459Z
LAST-MODIFIED:20161001T174459Z
UID:16000-1793876400-1793894400@lindacreates.com
SUMMARY:CTMH Store/Cropping Open
DESCRIPTION:The CTMH Store is open on Tuesday and Thursday\, from 11:00am to 4pm.  Join Diane and I as we work on our projects. \nPlease feel free to drop by to shop or crop.  If you want to crop/craft\, please call to check to see if we have space!  301.430.0606. \n\n\n	Related
URL:https://lindacreates.com/event/ctmh-storecropping-open-2/2026-11-05/
LOCATION:Linda’s Home\, Bowie\, MD\, 20716\, United States
END:VEVENT
BEGIN:VEVENT
DTSTART;TZID=America/Halifax:20261112T110000
DTEND;TZID=America/Halifax:20261112T160000
DTSTAMP:20260423T170743
CREATED:20161001T174459Z
LAST-MODIFIED:20161001T174459Z
UID:16002-1794481200-1794499200@lindacreates.com
SUMMARY:CTMH Store/Cropping Open
DESCRIPTION:The CTMH Store is open on Tuesday and Thursday\, from 11:00am to 4pm.  Join Diane and I as we work on our projects. \nPlease feel free to drop by to shop or crop.  If you want to crop/craft\, please call to check to see if we have space!  301.430.0606. \n\n\n	Related
URL:https://lindacreates.com/event/ctmh-storecropping-open-2/2026-11-12/
LOCATION:Linda’s Home\, Bowie\, MD\, 20716\, United States
END:VEVENT
BEGIN:VEVENT
DTSTART;TZID=America/Halifax:20261119T110000
DTEND;TZID=America/Halifax:20261119T160000
DTSTAMP:20260423T170743
CREATED:20161001T174459Z
LAST-MODIFIED:20161001T174459Z
UID:16005-1795086000-1795104000@lindacreates.com
SUMMARY:CTMH Store/Cropping Open
DESCRIPTION:The CTMH Store is open on Tuesday and Thursday\, from 11:00am to 4pm.  Join Diane and I as we work on our projects. \nPlease feel free to drop by to shop or crop.  If you want to crop/craft\, please call to check to see if we have space!  301.430.0606. \n\n\n	Related
URL:https://lindacreates.com/event/ctmh-storecropping-open-2/2026-11-19/
LOCATION:Linda’s Home\, Bowie\, MD\, 20716\, United States
END:VEVENT
END:VCALENDAR