BEGIN:VCALENDAR
VERSION:2.0
PRODID:-//Linda Creates - ECPv6.15.20//NONSGML v1.0//EN
CALSCALE:GREGORIAN
METHOD:PUBLISH
X-ORIGINAL-URL:https://lindacreates.com
X-WR-CALDESC:Events for Linda Creates
REFRESH-INTERVAL;VALUE=DURATION:PT1H
X-Robots-Tag:noindex
X-PUBLISHED-TTL:PT1H
BEGIN:VTIMEZONE
TZID:America/Halifax
BEGIN:DAYLIGHT
TZOFFSETFROM:-0400
TZOFFSETTO:-0300
TZNAME:ADT
DTSTART:20240310T060000
END:DAYLIGHT
BEGIN:STANDARD
TZOFFSETFROM:-0300
TZOFFSETTO:-0400
TZNAME:AST
DTSTART:20241103T050000
END:STANDARD
BEGIN:DAYLIGHT
TZOFFSETFROM:-0400
TZOFFSETTO:-0300
TZNAME:ADT
DTSTART:20250309T060000
END:DAYLIGHT
BEGIN:STANDARD
TZOFFSETFROM:-0300
TZOFFSETTO:-0400
TZNAME:AST
DTSTART:20251102T050000
END:STANDARD
BEGIN:DAYLIGHT
TZOFFSETFROM:-0400
TZOFFSETTO:-0300
TZNAME:ADT
DTSTART:20260308T060000
END:DAYLIGHT
BEGIN:STANDARD
TZOFFSETFROM:-0300
TZOFFSETTO:-0400
TZNAME:AST
DTSTART:20261101T050000
END:STANDARD
BEGIN:DAYLIGHT
TZOFFSETFROM:-0400
TZOFFSETTO:-0300
TZNAME:ADT
DTSTART:20270314T060000
END:DAYLIGHT
BEGIN:STANDARD
TZOFFSETFROM:-0300
TZOFFSETTO:-0400
TZNAME:AST
DTSTART:20271107T050000
END:STANDARD
END:VTIMEZONE
BEGIN:VEVENT
DTSTART;TZID=America/Halifax:20260423T110000
DTEND;TZID=America/Halifax:20260423T160000
DTSTAMP:20260423T184143
CREATED:20161001T174459Z
LAST-MODIFIED:20161001T174459Z
UID:15872-1776942000-1776960000@lindacreates.com
SUMMARY:CTMH Store/Cropping Open
DESCRIPTION:The CTMH Store is open on Tuesday and Thursday\, from 11:00am to 4pm.  Join Diane and I as we work on our projects. \nPlease feel free to drop by to shop or crop.  If you want to crop/craft\, please call to check to see if we have space!  301.430.0606. \n\n\n	Related
URL:https://lindacreates.com/event/ctmh-storecropping-open-2/2026-04-23/
LOCATION:Linda’s Home\, Bowie\, MD\, 20716\, United States
END:VEVENT
BEGIN:VEVENT
DTSTART;TZID=America/Halifax:20260416T110000
DTEND;TZID=America/Halifax:20260416T160000
DTSTAMP:20260423T184143
CREATED:20161001T174459Z
LAST-MODIFIED:20161001T174459Z
UID:15869-1776337200-1776355200@lindacreates.com
SUMMARY:CTMH Store/Cropping Open
DESCRIPTION:The CTMH Store is open on Tuesday and Thursday\, from 11:00am to 4pm.  Join Diane and I as we work on our projects. \nPlease feel free to drop by to shop or crop.  If you want to crop/craft\, please call to check to see if we have space!  301.430.0606. \n\n\n	Related
URL:https://lindacreates.com/event/ctmh-storecropping-open-2/2026-04-16/
LOCATION:Linda’s Home\, Bowie\, MD\, 20716\, United States
END:VEVENT
BEGIN:VEVENT
DTSTART;TZID=America/Halifax:20260409T110000
DTEND;TZID=America/Halifax:20260409T160000
DTSTAMP:20260423T184143
CREATED:20161001T174459Z
LAST-MODIFIED:20161001T174459Z
UID:15867-1775732400-1775750400@lindacreates.com
SUMMARY:CTMH Store/Cropping Open
DESCRIPTION:The CTMH Store is open on Tuesday and Thursday\, from 11:00am to 4pm.  Join Diane and I as we work on our projects. \nPlease feel free to drop by to shop or crop.  If you want to crop/craft\, please call to check to see if we have space!  301.430.0606. \n\n\n	Related
URL:https://lindacreates.com/event/ctmh-storecropping-open-2/2026-04-09/
LOCATION:Linda’s Home\, Bowie\, MD\, 20716\, United States
END:VEVENT
BEGIN:VEVENT
DTSTART;TZID=America/Halifax:20260402T110000
DTEND;TZID=America/Halifax:20260402T160000
DTSTAMP:20260423T184143
CREATED:20161001T174459Z
LAST-MODIFIED:20161001T174459Z
UID:15864-1775127600-1775145600@lindacreates.com
SUMMARY:CTMH Store/Cropping Open
DESCRIPTION:The CTMH Store is open on Tuesday and Thursday\, from 11:00am to 4pm.  Join Diane and I as we work on our projects. \nPlease feel free to drop by to shop or crop.  If you want to crop/craft\, please call to check to see if we have space!  301.430.0606. \n\n\n	Related
URL:https://lindacreates.com/event/ctmh-storecropping-open-2/2026-04-02/
LOCATION:Linda’s Home\, Bowie\, MD\, 20716\, United States
END:VEVENT
BEGIN:VEVENT
DTSTART;TZID=America/Halifax:20260326T110000
DTEND;TZID=America/Halifax:20260326T160000
DTSTAMP:20260423T184143
CREATED:20161001T174459Z
LAST-MODIFIED:20161001T174459Z
UID:15861-1774522800-1774540800@lindacreates.com
SUMMARY:CTMH Store/Cropping Open
DESCRIPTION:The CTMH Store is open on Tuesday and Thursday\, from 11:00am to 4pm.  Join Diane and I as we work on our projects. \nPlease feel free to drop by to shop or crop.  If you want to crop/craft\, please call to check to see if we have space!  301.430.0606. \n\n\n	Related
URL:https://lindacreates.com/event/ctmh-storecropping-open-2/2026-03-26/
LOCATION:Linda’s Home\, Bowie\, MD\, 20716\, United States
END:VEVENT
BEGIN:VEVENT
DTSTART;TZID=America/Halifax:20260319T110000
DTEND;TZID=America/Halifax:20260319T160000
DTSTAMP:20260423T184143
CREATED:20161001T174459Z
LAST-MODIFIED:20161001T174459Z
UID:15859-1773918000-1773936000@lindacreates.com
SUMMARY:CTMH Store/Cropping Open
DESCRIPTION:The CTMH Store is open on Tuesday and Thursday\, from 11:00am to 4pm.  Join Diane and I as we work on our projects. \nPlease feel free to drop by to shop or crop.  If you want to crop/craft\, please call to check to see if we have space!  301.430.0606. \n\n\n	Related
URL:https://lindacreates.com/event/ctmh-storecropping-open-2/2026-03-19/
LOCATION:Linda’s Home\, Bowie\, MD\, 20716\, United States
END:VEVENT
BEGIN:VEVENT
DTSTART;TZID=America/Halifax:20260312T110000
DTEND;TZID=America/Halifax:20260312T160000
DTSTAMP:20260423T184143
CREATED:20161001T174459Z
LAST-MODIFIED:20161001T174459Z
UID:15856-1773313200-1773331200@lindacreates.com
SUMMARY:CTMH Store/Cropping Open
DESCRIPTION:The CTMH Store is open on Tuesday and Thursday\, from 11:00am to 4pm.  Join Diane and I as we work on our projects. \nPlease feel free to drop by to shop or crop.  If you want to crop/craft\, please call to check to see if we have space!  301.430.0606. \n\n\n	Related
URL:https://lindacreates.com/event/ctmh-storecropping-open-2/2026-03-12/
LOCATION:Linda’s Home\, Bowie\, MD\, 20716\, United States
END:VEVENT
BEGIN:VEVENT
DTSTART;TZID=America/Halifax:20260305T110000
DTEND;TZID=America/Halifax:20260305T160000
DTSTAMP:20260423T184143
CREATED:20161001T174459Z
LAST-MODIFIED:20161001T174459Z
UID:15854-1772708400-1772726400@lindacreates.com
SUMMARY:CTMH Store/Cropping Open
DESCRIPTION:The CTMH Store is open on Tuesday and Thursday\, from 11:00am to 4pm.  Join Diane and I as we work on our projects. \nPlease feel free to drop by to shop or crop.  If you want to crop/craft\, please call to check to see if we have space!  301.430.0606. \n\n\n	Related
URL:https://lindacreates.com/event/ctmh-storecropping-open-2/2026-03-05/
LOCATION:Linda’s Home\, Bowie\, MD\, 20716\, United States
END:VEVENT
BEGIN:VEVENT
DTSTART;TZID=America/Halifax:20260226T110000
DTEND;TZID=America/Halifax:20260226T160000
DTSTAMP:20260423T184143
CREATED:20161001T174459Z
LAST-MODIFIED:20161001T174459Z
UID:15852-1772103600-1772121600@lindacreates.com
SUMMARY:CTMH Store/Cropping Open
DESCRIPTION:The CTMH Store is open on Tuesday and Thursday\, from 11:00am to 4pm.  Join Diane and I as we work on our projects. \nPlease feel free to drop by to shop or crop.  If you want to crop/craft\, please call to check to see if we have space!  301.430.0606. \n\n\n	Related
URL:https://lindacreates.com/event/ctmh-storecropping-open-2/2026-02-26/
LOCATION:Linda’s Home\, Bowie\, MD\, 20716\, United States
END:VEVENT
BEGIN:VEVENT
DTSTART;TZID=America/Halifax:20260219T110000
DTEND;TZID=America/Halifax:20260219T160000
DTSTAMP:20260423T184143
CREATED:20161001T174459Z
LAST-MODIFIED:20161001T174459Z
UID:15850-1771498800-1771516800@lindacreates.com
SUMMARY:CTMH Store/Cropping Open
DESCRIPTION:The CTMH Store is open on Tuesday and Thursday\, from 11:00am to 4pm.  Join Diane and I as we work on our projects. \nPlease feel free to drop by to shop or crop.  If you want to crop/craft\, please call to check to see if we have space!  301.430.0606. \n\n\n	Related
URL:https://lindacreates.com/event/ctmh-storecropping-open-2/2026-02-19/
LOCATION:Linda’s Home\, Bowie\, MD\, 20716\, United States
END:VEVENT
BEGIN:VEVENT
DTSTART;TZID=America/Halifax:20260212T110000
DTEND;TZID=America/Halifax:20260212T160000
DTSTAMP:20260423T184143
CREATED:20161001T174459Z
LAST-MODIFIED:20161001T174459Z
UID:15847-1770894000-1770912000@lindacreates.com
SUMMARY:CTMH Store/Cropping Open
DESCRIPTION:The CTMH Store is open on Tuesday and Thursday\, from 11:00am to 4pm.  Join Diane and I as we work on our projects. \nPlease feel free to drop by to shop or crop.  If you want to crop/craft\, please call to check to see if we have space!  301.430.0606. \n\n\n	Related
URL:https://lindacreates.com/event/ctmh-storecropping-open-2/2026-02-12/
LOCATION:Linda’s Home\, Bowie\, MD\, 20716\, United States
END:VEVENT
BEGIN:VEVENT
DTSTART;TZID=America/Halifax:20260205T110000
DTEND;TZID=America/Halifax:20260205T160000
DTSTAMP:20260423T184143
CREATED:20161001T174459Z
LAST-MODIFIED:20161001T174459Z
UID:15845-1770289200-1770307200@lindacreates.com
SUMMARY:CTMH Store/Cropping Open
DESCRIPTION:The CTMH Store is open on Tuesday and Thursday\, from 11:00am to 4pm.  Join Diane and I as we work on our projects. \nPlease feel free to drop by to shop or crop.  If you want to crop/craft\, please call to check to see if we have space!  301.430.0606. \n\n\n	Related
URL:https://lindacreates.com/event/ctmh-storecropping-open-2/2026-02-05/
LOCATION:Linda’s Home\, Bowie\, MD\, 20716\, United States
END:VEVENT
BEGIN:VEVENT
DTSTART;TZID=America/Halifax:20260129T110000
DTEND;TZID=America/Halifax:20260129T160000
DTSTAMP:20260423T184143
CREATED:20161001T174459Z
LAST-MODIFIED:20161001T174459Z
UID:15841-1769684400-1769702400@lindacreates.com
SUMMARY:CTMH Store/Cropping Open
DESCRIPTION:The CTMH Store is open on Tuesday and Thursday\, from 11:00am to 4pm.  Join Diane and I as we work on our projects. \nPlease feel free to drop by to shop or crop.  If you want to crop/craft\, please call to check to see if we have space!  301.430.0606. \n\n\n	Related
URL:https://lindacreates.com/event/ctmh-storecropping-open-2/2026-01-29/
LOCATION:Linda’s Home\, Bowie\, MD\, 20716\, United States
END:VEVENT
BEGIN:VEVENT
DTSTART;TZID=America/Halifax:20260122T110000
DTEND;TZID=America/Halifax:20260122T160000
DTSTAMP:20260423T184143
CREATED:20161001T174459Z
LAST-MODIFIED:20161001T174459Z
UID:15839-1769079600-1769097600@lindacreates.com
SUMMARY:CTMH Store/Cropping Open
DESCRIPTION:The CTMH Store is open on Tuesday and Thursday\, from 11:00am to 4pm.  Join Diane and I as we work on our projects. \nPlease feel free to drop by to shop or crop.  If you want to crop/craft\, please call to check to see if we have space!  301.430.0606. \n\n\n	Related
URL:https://lindacreates.com/event/ctmh-storecropping-open-2/2026-01-22/
LOCATION:Linda’s Home\, Bowie\, MD\, 20716\, United States
END:VEVENT
BEGIN:VEVENT
DTSTART;TZID=America/Halifax:20260115T110000
DTEND;TZID=America/Halifax:20260115T160000
DTSTAMP:20260423T184143
CREATED:20161001T174459Z
LAST-MODIFIED:20161001T174459Z
UID:15836-1768474800-1768492800@lindacreates.com
SUMMARY:CTMH Store/Cropping Open
DESCRIPTION:The CTMH Store is open on Tuesday and Thursday\, from 11:00am to 4pm.  Join Diane and I as we work on our projects. \nPlease feel free to drop by to shop or crop.  If you want to crop/craft\, please call to check to see if we have space!  301.430.0606. \n\n\n	Related
URL:https://lindacreates.com/event/ctmh-storecropping-open-2/2026-01-15/
LOCATION:Linda’s Home\, Bowie\, MD\, 20716\, United States
END:VEVENT
BEGIN:VEVENT
DTSTART;TZID=America/Halifax:20260108T110000
DTEND;TZID=America/Halifax:20260108T160000
DTSTAMP:20260423T184143
CREATED:20161001T174459Z
LAST-MODIFIED:20161001T174459Z
UID:15804-1767870000-1767888000@lindacreates.com
SUMMARY:CTMH Store/Cropping Open
DESCRIPTION:The CTMH Store is open on Tuesday and Thursday\, from 11:00am to 4pm.  Join Diane and I as we work on our projects. \nPlease feel free to drop by to shop or crop.  If you want to crop/craft\, please call to check to see if we have space!  301.430.0606. \n\n\n	Related
URL:https://lindacreates.com/event/ctmh-storecropping-open-2/2026-01-08/
LOCATION:Linda’s Home\, Bowie\, MD\, 20716\, United States
END:VEVENT
BEGIN:VEVENT
DTSTART;TZID=America/Halifax:20260101T110000
DTEND;TZID=America/Halifax:20260101T160000
DTSTAMP:20260423T184143
CREATED:20161001T174459Z
LAST-MODIFIED:20161001T174459Z
UID:15793-1767265200-1767283200@lindacreates.com
SUMMARY:CTMH Store/Cropping Open
DESCRIPTION:The CTMH Store is open on Tuesday and Thursday\, from 11:00am to 4pm.  Join Diane and I as we work on our projects. \nPlease feel free to drop by to shop or crop.  If you want to crop/craft\, please call to check to see if we have space!  301.430.0606. \n\n\n	Related
URL:https://lindacreates.com/event/ctmh-storecropping-open-2/2026-01-01/
LOCATION:Linda’s Home\, Bowie\, MD\, 20716\, United States
END:VEVENT
BEGIN:VEVENT
DTSTART;TZID=America/Halifax:20251225T110000
DTEND;TZID=America/Halifax:20251225T160000
DTSTAMP:20260423T184143
CREATED:20161001T174459Z
LAST-MODIFIED:20161001T174459Z
UID:15791-1766660400-1766678400@lindacreates.com
SUMMARY:CTMH Store/Cropping Open
DESCRIPTION:The CTMH Store is open on Tuesday and Thursday\, from 11:00am to 4pm.  Join Diane and I as we work on our projects. \nPlease feel free to drop by to shop or crop.  If you want to crop/craft\, please call to check to see if we have space!  301.430.0606. \n\n\n	Related
URL:https://lindacreates.com/event/ctmh-storecropping-open-2/2025-12-25/
LOCATION:Linda’s Home\, Bowie\, MD\, 20716\, United States
END:VEVENT
BEGIN:VEVENT
DTSTART;TZID=America/Halifax:20251218T110000
DTEND;TZID=America/Halifax:20251218T160000
DTSTAMP:20260423T184143
CREATED:20161001T174459Z
LAST-MODIFIED:20161001T174459Z
UID:15788-1766055600-1766073600@lindacreates.com
SUMMARY:CTMH Store/Cropping Open
DESCRIPTION:The CTMH Store is open on Tuesday and Thursday\, from 11:00am to 4pm.  Join Diane and I as we work on our projects. \nPlease feel free to drop by to shop or crop.  If you want to crop/craft\, please call to check to see if we have space!  301.430.0606. \n\n\n	Related
URL:https://lindacreates.com/event/ctmh-storecropping-open-2/2025-12-18/
LOCATION:Linda’s Home\, Bowie\, MD\, 20716\, United States
END:VEVENT
BEGIN:VEVENT
DTSTART;TZID=America/Halifax:20251211T110000
DTEND;TZID=America/Halifax:20251211T160000
DTSTAMP:20260423T184143
CREATED:20161001T174459Z
LAST-MODIFIED:20161001T174459Z
UID:15786-1765450800-1765468800@lindacreates.com
SUMMARY:CTMH Store/Cropping Open
DESCRIPTION:The CTMH Store is open on Tuesday and Thursday\, from 11:00am to 4pm.  Join Diane and I as we work on our projects. \nPlease feel free to drop by to shop or crop.  If you want to crop/craft\, please call to check to see if we have space!  301.430.0606. \n\n\n	Related
URL:https://lindacreates.com/event/ctmh-storecropping-open-2/2025-12-11/
LOCATION:Linda’s Home\, Bowie\, MD\, 20716\, United States
END:VEVENT
BEGIN:VEVENT
DTSTART;TZID=America/Halifax:20251204T110000
DTEND;TZID=America/Halifax:20251204T160000
DTSTAMP:20260423T184143
CREATED:20161001T174459Z
LAST-MODIFIED:20161001T174459Z
UID:15784-1764846000-1764864000@lindacreates.com
SUMMARY:CTMH Store/Cropping Open
DESCRIPTION:The CTMH Store is open on Tuesday and Thursday\, from 11:00am to 4pm.  Join Diane and I as we work on our projects. \nPlease feel free to drop by to shop or crop.  If you want to crop/craft\, please call to check to see if we have space!  301.430.0606. \n\n\n	Related
URL:https://lindacreates.com/event/ctmh-storecropping-open-2/2025-12-04/
LOCATION:Linda’s Home\, Bowie\, MD\, 20716\, United States
END:VEVENT
BEGIN:VEVENT
DTSTART;TZID=America/Halifax:20251127T110000
DTEND;TZID=America/Halifax:20251127T160000
DTSTAMP:20260423T184143
CREATED:20161001T174459Z
LAST-MODIFIED:20161001T174459Z
UID:15699-1764241200-1764259200@lindacreates.com
SUMMARY:CTMH Store/Cropping Open
DESCRIPTION:The CTMH Store is open on Tuesday and Thursday\, from 11:00am to 4pm.  Join Diane and I as we work on our projects. \nPlease feel free to drop by to shop or crop.  If you want to crop/craft\, please call to check to see if we have space!  301.430.0606. \n\n\n	Related
URL:https://lindacreates.com/event/ctmh-storecropping-open-2/2025-11-27/
LOCATION:Linda’s Home\, Bowie\, MD\, 20716\, United States
END:VEVENT
BEGIN:VEVENT
DTSTART;TZID=America/Halifax:20251120T110000
DTEND;TZID=America/Halifax:20251120T160000
DTSTAMP:20260423T184143
CREATED:20161001T174459Z
LAST-MODIFIED:20161001T174459Z
UID:15687-1763636400-1763654400@lindacreates.com
SUMMARY:CTMH Store/Cropping Open
DESCRIPTION:The CTMH Store is open on Tuesday and Thursday\, from 11:00am to 4pm.  Join Diane and I as we work on our projects. \nPlease feel free to drop by to shop or crop.  If you want to crop/craft\, please call to check to see if we have space!  301.430.0606. \n\n\n	Related
URL:https://lindacreates.com/event/ctmh-storecropping-open-2/2025-11-20/
LOCATION:Linda’s Home\, Bowie\, MD\, 20716\, United States
END:VEVENT
BEGIN:VEVENT
DTSTART;TZID=America/Halifax:20251113T110000
DTEND;TZID=America/Halifax:20251113T160000
DTSTAMP:20260423T184143
CREATED:20161001T174459Z
LAST-MODIFIED:20161001T174459Z
UID:15684-1763031600-1763049600@lindacreates.com
SUMMARY:CTMH Store/Cropping Open
DESCRIPTION:The CTMH Store is open on Tuesday and Thursday\, from 11:00am to 4pm.  Join Diane and I as we work on our projects. \nPlease feel free to drop by to shop or crop.  If you want to crop/craft\, please call to check to see if we have space!  301.430.0606. \n\n\n	Related
URL:https://lindacreates.com/event/ctmh-storecropping-open-2/2025-11-13/
LOCATION:Linda’s Home\, Bowie\, MD\, 20716\, United States
END:VEVENT
BEGIN:VEVENT
DTSTART;TZID=America/Halifax:20251106T110000
DTEND;TZID=America/Halifax:20251106T160000
DTSTAMP:20260423T184143
CREATED:20161001T174459Z
LAST-MODIFIED:20161001T174459Z
UID:15681-1762426800-1762444800@lindacreates.com
SUMMARY:CTMH Store/Cropping Open
DESCRIPTION:The CTMH Store is open on Tuesday and Thursday\, from 11:00am to 4pm.  Join Diane and I as we work on our projects. \nPlease feel free to drop by to shop or crop.  If you want to crop/craft\, please call to check to see if we have space!  301.430.0606. \n\n\n	Related
URL:https://lindacreates.com/event/ctmh-storecropping-open-2/2025-11-06/
LOCATION:Linda’s Home\, Bowie\, MD\, 20716\, United States
END:VEVENT
BEGIN:VEVENT
DTSTART;TZID=America/Halifax:20251030T110000
DTEND;TZID=America/Halifax:20251030T160000
DTSTAMP:20260423T184143
CREATED:20161001T174459Z
LAST-MODIFIED:20161001T174459Z
UID:15679-1761822000-1761840000@lindacreates.com
SUMMARY:CTMH Store/Cropping Open
DESCRIPTION:The CTMH Store is open on Tuesday and Thursday\, from 11:00am to 4pm.  Join Diane and I as we work on our projects. \nPlease feel free to drop by to shop or crop.  If you want to crop/craft\, please call to check to see if we have space!  301.430.0606. \n\n\n	Related
URL:https://lindacreates.com/event/ctmh-storecropping-open-2/2025-10-30/
LOCATION:Linda’s Home\, Bowie\, MD\, 20716\, United States
END:VEVENT
BEGIN:VEVENT
DTSTART;TZID=America/Halifax:20251023T110000
DTEND;TZID=America/Halifax:20251023T160000
DTSTAMP:20260423T184143
CREATED:20161001T174459Z
LAST-MODIFIED:20161001T174459Z
UID:15676-1761217200-1761235200@lindacreates.com
SUMMARY:CTMH Store/Cropping Open
DESCRIPTION:The CTMH Store is open on Tuesday and Thursday\, from 11:00am to 4pm.  Join Diane and I as we work on our projects. \nPlease feel free to drop by to shop or crop.  If you want to crop/craft\, please call to check to see if we have space!  301.430.0606. \n\n\n	Related
URL:https://lindacreates.com/event/ctmh-storecropping-open-2/2025-10-23/
LOCATION:Linda’s Home\, Bowie\, MD\, 20716\, United States
END:VEVENT
BEGIN:VEVENT
DTSTART;TZID=America/Halifax:20251016T110000
DTEND;TZID=America/Halifax:20251016T160000
DTSTAMP:20260423T184143
CREATED:20161001T174459Z
LAST-MODIFIED:20161001T174459Z
UID:15673-1760612400-1760630400@lindacreates.com
SUMMARY:CTMH Store/Cropping Open
DESCRIPTION:The CTMH Store is open on Tuesday and Thursday\, from 11:00am to 4pm.  Join Diane and I as we work on our projects. \nPlease feel free to drop by to shop or crop.  If you want to crop/craft\, please call to check to see if we have space!  301.430.0606. \n\n\n	Related
URL:https://lindacreates.com/event/ctmh-storecropping-open-2/2025-10-16/
LOCATION:Linda’s Home\, Bowie\, MD\, 20716\, United States
END:VEVENT
BEGIN:VEVENT
DTSTART;TZID=America/Halifax:20251009T110000
DTEND;TZID=America/Halifax:20251009T160000
DTSTAMP:20260423T184143
CREATED:20161001T174459Z
LAST-MODIFIED:20161001T174459Z
UID:15670-1760007600-1760025600@lindacreates.com
SUMMARY:CTMH Store/Cropping Open
DESCRIPTION:The CTMH Store is open on Tuesday and Thursday\, from 11:00am to 4pm.  Join Diane and I as we work on our projects. \nPlease feel free to drop by to shop or crop.  If you want to crop/craft\, please call to check to see if we have space!  301.430.0606. \n\n\n	Related
URL:https://lindacreates.com/event/ctmh-storecropping-open-2/2025-10-09/
LOCATION:Linda’s Home\, Bowie\, MD\, 20716\, United States
END:VEVENT
BEGIN:VEVENT
DTSTART;TZID=America/Halifax:20251002T110000
DTEND;TZID=America/Halifax:20251002T160000
DTSTAMP:20260423T184143
CREATED:20161001T174459Z
LAST-MODIFIED:20161001T174459Z
UID:15668-1759402800-1759420800@lindacreates.com
SUMMARY:CTMH Store/Cropping Open
DESCRIPTION:The CTMH Store is open on Tuesday and Thursday\, from 11:00am to 4pm.  Join Diane and I as we work on our projects. \nPlease feel free to drop by to shop or crop.  If you want to crop/craft\, please call to check to see if we have space!  301.430.0606. \n\n\n	Related
URL:https://lindacreates.com/event/ctmh-storecropping-open-2/2025-10-02/
LOCATION:Linda’s Home\, Bowie\, MD\, 20716\, United States
END:VEVENT
END:VCALENDAR